Workbook

Sheet INÍCIO
B2: PROFKIT
B3: Apreciações
B4: =BASE!B4 -> 2026/2027
B5: Menos tarefas. Mais tempo para ensinar.
B11: 1 | C11: Configure as turmas
B12: 2 | C12: Preencha os critérios
B13: 3 | C13: Copie a apreciação
B15: Configure uma vez. Utilize durante todo o ano.

Sheet BASE
A1: BASE
A2: Prepare o seu ano — configure uma vez, use o ano inteiro. Em cada turma, escreva o nome e cole os alunos; associe as disciplinas/UFCD ao lado. Para adicionar alguém, escreva sempre na turma certa, na próxima linha livre desse bloco.
A4: ANO LETIVO | B4: 2026/2027
A6: TURMA 1
A7: Nome | C7: 8.º A | E7: Disciplinas/UFCD
B8: 1 | C8: Ana Silva | F8: Matemática
B9: 2 | C9: João Costa | F9: Ciências
B10: 3 | C10: Beatriz Nunes
A12: TURMA 2
A13: Nome | C13: 8.º B | E13: Disciplinas/UFCD
B14: 1 | C14: Eduardo Lima | F14: Português
B15: 2 | C15: Filipa Sousa
B16: 3 | C16: Gonçalo Mota
A18: TURMA 3
A19: Nome | C19: 10.º RB | E19: Disciplinas/UFCD
B20: 1 | C20: Hugo Marques | F20: Serviço de Vinhos
B21: 2 | C21: Rita Antunes | F21: Serviço de Bar
B22: 3 | C22: Tomás Oliveira

Sheet APRECIAÇÕES
B1: APRECIAÇÕES
B3: ESCOLHA O QUE VAI TRABALHAR · 1. Escolha a turma → 2. Escolha a disciplina/UFCD → 3. Escolha o momento (setinhas roxas nos cabeçalhos abaixo)
B5: =IF(SUBTOTAL(103,$G$8:$G$61)=0,"Nenhum aluno visível — verifica os filtros de Turma/Disciplina/Momento acima.","A trabalhar: "&INDEX($C$8:$C$61,IFERROR(MATCH(1,$AC$8:$AC$61,0),0))&" · "&INDEX($D$8:$D$61,IFERROR(MATCH(1,$AC$8:$AC$61,0),0))&" · "&INDEX($E$8:$E$61,IFERROR(MATCH(1,$AC$8:$AC$61,0),0))) -> A trabalhar: 8.º A · Matemática · 1.º Período
F6: IDENTIFICAÇÃO | H6: AVALIAÇÃO | N6: RESULTADO
B7: Ano | C7: TURMA ▼ | D7: DISCIPLINA/UFCD ▼ | E7: MOMENTO ▼ | F7: N.º | G7: Aluno | H7: Aproveitamento | I7: Empenho | J7: Participação | K7: Comportamento | L7: Evolução | M7: Assiduidade | N7: Nota pessoal | O7: Apreciação | Q7: f_intro | R7: lista_pos2 | S7: lista_prob2 | T7: f_grupo2 | U7: lista_pos3 | V7: lista_prob3 | W7: f_grupo3 | X7: n_melhorar | Y7: idx_melhorar | Z7: lista_melhorar | AA7: f_concl | AB7: conector | AC7: visrank | AD7: chave_evolucao
B8: =IF(BASE!B4="","",BASE!B4) -> 2026/2027 | C8: =IF(BASE!C7="","",BASE!C7) -> 8.º A | D8: =IF(BASE!F8="","",BASE!F8) -> Matemática | E8: 1.º Período | F8: 1 | G8: =IF(BASE!$C$8="","",BASE!$C$8) -> Ana Silva | H8: Bom | I8: Muito Bom | J8: Boa | K8: Muito Bom | L8: Melhorou | M8: Boa | O8: =IF($G8="","",IF(AND(NOT(OR(IF($H8="","",$H8)<>"",IF($I8="","",$I8)<>"",IF($J8="","",$J8)<>"",IF($K8="","",$K8)<>"",IF($L8="","",$L8)<>"",IF($M8="","",$M8)<>"")),IF($N8="","",$N8)=""),"— Ainda sem critérios preenchidos. —",_xlfn.TEXTJOIN(" ",TRUE(),$Q8,$T8,$W8,$AA8,IF(IF($N8="","",$N8)<>"",$AB8&" "&IF($N8="","",$N8),"")))) -> O aluno apresentou um bom aproveitamento ao longo do período, com resultados globalmente positivos. Destacou-se ainda por revelar um empenho muito elevado, uma participação ativa e um comportamento exemplar ao longo do período. Ao longo do período, registou uma evolução favorável e uma assiduidade regular. Deve continuar a manter esta atitude. | Q8: =IF(OR(IF($H8="","",$H8)<>"",IF($I8="","",$I8)<>"",IF($J8="","",$J8)<>"",IF($K8="","",$K8)<>"",IF($L8="","",$L8)<>"",IF($M8="","",$M8)<>""),INDEX(DADOS!$C:$C,(15+(MATCH(IF($H8="","(sem aproveitamento)",$H8),DADOS!$I$6:$I$11,0)-1)*3+MOD(ROW()+1,3))),"") -> O aluno apresentou um bom aproveitamento ao longo do período, com resultados globalmente positivos. | R8: =IF(((LEN(_xlfn.TEXTJOIN(", ",TRUE(),IF(AND(IF($I8="","",$I8)<>"",NOT(IF($I8="","",$I8)="Reduzido")),INDEX(DADOS!$C:$C,(36+MATCH(IF($I8="","",$I8),DADOS!$C$6:$C$9,0)-1)),""),IF(AND(IF($J8="","",$J8)<>"",NOT(IF($J8="","",$J8)="Reduzida")),INDEX(DADOS!$C:$C,(42+MATCH(IF($J8="","",$J8),DADOS!$D$6:$D$9,0)-1)),""),IF(AND(IF($K8="","",$K8)<>"",NOT(IF($K8="","",$K8)="A melhorar")),INDEX(DADOS!$C:$C,(48+MATCH(IF($K8="","",$K8),DADOS!$E$6:$E$9,0)-1)),"")))-LEN(SUBSTITUTE(_xlfn.TEXTJOIN(", ",TRUE(),IF(AND(IF($I8="","",$I8)<>"",NOT(IF($I8="","",$I8)="Reduzido")),INDEX(DADOS!$C:$C,(36+MATCH(IF($I8="","",$I8),DADOS!$C$6:$C$9,0)-1)),""),IF(AND(IF($J8="","",$J8)<>"",NOT(IF($J8="","",$J8)="Reduzida")),INDEX(DADOS!$C:$C,(42+MATCH(IF($J8="","",$J8),DADOS!$D$6:$D$9,0)-1)),""),IF(AND(IF($K8="","",$K8)<>"",NOT(IF($K8="","",$K8)="A melhorar")),INDEX(DADOS!$C:$C,(48+MATCH(IF($K8="","",$K8),DADOS!$E$6:$E$9,0)-1)),"")),", ","")))/2)=0,_xlfn.TEXTJOIN(", ",TRUE(),IF(AND(IF($I8="","",$I8)<>"",NOT(IF($I8="","",$I8)="Reduzido")),INDEX(DADOS!$C:$C,(36+MATCH(IF($I8="","",$I8),DADOS!$C$6:$C$9,0)-1)),""),IF(AND(IF($J8="","",$J8)<>"",NOT(IF($J8="","",$J8)="Reduzida")),INDEX(DADOS!$C:$C,(42+MATCH(IF($J8="","",$J8),DADOS!$D$6:$D$9,0)-1)),""),IF(AND(IF($K8="","",$K8)<>"",NOT(IF($K8="","",$K8)="A melhorar")),INDEX(DADOS!$C:$C,(48+MATCH(IF($K8="","",$K8),DADOS!$E$6:$E$9,0)-1)),"")),SUBSTITUTE(_xlfn.TEXTJOIN(", ",TRUE(),IF(AND(IF($I8="","",$I8)<>"",NOT(IF($I8="","",$I8)="Reduzido")),INDEX(DADOS!$C:$C,(36+MATCH(IF($I8="","",$I8),DADOS!$C$6:$C$9,0)-1)),""),IF(AND(IF($J8="","",$J8)<>"",NOT(IF($J8="","",$J8)="Reduzida")),INDEX(DADOS!$C:$C,(42+MATCH(IF($J8="","",$J8),DADOS!$D$6:$D$9,0)-1)),""),IF(AND(IF($K8="","",$K8)<>"",NOT(IF($K8="","",$K8)="A melhorar")),INDEX(DADOS!$C:$C,(48+MATCH(IF($K8="","",$K8),DADOS!$E$6:$E$9,0)-1)),"")),", "," e ",((LEN(_xlfn.TEXTJOIN(", ",TRUE(),IF(AND(IF($I8="","",$I8)<>"",NOT(IF($I8="","",$I8)="Reduzido")),INDEX(DADOS!$C:$C,(36+MATCH(IF($I8="","",$I8),DADOS!$C$6:$C$9,0)-1)),""),IF(AND(IF($J8="","",$J8)<>"",NOT(IF($J8="","",$J8)="Reduzida")),INDEX(DADOS!$C:$C,(42+MATCH(IF($J8="","",$J8),DADOS!$D$6:$D$9,0)-1)),""),IF(AND(IF($K8="","",$K8)<>"",NOT(IF($K8="","",$K8)="A melhorar")),INDEX(DADOS!$C:$C,(48+MATCH(IF($K8="","",$K8),DADOS!$E$6:$E$9,0)-1)),"")))-LEN(SUBSTITUTE(_xlfn.TEXTJOIN(", ",TRUE(),IF(AND(IF($I8="","",$I8)<>"",NOT(IF($I8="","",$I8)="Reduzido")),INDEX(DADOS!$C:$C,(36+MATCH(IF($I8="","",$I8),DADOS!$C$6:$C$9,0)-1)),""),IF(AND(IF($J8="","",$J8)<>"",NOT(IF($J8="","",$J8)="Reduzida")),INDEX(DADOS!$C:$C,(42+MATCH(IF($J8="","",$J8),DADOS!$D$6:$D$9,0)-1)),""),IF(AND(IF($K8="","",$K8)<>"",NOT(IF($K8="","",$K8)="A melhorar")),INDEX(DADOS!$C:$C,(48+MATCH(IF($K8="","",$K8),DADOS!$E$6:$E$9,0)-1)),"")),", ","")))/2))) -> um empenho muito elevado, uma participação ativa e um comportamento exemplar | S8: =IF(((LEN(_xlfn.TEXTJOIN(", ",TRUE(),IF(AND(IF($I8="","",$I8)<>"",IF($I8="","",$I8)="Reduzido"),INDEX(DADOS!$C:$C,(36+MATCH(IF($I8="","",$I8),DADOS!$C$6:$C$9,0)-1)),""),IF(AND(IF($J8="","",$J8)<>"",IF($J8="","",$J8)="Reduzida"),INDEX(DADOS!$C:$C,(42+MATCH(IF($J8="","",$J8),DADOS!$D$6:$D$9,0)-1)),""),IF(AND(IF($K8="","",$K8)<>"",IF($K8="","",$K8)="A melhorar"),INDEX(DADOS!$C:$C,(48+MATCH(IF($K8="","",$K8),DADOS!$E$6:$E$9,0)-1)),"")))-LEN(SUBSTITUTE(_xlfn.TEXTJOIN(", ",TRUE(),IF(AND(IF($I8="","",$I8)<>"",IF($I8="","",$I8)="Reduzido"),INDEX(DADOS!$C:$C,(36+MATCH(IF($I8="","",$I8),DADOS!$C$6:$C$9,0)-1)),""),IF(AND(IF($J8="","",$J8)<>"",IF($J8="","",$J8)="Reduzida"),INDEX(DADOS!$C:$C,(42+MATCH(IF($J8="","",$J8),DADOS!$D$6:$D$9,0)-1)),""),IF(AND(IF($K8="","",$K8)<>"",IF($K8="","",$K8)="A melhorar"),INDEX(DADOS!$C:$C,(48+MATCH(IF($K8="","",$K8),DADOS!$E$6:$E$9,0)-1)),"")),", ","")))/2)=0,_xlfn.TEXTJOIN(", ",TRUE(),IF(AND(IF($I8="","",$I8)<>"",IF($I8="","",$I8)="Reduzido"),INDEX(DADOS!$C:$C,(36+MATCH(IF($I8="","",$I8),DADOS!$C$6:$C$9,0)-1)),""),IF(AND(IF($J8="","",$J8)<>"",IF($J8="","",$J8)="Reduzida"),INDEX(DADOS!$C:$C,(42+MATCH(IF($J8="","",$J8),DADOS!$D$6:$D$9,0)-1)),""),IF(AND(IF($K8="","",$K8)<>"",IF($K8="","",$K8)="A melhorar"),INDEX(DADOS!$C:$C,(48+MATCH(IF($K8="","",$K8),DADOS!$E$6:$E$9,0)-1)),"")),SUBSTITUTE(_xlfn.TEXTJOIN(", ",TRUE(),IF(AND(IF($I8="","",$I8)<>"",IF($I8="","",$I8)="Reduzido"),INDEX(DADOS!$C:$C,(36+MATCH(IF($I8="","",$I8),DADOS!$C$6:$C$9,0)-1)),""),IF(AND(IF($J8="","",$J8)<>"",IF($J8="","",$J8)="Reduzida"),INDEX(DADOS!$C:$C,(42+MATCH(IF($J8="","",$J8),DADOS!$D$6:$D$9,0)-1)),""),IF(AND(IF($K8="","",$K8)<>"",IF($K8="","",$K8)="A melhorar"),INDEX(DADOS!$C:$C,(48+MATCH(IF($K8="","",$K8),DADOS!$E$6:$E$9,0)-1)),"")),", "," e ",((LEN(_xlfn.TEXTJOIN(", ",TRUE(),IF(AND(IF($I8="","",$I8)<>"",IF($I8="","",$I8)="Reduzido"),INDEX(DADOS!$C:$C,(36+MATCH(IF($I8="","",$I8),DADOS!$C$6:$C$9,0)-1)),""),IF(AND(IF($J8="","",$J8)<>"",IF($J8="","",$J8)="Reduzida"),INDEX(DADOS!$C:$C,(42+MATCH(IF($J8="","",$J8),DADOS!$D$6:$D$9,0)-1)),""),IF(AND(IF($K8="","",$K8)<>"",IF($K8="","",$K8)="A melhorar"),INDEX(DADOS!$C:$C,(48+MATCH(IF($K8="","",$K8),DADOS!$E$6:$E$9,0)-1)),"")))-LEN(SUBSTITUTE(_xlfn.TEXTJOIN(", ",TRUE(),IF(AND(IF($I8="","",$I8)<>"",IF($I8="","",$I8)="Reduzido"),INDEX(DADOS!$C:$C,(36+MATCH(IF($I8="","",$I8),DADOS!$C$6:$C$9,0)-1)),""),IF(AND(IF($J8="","",$J8)<>"",IF($J8="","",$J8)="Reduzida"),INDEX(DADOS!$C:$C,(42+MATCH(IF($J8="","",$J8),DADOS!$D$6:$D$9,0)-1)),""),IF(AND(IF($K8="","",$K8)<>"",IF($K8="","",$K8)="A melhorar"),INDEX(DADOS!$C:$C,(48+MATCH(IF($K8="","",$K8),DADOS!$E$6:$E$9,0)-1)),"")),", ","")))/2))) | T8: =IF(AND($R8="",$S8=""),"",IF($S8="",INDEX(DADOS!$B:$B,(MOD(ROW()+3,3)+67))&$R8&INDEX(DADOS!$C:$C,(MOD(ROW()+3,3)+67)),IF($R8="",INDEX(DADOS!$B:$B,(MOD(ROW()+3,3)+72))&$S8&INDEX(DADOS!$C:$C,(MOD(ROW()+3,3)+72)),INDEX(DADOS!$B:$B,(MOD(ROW()+3,3)+77))&$R8&INDEX(DADOS!$C:$C,(MOD(ROW()+3,3)+77))&$S8&INDEX(DADOS!$D:$D,(MOD(ROW()+3,3)+77))))) -> Destacou-se ainda por revelar um empenho muito elevado, uma participação ativa e um comportamento exemplar ao longo do período. | U8: =IF(((LEN(_xlfn.TEXTJOIN(", ",TRUE(),IF(AND(IF($L8="","",$L8)<>"",NOT(IF($L8="","",$L8)="Regrediu")),INDEX(DADOS!$C:$C,(54+MATCH(IF($L8="","",$L8),DADOS!$F$6:$F$9,0)-1)),""),IF(AND(IF($M8="","",$M8)<>"",NOT(IF($M8="","",$M8)="Irregular")),INDEX(DADOS!$C:$C,(60+MATCH(IF($M8="","",$M8),DADOS!$G$6:$G$9,0)-1)),"")))-LEN(SUBSTITUTE(_xlfn.TEXTJOIN(", ",TRUE(),IF(AND(IF($L8="","",$L8)<>"",NOT(IF($L8="","",$L8)="Regrediu")),INDEX(DADOS!$C:$C,(54+MATCH(IF($L8="","",$L8),DADOS!$F$6:$F$9,0)-1)),""),IF(AND(IF($M8="","",$M8)<>"",NOT(IF($M8="","",$M8)="Irregular")),INDEX(DADOS!$C:$C,(60+MATCH(IF($M8="","",$M8),DADOS!$G$6:$G$9,0)-1)),"")),", ","")))/2)=0,_xlfn.TEXTJOIN(", ",TRUE(),IF(AND(IF($L8="","",$L8)<>"",NOT(IF($L8="","",$L8)="Regrediu")),INDEX(DADOS!$C:$C,(54+MATCH(IF($L8="","",$L8),DADOS!$F$6:$F$9,0)-1)),""),IF(AND(IF($M8="","",$M8)<>"",NOT(IF($M8="","",$M8)="Irregular")),INDEX(DADOS!$C:$C,(60+MATCH(IF($M8="","",$M8),DADOS!$G$6:$G$9,0)-1)),"")),SUBSTITUTE(_xlfn.TEXTJOIN(", ",TRUE(),IF(AND(IF($L8="","",$L8)<>"",NOT(IF($L8="","",$L8)="Regrediu")),INDEX(DADOS!$C:$C,(54+MATCH(IF($L8="","",$L8),DADOS!$F$6:$F$9,0)-1)),""),IF(AND(IF($M8="","",$M8)<>"",NOT(IF($M8="","",$M8)="Irregular")),INDEX(DADOS!$C:$C,(60+MATCH(IF($M8="","",$M8),DADOS!$G$6:$G$9,0)-1)),"")),", "," e ",((LEN(_xlfn.TEXTJOIN(", ",TRUE(),IF(AND(IF($L8="","",$L8)<>"",NOT(IF($L8="","",$L8)="Regrediu")),INDEX(DADOS!$C:$C,(54+MATCH(IF($L8="","",$L8),DADOS!$F$6:$F$9,0)-1)),""),IF(AND(IF($M8="","",$M8)<>"",NOT(IF($M8="","",$M8)="Irregular")),INDEX(DADOS!$C:$C,(60+MATCH(IF($M8="","",$M8),DADOS!$G$6:$G$9,0)-1)),"")))-LEN(SUBSTITUTE(_xlfn.TEXTJOIN(", ",TRUE(),IF(AND(IF($L8="","",$L8)<>"",NOT(IF($L8="","",$L8)="Regrediu")),INDEX(DADOS!$C:$C,(54+MATCH(IF($L8="","",$L8),DADOS!$F$6:$F$9,0)-1)),""),IF(AND(IF($M8="","",$M8)<>"",NOT(IF($M8="","",$M8)="Irregular")),INDEX(DADOS!$C:$C,(60+MATCH(IF($M8="","",$M8),DADOS!$G$6:$G$9,0)-1)),"")),", ","")))/2))) -> uma evolução favorável e uma assiduidade regular | V8: =IF(((LEN(_xlfn.TEXTJOIN(", ",TRUE(),IF(AND(IF($L8="","",$L8)<>"",IF($L8="","",$L8)="Regrediu"),INDEX(DADOS!$C:$C,(54+MATCH(IF($L8="","",$L8),DADOS!$F$6:$F$9,0)-1)),""),IF(AND(IF($M8="","",$M8)<>"",IF($M8="","",$M8)="Irregular"),INDEX(DADOS!$C:$C,(60+MATCH(IF($M8="","",$M8),DADOS!$G$6:$G$9,0)-1)),"")))-LEN(SUBSTITUTE(_xlfn.TEXTJOIN(", ",TRUE(),IF(AND(IF($L8="","",$L8)<>"",IF($L8="","",$L8)="Regrediu"),INDEX(DADOS!$C:$C,(54+MATCH(IF($L8="","",$L8),DADOS!$F$6:$F$9,0)-1)),""),IF(AND(IF($M8="","",$M8)<>"",IF($M8="","",$M8)="Irregular"),INDEX(DADOS!$C:$C,(60+MATCH(IF($M8="","",$M8),DADOS!$G$6:$G$9,0)-1)),"")),", ","")))/2)=0,_xlfn.TEXTJOIN(", ",TRUE(),IF(AND(IF($L8="","",$L8)<>"",IF($L8="","",$L8)="Regrediu"),INDEX(DADOS!$C:$C,(54+MATCH(IF($L8="","",$L8),DADOS!$F$6:$F$9,0)-1)),""),IF(AND(IF($M8="","",$M8)<>"",IF($M8="","",$M8)="Irregular"),INDEX(DADOS!$C:$C,(60+MATCH(IF($M8="","",$M8),DADOS!$G$6:$G$9,0)-1)),"")),SUBSTITUTE(_xlfn.TEXTJOIN(", ",TRUE(),IF(AND(IF($L8="","",$L8)<>"",IF($L8="","",$L8)="Regrediu"),INDEX(DADOS!$C:$C,(54+MATCH(IF($L8="","",$L8),DADOS!$F$6:$F$9,0)-1)),""),IF(AND(IF($M8="","",$M8)<>"",IF($M8="","",$M8)="Irregular"),INDEX(DADOS!$C:$C,(60+MATCH(IF($M8="","",$M8),DADOS!$G$6:$G$9,0)-1)),"")),", "," e ",((LEN(_xlfn.TEXTJOIN(", ",TRUE(),IF(AND(IF($L8="","",$L8)<>"",IF($L8="","",$L8)="Regrediu"),INDEX(DADOS!$C:$C,(54+MATCH(IF($L8="","",$L8),DADOS!$F$6:$F$9,0)-1)),""),IF(AND(IF($M8="","",$M8)<>"",IF($M8="","",$M8)="Irregular"),INDEX(DADOS!$C:$C,(60+MATCH(IF($M8="","",$M8),DADOS!$G$6:$G$9,0)-1)),"")))-LEN(SUBSTITUTE(_xlfn.TEXTJOIN(", ",TRUE(),IF(AND(IF($L8="","",$L8)<>"",IF($L8="","",$L8)="Regrediu"),INDEX(DADOS!$C:$C,(54+MATCH(IF($L8="","",$L8),DADOS!$F$6:$F$9,0)-1)),""),IF(AND(IF($M8="","",$M8)<>"",IF($M8="","",$M8)="Irregular"),INDEX(DADOS!$C:$C,(60+MATCH(IF($M8="","",$M8),DADOS!$G$6:$G$9,0)-1)),"")),", ","")))/2))) | W8: =IF(AND($U8="",$V8=""),"",IF($V8="",INDEX(DADOS!$B:$B,(MOD(ROW()+7,3)+83))&$U8&INDEX(DADOS!$C:$C,(MOD(ROW()+7,3)+83)),IF($U8="",INDEX(DADOS!$B:$B,(MOD(ROW()+7,3)+88))&$V8&INDEX(DADOS!$C:$C,(MOD(ROW()+7,3)+88)),INDEX(DADOS!$B:$B,(MOD(ROW()+7,3)+93))&$U8&INDEX(DADOS!$C:$C,(MOD(ROW()+7,3)+93))&$V8&INDEX(DADOS!$D:$D,(MOD(ROW()+7,3)+93))))) -> Ao longo do período, registou uma evolução favorável e uma assiduidade regular. | X8: =--(OR(IF($H8="","",$H8)="Insuficiente",IF($H8="","",$H8)="Suficiente"))+--(IF($I8="","",$I8)="Reduzido")+--(IF($J8="","",$J8)="Reduzida")+--(IF($K8="","",$K8)="A melhorar")+--(IF($L8="","",$L8)="Regrediu")+--(IF($M8="","",$M8)="Irregular") -> 0 | Y8: =IF(OR(IF($H8="","",$H8)="Insuficiente",IF($H8="","",$H8)="Suficiente"),1,IF(IF($I8="","",$I8)="Reduzido",2,IF(IF($J8="","",$J8)="Reduzida",3,IF(IF($K8="","",$K8)="A melhorar",4,IF(IF($L8="","",$L8)="Regrediu",5,IF(IF($M8="","",$M8)="Irregular",6,0)))))) -> 0 | Z8: =IF(((LEN(_xlfn.TEXTJOIN(", ",TRUE(),IF(OR(IF($H8="","",$H8)="Insuficiente",IF($H8="","",$H8)="Suficiente"),"o aproveitamento",""),IF(IF($I8="","",$I8)="Reduzido","o empenho",""),IF(IF($J8="","",$J8)="Reduzida","a participação",""),IF(IF($K8="","",$K8)="A melhorar","o comportamento",""),IF(IF($L8="","",$L8)="Regrediu","a evolução",""),IF(IF($M8="","",$M8)="Irregular","a assiduidade","")))-LEN(SUBSTITUTE(_xlfn.TEXTJOIN(", ",TRUE(),IF(OR(IF($H8="","",$H8)="Insuficiente",IF($H8="","",$H8)="Suficiente"),"o aproveitamento",""),IF(IF($I8="","",$I8)="Reduzido","o empenho",""),IF(IF($J8="","",$J8)="Reduzida","a participação",""),IF(IF($K8="","",$K8)="A melhorar","o comportamento",""),IF(IF($L8="","",$L8)="Regrediu","a evolução",""),IF(IF($M8="","",$M8)="Irregular","a assiduidade","")),", ","")))/2)=0,_xlfn.TEXTJOIN(", ",TRUE(),IF(OR(IF($H8="","",$H8)="Insuficiente",IF($H8="","",$H8)="Suficiente"),"o aproveitamento",""),IF(IF($I8="","",$I8)="Reduzido","o empenho",""),IF(IF($J8="","",$J8)="Reduzida","a participação",""),IF(IF($K8="","",$K8)="A melhorar","o comportamento",""),IF(IF($L8="","",$L8)="Regrediu","a evolução",""),IF(IF($M8="","",$M8)="Irregular","a assiduidade","")),SUBSTITUTE(_xlfn.TEXTJOIN(", ",TRUE(),IF(OR(IF($H8="","",$H8)="Insuficiente",IF($H8="","",$H8)="Suficiente"),"o aproveitamento",""),IF(IF($I8="","",$I8)="Reduzido","o empenho",""),IF(IF($J8="","",$J8)="Reduzida","a participação",""),IF(IF($K8="","",$K8)="A melhorar","o comportamento",""),IF(IF($L8="","",$L8)="Regrediu","a evolução",""),IF(IF($M8="","",$M8)="Irregular","a assiduidade","")),", "," e ",((LEN(_xlfn.TEXTJOIN(", ",TRUE(),IF(OR(IF($H8="","",$H8)="Insuficiente",IF($H8="","",$H8)="Suficiente"),"o aproveitamento",""),IF(IF($I8="","",$I8)="Reduzido","o empenho",""),IF(IF($J8="","",$J8)="Reduzida","a participação",""),IF(IF($K8="","",$K8)="A melhorar","o comportamento",""),IF(IF($L8="","",$L8)="Regrediu","a evolução",""),IF(IF($M8="","",$M8)="Irregular","a assiduidade","")))-LEN(SUBSTITUTE(_xlfn.TEXTJOIN(", ",TRUE(),IF(OR(IF($H8="","",$H8)="Insuficiente",IF($H8="","",$H8)="Suficiente"),"o aproveitamento",""),IF(IF($I8="","",$I8)="Reduzido","o empenho",""),IF(IF($J8="","",$J8)="Reduzida","a participação",""),IF(IF($K8="","",$K8)="A melhorar","o comportamento",""),IF(IF($L8="","",$L8)="Regrediu","a evolução",""),IF(IF($M8="","",$M8)="Irregular","a assiduidade","")),", ","")))/2))) | AA8: =IF(OR(IF($H8="","",$H8)<>"",IF($I8="","",$I8)<>"",IF($J8="","",$J8)<>"",IF($K8="","",$K8)<>"",IF($L8="","",$L8)<>"",IF($M8="","",$M8)<>""),IF($X8=0,INDEX(DADOS!$B:$B,(MOD(ROW()+17+0,5)+99)),IF($X8=1,CHOOSE($Y8,INDEX(DADOS!$B:$B,(MOD(ROW()+17+0,3)+106)),INDEX(DADOS!$C:$C,(MOD(ROW()+17+0,3)+106)),INDEX(DADOS!$D:$D,(MOD(ROW()+17+0,3)+106)),INDEX(DADOS!$E:$E,(MOD(ROW()+17+0,3)+106)),INDEX(DADOS!$F:$F,(MOD(ROW()+17+0,3)+106)),INDEX(DADOS!$G:$G,(MOD(ROW()+17+0,3)+106))),INDEX(DADOS!$B:$B,(MOD(ROW()+17,3)+111))&$Z8&INDEX(DADOS!$C:$C,(MOD(ROW()+17,3)+111)))),"") -> Deve continuar a manter esta atitude. | AB8: =INDEX(DADOS!$B:$B,(MOD(ROW()+19,5)+116)) -> Regista-se ainda: | AC8: =SUBTOTAL(103,$G$8:G8) -> 1 | AD8: =IF($G8="","",C8&"|"&D8&"|"&E8&"|"&$G8) -> 8.º A|Matemática|1.º Período|Ana Silva
B9: =IF(BASE!B4="","",BASE!B4) -> 2026/2027 | C9: =IF(BASE!C7="","",BASE!C7) -> 8.º A | D9: =IF(BASE!F8="","",BASE!F8) -> Matemática | E9: 1.º Período | F9: 2 | G9: =IF(BASE!$C$9="","",BASE!$C$9) -> João Costa | I9: Suficiente | J9: Suficiente | K9: Adequado | O9: =IF($G9="","",IF(AND(NOT(OR(IF($H9="","",$H9)<>"",IF($I9="","",$I9)<>"",IF($J9="","",$J9)<>"",IF($K9="","",$K9)<>"",IF($L9="","",$L9)<>"",IF($M9="","",$M9)<>"")),IF($N9="","",$N9)=""),"— Ainda sem critérios preenchidos. —",_xlfn.TEXTJOIN(" ",TRUE(),$Q9,$T9,$W9,$AA9,IF(IF($N9="","",$N9)<>"",$AB9&" "&IF($N9="","",$N9),"")))) -> Regista-se o desempenho do aluno ao longo do período, de acordo com os critérios avaliados. Ao longo do período, revelou um empenho suficiente, uma participação satisfatória e um comportamento adequado, mantendo uma atitude positiva nas atividades. Deverá continuar a investir da mesma forma, consolidando as aprendizagens já adquiridas. | Q9: =IF(OR(IF($H9="","",$H9)<>"",IF($I9="","",$I9)<>"",IF($J9="","",$J9)<>"",IF($K9="","",$K9)<>"",IF($L9="","",$L9)<>"",IF($M9="","",$M9)<>""),INDEX(DADOS!$C:$C,(15+(MATCH(IF($H9="","(sem aproveitamento)",$H9),DADOS!$I$6:$I$11,0)-1)*3+MOD(ROW()+1,3))),"") -> Regista-se o desempenho do aluno ao longo do período, de acordo com os critérios avaliados. | R9: =IF(((LEN(_xlfn.TEXTJOIN(", ",TRUE(),IF(AND(IF($I9="","",$I9)<>"",NOT(IF($I9="","",$I9)="Reduzido")),INDEX(DADOS!$C:$C,(36+MATCH(IF($I9="","",$I9),DADOS!$C$6:$C$9,0)-1)),""),IF(AND(IF($J9="","",$J9)<>"",NOT(IF($J9="","",$J9)="Reduzida")),INDEX(DADOS!$C:$C,(42+MATCH(IF($J9="","",$J9),DADOS!$D$6:$D$9,0)-1)),""),IF(AND(IF($K9="","",$K9)<>"",NOT(IF($K9="","",$K9)="A melhorar")),INDEX(DADOS!$C:$C,(48+MATCH(IF($K9="","",$K9),DADOS!$E$6:$E$9,0)-1)),"")))-LEN(SUBSTITUTE(_xlfn.TEXTJOIN(", ",TRUE(),IF(AND(IF($I9="","",$I9)<>"",NOT(IF($I9="","",$I9)="Reduzido")),INDEX(DADOS!$C:$C,(36+MATCH(IF($I9="","",$I9),DADOS!$C$6:$C$9,0)-1)),""),IF(AND(IF($J9="","",$J9)<>"",NOT(IF($J9="","",$J9)="Reduzida")),INDEX(DADOS!$C:$C,(42+MATCH(IF($J9="","",$J9),DADOS!$D$6:$D$9,0)-1)),""),IF(AND(IF($K9="","",$K9)<>"",NOT(IF($K9="","",$K9)="A melhorar")),INDEX(DADOS!$C:$C,(48+MATCH(IF($K9="","",$K9),DADOS!$E$6:$E$9,0)-1)),"")),", ","")))/2)=0,_xlfn.TEXTJOIN(", ",TRUE(),IF(AND(IF($I9="","",$I9)<>"",NOT(IF($I9="","",$I9)="Reduzido")),INDEX(DADOS!$C:$C,(36+MATCH(IF($I9="","",$I9),DADOS!$C$6:$C$9,0)-1)),""),IF(AND(IF($J9="","",$J9)<>"",NOT(IF($J9="","",$J9)="Reduzida")),INDEX(DADOS!$C:$C,(42+MATCH(IF($J9="","",$J9),DADOS!$D$6:$D$9,0)-1)),""),IF(AND(IF($K9="","",$K9)<>"",NOT(IF($K9="","",$K9)="A melhorar")),INDEX(DADOS!$C:$C,(48+MATCH(IF($K9="","",$K9),DADOS!$E$6:$E$9,0)-1)),"")),SUBSTITUTE(_xlfn.TEXTJOIN(", ",TRUE(),IF(AND(IF($I9="","",$I9)<>"",NOT(IF($I9="","",$I9)="Reduzido")),INDEX(DADOS!$C:$C,(36+MATCH(IF($I9="","",$I9),DADOS!$C$6:$C$9,0)-1)),""),IF(AND(IF($J9="","",$J9)<>"",NOT(IF($J9="","",$J9)="Reduzida")),INDEX(DADOS!$C:$C,(42+MATCH(IF($J9="","",$J9),DADOS!$D$6:$D$9,0)-1)),""),IF(AND(IF($K9="","",$K9)<>"",NOT(IF($K9="","",$K9)="A melhorar")),INDEX(DADOS!$C:$C,(48+MATCH(IF($K9="","",$K9),DADOS!$E$6:$E$9,0)-1)),"")),", "," e ",((LEN(_xlfn.TEXTJOIN(", ",TRUE(),IF(AND(IF($I9="","",$I9)<>"",NOT(IF($I9="","",$I9)="Reduzido")),INDEX(DADOS!$C:$C,(36+MATCH(IF($I9="","",$I9),DADOS!$C$6:$C$9,0)-1)),""),IF(AND(IF($J9="","",$J9)<>"",NOT(IF($J9="","",$J9)="Reduzida")),INDEX(DADOS!$C:$C,(42+MATCH(IF($J9="","",$J9),DADOS!$D$6:$D$9,0)-1)),""),IF(AND(IF($K9="","",$K9)<>"",NOT(IF($K9="","",$K9)="A melhorar")),INDEX(DADOS!$C:$C,(48+MATCH(IF($K9="","",$K9),DADOS!$E$6:$E$9,0)-1)),"")))-LEN(SUBSTITUTE(_xlfn.TEXTJOIN(", ",TRUE(),IF(AND(IF($I9="","",$I9)<>"",NOT(IF($I9="","",$I9)="Reduzido")),INDEX(DADOS!$C:$C,(36+MATCH(IF($I9="","",$I9),DADOS!$C$6:$C$9,0)-1)),""),IF(AND(IF($J9="","",$J9)<>"",NOT(IF($J9="","",$J9)="Reduzida")),INDEX(DADOS!$C:$C,(42+MATCH(IF($J9="","",$J9),DADOS!$D$6:$D$9,0)-1)),""),IF(AND(IF($K9="","",$K9)<>"",NOT(IF($K9="","",$K9)="A melhorar")),INDEX(DADOS!$C:$C,(48+MATCH(IF($K9="","",$K9),DADOS!$E$6:$E$9,0)-1)),"")),", ","")))/2))) -> um empenho suficiente, uma participação satisfatória e um comportamento adequado | S9: =IF(((LEN(_xlfn.TEXTJOIN(", ",TRUE(),IF(AND(IF($I9="","",$I9)<>"",IF($I9="","",$I9)="Reduzido"),INDEX(DADOS!$C:$C,(36+MATCH(IF($I9="","",$I9),DADOS!$C$6:$C$9,0)-1)),""),IF(AND(IF($J9="","",$J9)<>"",IF($J9="","",$J9)="Reduzida"),INDEX(DADOS!$C:$C,(42+MATCH(IF($J9="","",$J9),DADOS!$D$6:$D$9,0)-1)),""),IF(AND(IF($K9="","",$K9)<>"",IF($K9="","",$K9)="A melhorar"),INDEX(DADOS!$C:$C,(48+MATCH(IF($K9="","",$K9),DADOS!$E$6:$E$9,0)-1)),"")))-LEN(SUBSTITUTE(_xlfn.TEXTJOIN(", ",TRUE(),IF(AND(IF($I9="","",$I9)<>"",IF($I9="","",$I9)="Reduzido"),INDEX(DADOS!$C:$C,(36+MATCH(IF($I9="","",$I9),DADOS!$C$6:$C$9,0)-1)),""),IF(AND(IF($J9="","",$J9)<>"",IF($J9="","",$J9)="Reduzida"),INDEX(DADOS!$C:$C,(42+MATCH(IF($J9="","",$J9),DADOS!$D$6:$D$9,0)-1)),""),IF(AND(IF($K9="","",$K9)<>"",IF($K9="","",$K9)="A melhorar"),INDEX(DADOS!$C:$C,(48+MATCH(IF($K9="","",$K9),DADOS!$E$6:$E$9,0)-1)),"")),", ","")))/2)=0,_xlfn.TEXTJOIN(", ",TRUE(),IF(AND(IF($I9="","",$I9)<>"",IF($I9="","",$I9)="Reduzido"),INDEX(DADOS!$C:$C,(36+MATCH(IF($I9="","",$I9),DADOS!$C$6:$C$9,0)-1)),""),IF(AND(IF($J9="","",$J9)<>"",IF($J9="","",$J9)="Reduzida"),INDEX(DADOS!$C:$C,(42+MATCH(IF($J9="","",$J9),DADOS!$D$6:$D$9,0)-1)),""),IF(AND(IF($K9="","",$K9)<>"",IF($K9="","",$K9)="A melhorar"),INDEX(DADOS!$C:$C,(48+MATCH(IF($K9="","",$K9),DADOS!$E$6:$E$9,0)-1)),"")),SUBSTITUTE(_xlfn.TEXTJOIN(", ",TRUE(),IF(AND(IF($I9="","",$I9)<>"",IF($I9="","",$I9)="Reduzido"),INDEX(DADOS!$C:$C,(36+MATCH(IF($I9="","",$I9),DADOS!$C$6:$C$9,0)-1)),""),IF(AND(IF($J9="","",$J9)<>"",IF($J9="","",$J9)="Reduzida"),INDEX(DADOS!$C:$C,(42+MATCH(IF($J9="","",$J9),DADOS!$D$6:$D$9,0)-1)),""),IF(AND(IF($K9="","",$K9)<>"",IF($K9="","",$K9)="A melhorar"),INDEX(DADOS!$C:$C,(48+MATCH(IF($K9="","",$K9),DADOS!$E$6:$E$9,0)-1)),"")),", "," e ",((LEN(_xlfn.TEXTJOIN(", ",TRUE(),IF(AND(IF($I9="","",$I9)<>"",IF($I9="","",$I9)="Reduzido"),INDEX(DADOS!$C:$C,(36+MATCH(IF($I9="","",$I9),DADOS!$C$6:$C$9,0)-1)),""),IF(AND(IF($J9="","",$J9)<>"",IF($J9="","",$J9)="Reduzida"),INDEX(DADOS!$C:$C,(42+MATCH(IF($J9="","",$J9),DADOS!$D$6:$D$9,0)-1)),""),IF(AND(IF($K9="","",$K9)<>"",IF($K9="","",$K9)="A melhorar"),INDEX(DADOS!$C:$C,(48+MATCH(IF($K9="","",$K9),DADOS!$E$6:$E$9,0)-1)),"")))-LEN(SUBSTITUTE(_xlfn.TEXTJOIN(", ",TRUE(),IF(AND(IF($I9="","",$I9)<>"",IF($I9="","",$I9)="Reduzido"),INDEX(DADOS!$C:$C,(36+MATCH(IF($I9="","",$I9),DADOS!$C$6:$C$9,0)-1)),""),IF(AND(IF($J9="","",$J9)<>"",IF($J9="","",$J9)="Reduzida"),INDEX(DADOS!$C:$C,(42+MATCH(IF($J9="","",$J9),DADOS!$D$6:$D$9,0)-1)),""),IF(AND(IF($K9="","",$K9)<>"",IF($K9="","",$K9)="A melhorar"),INDEX(DADOS!$C:$C,(48+MATCH(IF($K9="","",$K9),DADOS!$E$6:$E$9,0)-1)),"")),", ","")))/2))) | T9: =IF(AND($R9="",$S9=""),"",IF($S9="",INDEX(DADOS!$B:$B,(MOD(ROW()+3,3)+67))&$R9&INDEX(DADOS!$C:$C,(MOD(ROW()+3,3)+67)),IF($R9="",INDEX(DADOS!$B:$B,(MOD(ROW()+3,3)+72))&$S9&INDEX(DADOS!$C:$C,(MOD(ROW()+3,3)+72)),INDEX(DADOS!$B:$B,(MOD(ROW()+3,3)+77))&$R9&INDEX(DADOS!$C:$C,(MOD(ROW()+3,3)+77))&$S9&INDEX(DADOS!$D:$D,(MOD(ROW()+3,3)+77))))) -> Ao longo do período, revelou um empenho suficiente, uma participação satisfatória e um comportamento adequado, mantendo uma atitude positiva nas atividades. | U9: =IF(((LEN(_xlfn.TEXTJOIN(", ",TRUE(),IF(AND(IF($L9="","",$L9)<>"",NOT(IF($L9="","",$L9)="Regrediu")),INDEX(DADOS!$C:$C,(54+MATCH(IF($L9="","",$L9),DADOS!$F$6:$F$9,0)-1)),""),IF(AND(IF($M9="","",$M9)<>"",NOT(IF($M9="","",$M9)="Irregular")),INDEX(DADOS!$C:$C,(60+MATCH(IF($M9="","",$M9),DADOS!$G$6:$G$9,0)-1)),"")))-LEN(SUBSTITUTE(_xlfn.TEXTJOIN(", ",TRUE(),IF(AND(IF($L9="","",$L9)<>"",NOT(IF($L9="","",$L9)="Regrediu")),INDEX(DADOS!$C:$C,(54+MATCH(IF($L9="","",$L9),DADOS!$F$6:$F$9,0)-1)),""),IF(AND(IF($M9="","",$M9)<>"",NOT(IF($M9="","",$M9)="Irregular")),INDEX(DADOS!$C:$C,(60+MATCH(IF($M9="","",$M9),DADOS!$G$6:$G$9,0)-1)),"")),", ","")))/2)=0,_xlfn.TEXTJOIN(", ",TRUE(),IF(AND(IF($L9="","",$L9)<>"",NOT(IF($L9="","",$L9)="Regrediu")),INDEX(DADOS!$C:$C,(54+MATCH(IF($L9="","",$L9),DADOS!$F$6:$F$9,0)-1)),""),IF(AND(IF($M9="","",$M9)<>"",NOT(IF($M9="","",$M9)="Irregular")),INDEX(DADOS!$C:$C,(60+MATCH(IF($M9="","",$M9),DADOS!$G$6:$G$9,0)-1)),"")),SUBSTITUTE(_xlfn.TEXTJOIN(", ",TRUE(),IF(AND(IF($L9="","",$L9)<>"",NOT(IF($L9="","",$L9)="Regrediu")),INDEX(DADOS!$C:$C,(54+MATCH(IF($L9="","",$L9),DADOS!$F$6:$F$9,0)-1)),""),IF(AND(IF($M9="","",$M9)<>"",NOT(IF($M9="","",$M9)="Irregular")),INDEX(DADOS!$C:$C,(60+MATCH(IF($M9="","",$M9),DADOS!$G$6:$G$9,0)-1)),"")),", "," e ",((LEN(_xlfn.TEXTJOIN(", ",TRUE(),IF(AND(IF($L9="","",$L9)<>"",NOT(IF($L9="","",$L9)="Regrediu")),INDEX(DADOS!$C:$C,(54+MATCH(IF($L9="","",$L9),DADOS!$F$6:$F$9,0)-1)),""),IF(AND(IF($M9="","",$M9)<>"",NOT(IF($M9="","",$M9)="Irregular")),INDEX(DADOS!$C:$C,(60+MATCH(IF($M9="","",$M9),DADOS!$G$6:$G$9,0)-1)),"")))-LEN(SUBSTITUTE(_xlfn.TEXTJOIN(", ",TRUE(),IF(AND(IF($L9="","",$L9)<>"",NOT(IF($L9="","",$L9)="Regrediu")),INDEX(DADOS!$C:$C,(54+MATCH(IF($L9="","",$L9),DADOS!$F$6:$F$9,0)-1)),""),IF(AND(IF($M9="","",$M9)<>"",NOT(IF($M9="","",$M9)="Irregular")),INDEX(DADOS!$C:$C,(60+MATCH(IF($M9="","",$M9),DADOS!$G$6:$G$9,0)-1)),"")),", ","")))/2))) | V9: =IF(((LEN(_xlfn.TEXTJOIN(", ",TRUE(),IF(AND(IF($L9="","",$L9)<>"",IF($L9="","",$L9)="Regrediu"),INDEX(DADOS!$C:$C,(54+MATCH(IF($L9="","",$L9),DADOS!$F$6:$F$9,0)-1)),""),IF(AND(IF($M9="","",$M9)<>"",IF($M9="","",$M9)="Irregular"),INDEX(DADOS!$C:$C,(60+MATCH(IF($M9="","",$M9),DADOS!$G$6:$G$9,0)-1)),"")))-LEN(SUBSTITUTE(_xlfn.TEXTJOIN(", ",TRUE(),IF(AND(IF($L9="","",$L9)<>"",IF($L9="","",$L9)="Regrediu"),INDEX(DADOS!$C:$C,(54+MATCH(IF($L9="","",$L9),DADOS!$F$6:$F$9,0)-1)),""),IF(AND(IF($M9="","",$M9)<>"",IF($M9="","",$M9)="Irregular"),INDEX(DADOS!$C:$C,(60+MATCH(IF($M9="","",$M9),DADOS!$G$6:$G$9,0)-1)),"")),", ","")))/2)=0,_xlfn.TEXTJOIN(", ",TRUE(),IF(AND(IF($L9="","",$L9)<>"",IF($L9="","",$L9)="Regrediu"),INDEX(DADOS!$C:$C,(54+MATCH(IF($L9="","",$L9),DADOS!$F$6:$F$9,0)-1)),""),IF(AND(IF($M9="","",$M9)<>"",IF($M9="","",$M9)="Irregular"),INDEX(DADOS!$C:$C,(60+MATCH(IF($M9="","",$M9),DADOS!$G$6:$G$9,0)-1)),"")),SUBSTITUTE(_xlfn.TEXTJOIN(", ",TRUE(),IF(AND(IF($L9="","",$L9)<>"",IF($L9="","",$L9)="Regrediu"),INDEX(DADOS!$C:$C,(54+MATCH(IF($L9="","",$L9),DADOS!$F$6:$F$9,0)-1)),""),IF(AND(IF($M9="","",$M9)<>"",IF($M9="","",$M9)="Irregular"),INDEX(DADOS!$C:$C,(60+MATCH(IF($M9="","",$M9),DADOS!$G$6:$G$9,0)-1)),"")),", "," e ",((LEN(_xlfn.TEXTJOIN(", ",TRUE(),IF(AND(IF($L9="","",$L9)<>"",IF($L9="","",$L9)="Regrediu"),INDEX(DADOS!$C:$C,(54+MATCH(IF($L9="","",$L9),DADOS!$F$6:$F$9,0)-1)),""),IF(AND(IF($M9="","",$M9)<>"",IF($M9="","",$M9)="Irregular"),INDEX(DADOS!$C:$C,(60+MATCH(IF($M9="","",$M9),DADOS!$G$6:$G$9,0)-1)),"")))-LEN(SUBSTITUTE(_xlfn.TEXTJOIN(", ",TRUE(),IF(AND(IF($L9="","",$L9)<>"",IF($L9="","",$L9)="Regrediu"),INDEX(DADOS!$C:$C,(54+MATCH(IF($L9="","",$L9),DADOS!$F$6:$F$9,0)-1)),""),IF(AND(IF($M9="","",$M9)<>"",IF($M9="","",$M9)="Irregular"),INDEX(DADOS!$C:$C,(60+MATCH(IF($M9="","",$M9),DADOS!$G$6:$G$9,0)-1)),"")),", ","")))/2))) | W9: =IF(AND($U9="",$V9=""),"",IF($V9="",INDEX(DADOS!$B:$B,(MOD(ROW()+7,3)+83))&$U9&INDEX(DADOS!$C:$C,(MOD(ROW()+7,3)+83)),IF($U9="",INDEX(DADOS!$B:$B,(MOD(ROW()+7,3)+88))&$V9&INDEX(DADOS!$C:$C,(MOD(ROW()+7,3)+88)),INDEX(DADOS!$B:$B,(MOD(ROW()+7,3)+93))&$U9&INDEX(DADOS!$C:$C,(MOD(ROW()+7,3)+93))&$V9&INDEX(DADOS!$D:$D,(MOD(ROW()+7,3)+93))))) | X9: =--(OR(IF($H9="","",$H9)="Insuficiente",IF($H9="","",$H9)="Suficiente"))+--(IF($I9="","",$I9)="Reduzido")+--(IF($J9="","",$J9)="Reduzida")+--(IF($K9="","",$K9)="A melhorar")+--(IF($L9="","",$L9)="Regrediu")+--(IF($M9="","",$M9)="Irregular") -> 0 | Y9: =IF(OR(IF($H9="","",$H9)="Insuficiente",IF($H9="","",$H9)="Suficiente"),1,IF(IF($I9="","",$I9)="Reduzido",2,IF(IF($J9="","",$J9)="Reduzida",3,IF(IF($K9="","",$K9)="A melhorar",4,IF(IF($L9="","",$L9)="Regrediu",5,IF(IF($M9="","",$M9)="Irregular",6,0)))))) -> 0 | Z9: =IF(((LEN(_xlfn.TEXTJOIN(", ",TRUE(),IF(OR(IF($H9="","",$H9)="Insuficiente",IF($H9="","",$H9)="Suficiente"),"o aproveitamento",""),IF(IF($I9="","",$I9)="Reduzido","o empenho",""),IF(IF($J9="","",$J9)="Reduzida","a participação",""),IF(IF($K9="","",$K9)="A melhorar","o comportamento",""),IF(IF($L9="","",$L9)="Regrediu","a evolução",""),IF(IF($M9="","",$M9)="Irregular","a assiduidade","")))-LEN(SUBSTITUTE(_xlfn.TEXTJOIN(", ",TRUE(),IF(OR(IF($H9="","",$H9)="Insuficiente",IF($H9="","",$H9)="Suficiente"),"o aproveitamento",""),IF(IF($I9="","",$I9)="Reduzido","o empenho",""),IF(IF($J9="","",$J9)="Reduzida","a participação",""),IF(IF($K9="","",$K9)="A melhorar","o comportamento",""),IF(IF($L9="","",$L9)="Regrediu","a evolução",""),IF(IF($M9="","",$M9)="Irregular","a assiduidade","")),", ","")))/2)=0,_xlfn.TEXTJOIN(", ",TRUE(),IF(OR(IF($H9="","",$H9)="Insuficiente",IF($H9="","",$H9)="Suficiente"),"o aproveitamento",""),IF(IF($I9="","",$I9)="Reduzido","o empenho",""),IF(IF($J9="","",$J9)="Reduzida","a participação",""),IF(IF($K9="","",$K9)="A melhorar","o comportamento",""),IF(IF($L9="","",$L9)="Regrediu","a evolução",""),IF(IF($M9="","",$M9)="Irregular","a assiduidade","")),SUBSTITUTE(_xlfn.TEXTJOIN(", ",TRUE(),IF(OR(IF($H9="","",$H9)="Insuficiente",IF($H9="","",$H9)="Suficiente"),"o aproveitamento",""),IF(IF($I9="","",$I9)="Reduzido","o empenho",""),IF(IF($J9="","",$J9)="Reduzida","a participação",""),IF(IF($K9="","",$K9)="A melhorar","o comportamento",""),IF(IF($L9="","",$L9)="Regrediu","a evolução",""),IF(IF($M9="","",$M9)="Irregular","a assiduidade","")),", "," e ",((LEN(_xlfn.TEXTJOIN(", ",TRUE(),IF(OR(IF($H9="","",$H9)="Insuficiente",IF($H9="","",$H9)="Suficiente"),"o aproveitamento",""),IF(IF($I9="","",$I9)="Reduzido","o empenho",""),IF(IF($J9="","",$J9)="Reduzida","a participação",""),IF(IF($K9="","",$K9)="A melhorar","o comportamento",""),IF(IF($L9="","",$L9)="Regrediu","a evolução",""),IF(IF($M9="","",$M9)="Irregular","a assiduidade","")))-LEN(SUBSTITUTE(_xlfn.TEXTJOIN(", ",TRUE(),IF(OR(IF($H9="","",$H9)="Insuficiente",IF($H9="","",$H9)="Suficiente"),"o aproveitamento",""),IF(IF($I9="","",$I9)="Reduzido","o empenho",""),IF(IF($J9="","",$J9)="Reduzida","a participação",""),IF(IF($K9="","",$K9)="A melhorar","o comportamento",""),IF(IF($L9="","",$L9)="Regrediu","a evolução",""),IF(IF($M9="","",$M9)="Irregular","a assiduidade","")),", ","")))/2))) | AA9: =IF(OR(IF($H9="","",$H9)<>"",IF($I9="","",$I9)<>"",IF($J9="","",$J9)<>"",IF($K9="","",$K9)<>"",IF($L9="","",$L9)<>"",IF($M9="","",$M9)<>""),IF($X9=0,INDEX(DADOS!$B:$B,(MOD(ROW()+17+0,5)+99)),IF($X9=1,CHOOSE($Y9,INDEX(DADOS!$B:$B,(MOD(ROW()+17+0,3)+106)),INDEX(DADOS!$C:$C,(MOD(ROW()+17+0,3)+106)),INDEX(DADOS!$D:$D,(MOD(ROW()+17+0,3)+106)),INDEX(DADOS!$E:$E,(MOD(ROW()+17+0,3)+106)),INDEX(DADOS!$F:$F,(MOD(ROW()+17+0,3)+106)),INDEX(DADOS!$G:$G,(MOD(ROW()+17+0,3)+106))),INDEX(DADOS!$B:$B,(MOD(ROW()+17,3)+111))&$Z9&INDEX(DADOS!$C:$C,(MOD(ROW()+17,3)+111)))),"") -> Deverá continuar a investir da mesma forma, consolidando as aprendizagens já adquiridas. | AB9: =INDEX(DADOS!$B:$B,(MOD(ROW()+19,5)+116)) -> É ainda de referir: | AC9: =SUBTOTAL(103,$G$8:G9) -> 2 | AD9: =IF($G9="","",C9&"|"&D9&"|"&E9&"|"&$G9) -> 8.º A|Matemática|1.º Período|João Costa
B10: =IF(BASE!B4="","",BASE!B4) -> 2026/2027 | C10: =IF(BASE!C7="","",BASE!C7) -> 8.º A | D10: =IF(BASE!F8="","",BASE!F8) -> Matemática | E10: 1.º Período | F10: 3 | G10: =IF(BASE!$C$10="","",BASE!$C$10) -> Beatriz Nunes | N10: Revelou muito interesse pelas atividades práticas. | O10: =IF($G10="","",IF(AND(NOT(OR(IF($H10="","",$H10)<>"",IF($I10="","",$I10)<>"",IF($J10="","",$J10)<>"",IF($K10="","",$K10)<>"",IF($L10="","",$L10)<>"",IF($M10="","",$M10)<>"")),IF($N10="","",$N10)=""),"— Ainda sem critérios preenchidos. —",_xlfn.TEXTJOIN(" ",TRUE(),$Q10,$T10,$W10,$AA10,IF(IF($N10="","",$N10)<>"",$AB10&" "&IF($N10="","",$N10),"")))) -> Destaca-se igualmente: Revelou muito interesse pelas atividades práticas. | Q10: =IF(OR(IF($H10="","",$H10)<>"",IF($I10="","",$I10)<>"",IF($J10="","",$J10)<>"",IF($K10="","",$K10)<>"",IF($L10="","",$L10)<>"",IF($M10="","",$M10)<>""),INDEX(DADOS!$C:$C,(15+(MATCH(IF($H10="","(sem aproveitamento)",$H10),DADOS!$I$6:$I$11,0)-1)*3+MOD(ROW()+1,3))),"") | R10: =IF(((LEN(_xlfn.TEXTJOIN(", ",TRUE(),IF(AND(IF($I10="","",$I10)<>"",NOT(IF($I10="","",$I10)="Reduzido")),INDEX(DADOS!$C:$C,(36+MATCH(IF($I10="","",$I10),DADOS!$C$6:$C$9,0)-1)),""),IF(AND(IF($J10="","",$J10)<>"",NOT(IF($J10="","",$J10)="Reduzida")),INDEX(DADOS!$C:$C,(42+MATCH(IF($J10="","",$J10),DADOS!$D$6:$D$9,0)-1)),""),IF(AND(IF($K10="","",$K10)<>"",NOT(IF($K10="","",$K10)="A melhorar")),INDEX(DADOS!$C:$C,(48+MATCH(IF($K10="","",$K10),DADOS!$E$6:$E$9,0)-1)),"")))-LEN(SUBSTITUTE(_xlfn.TEXTJOIN(", ",TRUE(),IF(AND(IF($I10="","",$I10)<>"",NOT(IF($I10="","",$I10)="Reduzido")),INDEX(DADOS!$C:$C,(36+MATCH(IF($I10="","",$I10),DADOS!$C$6:$C$9,0)-1)),""),IF(AND(IF($J10="","",$J10)<>"",NOT(IF($J10="","",$J10)="Reduzida")),INDEX(DADOS!$C:$C,(42+MATCH(IF($J10="","",$J10),DADOS!$D$6:$D$9,0)-1)),""),IF(AND(IF($K10="","",$K10)<>"",NOT(IF($K10="","",$K10)="A melhorar")),INDEX(DADOS!$C:$C,(48+MATCH(IF($K10="","",$K10),DADOS!$E$6:$E$9,0)-1)),"")),", ","")))/2)=0,_xlfn.TEXTJOIN(", ",TRUE(),IF(AND(IF($I10="","",$I10)<>"",NOT(IF($I10="","",$I10)="Reduzido")),INDEX(DADOS!$C:$C,(36+MATCH(IF($I10="","",$I10),DADOS!$C$6:$C$9,0)-1)),""),IF(AND(IF($J10="","",$J10)<>"",NOT(IF($J10="","",$J10)="Reduzida")),INDEX(DADOS!$C:$C,(42+MATCH(IF($J10="","",$J10),DADOS!$D$6:$D$9,0)-1)),""),IF(AND(IF($K10="","",$K10)<>"",NOT(IF($K10="","",$K10)="A melhorar")),INDEX(DADOS!$C:$C,(48+MATCH(IF($K10="","",$K10),DADOS!$E$6:$E$9,0)-1)),"")),SUBSTITUTE(_xlfn.TEXTJOIN(", ",TRUE(),IF(AND(IF($I10="","",$I10)<>"",NOT(IF($I10="","",$I10)="Reduzido")),INDEX(DADOS!$C:$C,(36+MATCH(IF($I10="","",$I10),DADOS!$C$6:$C$9,0)-1)),""),IF(AND(IF($J10="","",$J10)<>"",NOT(IF($J10="","",$J10)="Reduzida")),INDEX(DADOS!$C:$C,(42+MATCH(IF($J10="","",$J10),DADOS!$D$6:$D$9,0)-1)),""),IF(AND(IF($K10="","",$K10)<>"",NOT(IF($K10="","",$K10)="A melhorar")),INDEX(DADOS!$C:$C,(48+MATCH(IF($K10="","",$K10),DADOS!$E$6:$E$9,0)-1)),"")),", "," e ",((LEN(_xlfn.TEXTJOIN(", ",TRUE(),IF(AND(IF($I10="","",$I10)<>"",NOT(IF($I10="","",$I10)="Reduzido")),INDEX(DADOS!$C:$C,(36+MATCH(IF($I10="","",$I10),DADOS!$C$6:$C$9,0)-1)),""),IF(AND(IF($J10="","",$J10)<>"",NOT(IF($J10="","",$J10)="Reduzida")),INDEX(DADOS!$C:$C,(42+MATCH(IF($J10="","",$J10),DADOS!$D$6:$D$9,0)-1)),""),IF(AND(IF($K10="","",$K10)<>"",NOT(IF($K10="","",$K10)="A melhorar")),INDEX(DADOS!$C:$C,(48+MATCH(IF($K10="","",$K10),DADOS!$E$6:$E$9,0)-1)),"")))-LEN(SUBSTITUTE(_xlfn.TEXTJOIN(", ",TRUE(),IF(AND(IF($I10="","",$I10)<>"",NOT(IF($I10="","",$I10)="Reduzido")),INDEX(DADOS!$C:$C,(36+MATCH(IF($I10="","",$I10),DADOS!$C$6:$C$9,0)-1)),""),IF(AND(IF($J10="","",$J10)<>"",NOT(IF($J10="","",$J10)="Reduzida")),INDEX(DADOS!$C:$C,(42+MATCH(IF($J10="","",$J10),DADOS!$D$6:$D$9,0)-1)),""),IF(AND(IF($K10="","",$K10)<>"",NOT(IF($K10="","",$K10)="A melhorar")),INDEX(DADOS!$C:$C,(48+MATCH(IF($K10="","",$K10),DADOS!$E$6:$E$9,0)-1)),"")),", ","")))/2))) | S10: =IF(((LEN(_xlfn.TEXTJOIN(", ",TRUE(),IF(AND(IF($I10="","",$I10)<>"",IF($I10="","",$I10)="Reduzido"),INDEX(DADOS!$C:$C,(36+MATCH(IF($I10="","",$I10),DADOS!$C$6:$C$9,0)-1)),""),IF(AND(IF($J10="","",$J10)<>"",IF($J10="","",$J10)="Reduzida"),INDEX(DADOS!$C:$C,(42+MATCH(IF($J10="","",$J10),DADOS!$D$6:$D$9,0)-1)),""),IF(AND(IF($K10="","",$K10)<>"",IF($K10="","",$K10)="A melhorar"),INDEX(DADOS!$C:$C,(48+MATCH(IF($K10="","",$K10),DADOS!$E$6:$E$9,0)-1)),"")))-LEN(SUBSTITUTE(_xlfn.TEXTJOIN(", ",TRUE(),IF(AND(IF($I10="","",$I10)<>"",IF($I10="","",$I10)="Reduzido"),INDEX(DADOS!$C:$C,(36+MATCH(IF($I10="","",$I10),DADOS!$C$6:$C$9,0)-1)),""),IF(AND(IF($J10="","",$J10)<>"",IF($J10="","",$J10)="Reduzida"),INDEX(DADOS!$C:$C,(42+MATCH(IF($J10="","",$J10),DADOS!$D$6:$D$9,0)-1)),""),IF(AND(IF($K10="","",$K10)<>"",IF($K10="","",$K10)="A melhorar"),INDEX(DADOS!$C:$C,(48+MATCH(IF($K10="","",$K10),DADOS!$E$6:$E$9,0)-1)),"")),", ","")))/2)=0,_xlfn.TEXTJOIN(", ",TRUE(),IF(AND(IF($I10="","",$I10)<>"",IF($I10="","",$I10)="Reduzido"),INDEX(DADOS!$C:$C,(36+MATCH(IF($I10="","",$I10),DADOS!$C$6:$C$9,0)-1)),""),IF(AND(IF($J10="","",$J10)<>"",IF($J10="","",$J10)="Reduzida"),INDEX(DADOS!$C:$C,(42+MATCH(IF($J10="","",$J10),DADOS!$D$6:$D$9,0)-1)),""),IF(AND(IF($K10="","",$K10)<>"",IF($K10="","",$K10)="A melhorar"),INDEX(DADOS!$C:$C,(48+MATCH(IF($K10="","",$K10),DADOS!$E$6:$E$9,0)-1)),"")),SUBSTITUTE(_xlfn.TEXTJOIN(", ",TRUE(),IF(AND(IF($I10="","",$I10)<>"",IF($I10="","",$I10)="Reduzido"),INDEX(DADOS!$C:$C,(36+MATCH(IF($I10="","",$I10),DADOS!$C$6:$C$9,0)-1)),""),IF(AND(IF($J10="","",$J10)<>"",IF($J10="","",$J10)="Reduzida"),INDEX(DADOS!$C:$C,(42+MATCH(IF($J10="","",$J10),DADOS!$D$6:$D$9,0)-1)),""),IF(AND(IF($K10="","",$K10)<>"",IF($K10="","",$K10)="A melhorar"),INDEX(DADOS!$C:$C,(48+MATCH(IF($K10="","",$K10),DADOS!$E$6:$E$9,0)-1)),"")),", "," e ",((LEN(_xlfn.TEXTJOIN(", ",TRUE(),IF(AND(IF($I10="","",$I10)<>"",IF($I10="","",$I10)="Reduzido"),INDEX(DADOS!$C:$C,(36+MATCH(IF($I10="","",$I10),DADOS!$C$6:$C$9,0)-1)),""),IF(AND(IF($J10="","",$J10)<>"",IF($J10="","",$J10)="Reduzida"),INDEX(DADOS!$C:$C,(42+MATCH(IF($J10="","",$J10),DADOS!$D$6:$D$9,0)-1)),""),IF(AND(IF($K10="","",$K10)<>"",IF($K10="","",$K10)="A melhorar"),INDEX(DADOS!$C:$C,(48+MATCH(IF($K10="","",$K10),DADOS!$E$6:$E$9,0)-1)),"")))-LEN(SUBSTITUTE(_xlfn.TEXTJOIN(", ",TRUE(),IF(AND(IF($I10="","",$I10)<>"",IF($I10="","",$I10)="Reduzido"),INDEX(DADOS!$C:$C,(36+MATCH(IF($I10="","",$I10),DADOS!$C$6:$C$9,0)-1)),""),IF(AND(IF($J10="","",$J10)<>"",IF($J10="","",$J10)="Reduzida"),INDEX(DADOS!$C:$C,(42+MATCH(IF($J10="","",$J10),DADOS!$D$6:$D$9,0)-1)),""),IF(AND(IF($K10="","",$K10)<>"",IF($K10="","",$K10)="A melhorar"),INDEX(DADOS!$C:$C,(48+MATCH(IF($K10="","",$K10),DADOS!$E$6:$E$9,0)-1)),"")),", ","")))/2))) | T10: =IF(AND($R10="",$S10=""),"",IF($S10="",INDEX(DADOS!$B:$B,(MOD(ROW()+3,3)+67))&$R10&INDEX(DADOS!$C:$C,(MOD(ROW()+3,3)+67)),IF($R10="",INDEX(DADOS!$B:$B,(MOD(ROW()+3,3)+72))&$S10&INDEX(DADOS!$C:$C,(MOD(ROW()+3,3)+72)),INDEX(DADOS!$B:$B,(MOD(ROW()+3,3)+77))&$R10&INDEX(DADOS!$C:$C,(MOD(ROW()+3,3)+77))&$S10&INDEX(DADOS!$D:$D,(MOD(ROW()+3,3)+77))))) | U10: =IF(((LEN(_xlfn.TEXTJOIN(", ",TRUE(),IF(AND(IF($L10="","",$L10)<>"",NOT(IF($L10="","",$L10)="Regrediu")),INDEX(DADOS!$C:$C,(54+MATCH(IF($L10="","",$L10),DADOS!$F$6:$F$9,0)-1)),""),IF(AND(IF($M10="","",$M10)<>"",NOT(IF($M10="","",$M10)="Irregular")),INDEX(DADOS!$C:$C,(60+MATCH(IF($M10="","",$M10),DADOS!$G$6:$G$9,0)-1)),"")))-LEN(SUBSTITUTE(_xlfn.TEXTJOIN(", ",TRUE(),IF(AND(IF($L10="","",$L10)<>"",NOT(IF($L10="","",$L10)="Regrediu")),INDEX(DADOS!$C:$C,(54+MATCH(IF($L10="","",$L10),DADOS!$F$6:$F$9,0)-1)),""),IF(AND(IF($M10="","",$M10)<>"",NOT(IF($M10="","",$M10)="Irregular")),INDEX(DADOS!$C:$C,(60+MATCH(IF($M10="","",$M10),DADOS!$G$6:$G$9,0)-1)),"")),", ","")))/2)=0,_xlfn.TEXTJOIN(", ",TRUE(),IF(AND(IF($L10="","",$L10)<>"",NOT(IF($L10="","",$L10)="Regrediu")),INDEX(DADOS!$C:$C,(54+MATCH(IF($L10="","",$L10),DADOS!$F$6:$F$9,0)-1)),""),IF(AND(IF($M10="","",$M10)<>"",NOT(IF($M10="","",$M10)="Irregular")),INDEX(DADOS!$C:$C,(60+MATCH(IF($M10="","",$M10),DADOS!$G$6:$G$9,0)-1)),"")),SUBSTITUTE(_xlfn.TEXTJOIN(", ",TRUE(),IF(AND(IF($L10="","",$L10)<>"",NOT(IF($L10="","",$L10)="Regrediu")),INDEX(DADOS!$C:$C,(54+MATCH(IF($L10="","",$L10),DADOS!$F$6:$F$9,0)-1)),""),IF(AND(IF($M10="","",$M10)<>"",NOT(IF($M10="","",$M10)="Irregular")),INDEX(DADOS!$C:$C,(60+MATCH(IF($M10="","",$M10),DADOS!$G$6:$G$9,0)-1)),"")),", "," e ",((LEN(_xlfn.TEXTJOIN(", ",TRUE(),IF(AND(IF($L10="","",$L10)<>"",NOT(IF($L10="","",$L10)="Regrediu")),INDEX(DADOS!$C:$C,(54+MATCH(IF($L10="","",$L10),DADOS!$F$6:$F$9,0)-1)),""),IF(AND(IF($M10="","",$M10)<>"",NOT(IF($M10="","",$M10)="Irregular")),INDEX(DADOS!$C:$C,(60+MATCH(IF($M10="","",$M10),DADOS!$G$6:$G$9,0)-1)),"")))-LEN(SUBSTITUTE(_xlfn.TEXTJOIN(", ",TRUE(),IF(AND(IF($L10="","",$L10)<>"",NOT(IF($L10="","",$L10)="Regrediu")),INDEX(DADOS!$C:$C,(54+MATCH(IF($L10="","",$L10),DADOS!$F$6:$F$9,0)-1)),""),IF(AND(IF($M10="","",$M10)<>"",NOT(IF($M10="","",$M10)="Irregular")),INDEX(DADOS!$C:$C,(60+MATCH(IF($M10="","",$M10),DADOS!$G$6:$G$9,0)-1)),"")),", ","")))/2))) | V10: =IF(((LEN(_xlfn.TEXTJOIN(", ",TRUE(),IF(AND(IF($L10="","",$L10)<>"",IF($L10="","",$L10)="Regrediu"),INDEX(DADOS!$C:$C,(54+MATCH(IF($L10="","",$L10),DADOS!$F$6:$F$9,0)-1)),""),IF(AND(IF($M10="","",$M10)<>"",IF($M10="","",$M10)="Irregular"),INDEX(DADOS!$C:$C,(60+MATCH(IF($M10="","",$M10),DADOS!$G$6:$G$9,0)-1)),"")))-LEN(SUBSTITUTE(_xlfn.TEXTJOIN(", ",TRUE(),IF(AND(IF($L10="","",$L10)<>"",IF($L10="","",$L10)="Regrediu"),INDEX(DADOS!$C:$C,(54+MATCH(IF($L10="","",$L10),DADOS!$F$6:$F$9,0)-1)),""),IF(AND(IF($M10="","",$M10)<>"",IF($M10="","",$M10)="Irregular"),INDEX(DADOS!$C:$C,(60+MATCH(IF($M10="","",$M10),DADOS!$G$6:$G$9,0)-1)),"")),", ","")))/2)=0,_xlfn.TEXTJOIN(", ",TRUE(),IF(AND(IF($L10="","",$L10)<>"",IF($L10="","",$L10)="Regrediu"),INDEX(DADOS!$C:$C,(54+MATCH(IF($L10="","",$L10),DADOS!$F$6:$F$9,0)-1)),""),IF(AND(IF($M10="","",$M10)<>"",IF($M10="","",$M10)="Irregular"),INDEX(DADOS!$C:$C,(60+MATCH(IF($M10="","",$M10),DADOS!$G$6:$G$9,0)-1)),"")),SUBSTITUTE(_xlfn.TEXTJOIN(", ",TRUE(),IF(AND(IF($L10="","",$L10)<>"",IF($L10="","",$L10)="Regrediu"),INDEX(DADOS!$C:$C,(54+MATCH(IF($L10="","",$L10),DADOS!$F$6:$F$9,0)-1)),""),IF(AND(IF($M10="","",$M10)<>"",IF($M10="","",$M10)="Irregular"),INDEX(DADOS!$C:$C,(60+MATCH(IF($M10="","",$M10),DADOS!$G$6:$G$9,0)-1)),"")),", "," e ",((LEN(_xlfn.TEXTJOIN(", ",TRUE(),IF(AND(IF($L10="","",$L10)<>"",IF($L10="","",$L10)="Regrediu"),INDEX(DADOS!$C:$C,(54+MATCH(IF($L10="","",$L10),DADOS!$F$6:$F$9,0)-1)),""),IF(AND(IF($M10="","",$M10)<>"",IF($M10="","",$M10)="Irregular"),INDEX(DADOS!$C:$C,(60+MATCH(IF($M10="","",$M10),DADOS!$G$6:$G$9,0)-1)),"")))-LEN(SUBSTITUTE(_xlfn.TEXTJOIN(", ",TRUE(),IF(AND(IF($L10="","",$L10)<>"",IF($L10="","",$L10)="Regrediu"),INDEX(DADOS!$C:$C,(54+MATCH(IF($L10="","",$L10),DADOS!$F$6:$F$9,0)-1)),""),IF(AND(IF($M10="","",$M10)<>"",IF($M10="","",$M10)="Irregular"),INDEX(DADOS!$C:$C,(60+MATCH(IF($M10="","",$M10),DADOS!$G$6:$G$9,0)-1)),"")),", ","")))/2))) | W10: =IF(AND($U10="",$V10=""),"",IF($V10="",INDEX(DADOS!$B:$B,(MOD(ROW()+7,3)+83))&$U10&INDEX(DADOS!$C:$C,(MOD(ROW()+7,3)+83)),IF($U10="",INDEX(DADOS!$B:$B,(MOD(ROW()+7,3)+88))&$V10&INDEX(DADOS!$C:$C,(MOD(ROW()+7,3)+88)),INDEX(DADOS!$B:$B,(MOD(ROW()+7,3)+93))&$U10&INDEX(DADOS!$C:$C,(MOD(ROW()+7,3)+93))&$V10&INDEX(DADOS!$D:$D,(MOD(ROW()+7,3)+93))))) | X10: =--(OR(IF($H10="","",$H10)="Insuficiente",IF($H10="","",$H10)="Suficiente"))+--(IF($I10="","",$I10)="Reduzido")+--(IF($J10="","",$J10)="Reduzida")+--(IF($K10="","",$K10)="A melhorar")+--(IF($L10="","",$L10)="Regrediu")+--(IF($M10="","",$M10)="Irregular") -> 0 | Y10: =IF(OR(IF($H10="","",$H10)="Insuficiente",IF($H10="","",$H10)="Suficiente"),1,IF(IF($I10="","",$I10)="Reduzido",2,IF(IF($J10="","",$J10)="Reduzida",3,IF(IF($K10="","",$K10)="A melhorar",4,IF(IF($L10="","",$L10)="Regrediu",5,IF(IF($M10="","",$M10)="Irregular",6,0)))))) -> 0 | Z10: =IF(((LEN(_xlfn.TEXTJOIN(", ",TRUE(),IF(OR(IF($H10="","",$H10)="Insuficiente",IF($H10="","",$H10)="Suficiente"),"o aproveitamento",""),IF(IF($I10="","",$I10)="Reduzido","o empenho",""),IF(IF($J10="","",$J10)="Reduzida","a participação",""),IF(IF($K10="","",$K10)="A melhorar","o comportamento",""),IF(IF($L10="","",$L10)="Regrediu","a evolução",""),IF(IF($M10="","",$M10)="Irregular","a assiduidade","")))-LEN(SUBSTITUTE(_xlfn.TEXTJOIN(", ",TRUE(),IF(OR(IF($H10="","",$H10)="Insuficiente",IF($H10="","",$H10)="Suficiente"),"o aproveitamento",""),IF(IF($I10="","",$I10)="Reduzido","o empenho",""),IF(IF($J10="","",$J10)="Reduzida","a participação",""),IF(IF($K10="","",$K10)="A melhorar","o comportamento",""),IF(IF($L10="","",$L10)="Regrediu","a evolução",""),IF(IF($M10="","",$M10)="Irregular","a assiduidade","")),", ","")))/2)=0,_xlfn.TEXTJOIN(", ",TRUE(),IF(OR(IF($H10="","",$H10)="Insuficiente",IF($H10="","",$H10)="Suficiente"),"o aproveitamento",""),IF(IF($I10="","",$I10)="Reduzido","o empenho",""),IF(IF($J10="","",$J10)="Reduzida","a participação",""),IF(IF($K10="","",$K10)="A melhorar","o comportamento",""),IF(IF($L10="","",$L10)="Regrediu","a evolução",""),IF(IF($M10="","",$M10)="Irregular","a assiduidade","")),SUBSTITUTE(_xlfn.TEXTJOIN(", ",TRUE(),IF(OR(IF($H10="","",$H10)="Insuficiente",IF($H10="","",$H10)="Suficiente"),"o aproveitamento",""),IF(IF($I10="","",$I10)="Reduzido","o empenho",""),IF(IF($J10="","",$J10)="Reduzida","a participação",""),IF(IF($K10="","",$K10)="A melhorar","o comportamento",""),IF(IF($L10="","",$L10)="Regrediu","a evolução",""),IF(IF($M10="","",$M10)="Irregular","a assiduidade","")),", "," e ",((LEN(_xlfn.TEXTJOIN(", ",TRUE(),IF(OR(IF($H10="","",$H10)="Insuficiente",IF($H10="","",$H10)="Suficiente"),"o aproveitamento",""),IF(IF($I10="","",$I10)="Reduzido","o empenho",""),IF(IF($J10="","",$J10)="Reduzida","a participação",""),IF(IF($K10="","",$K10)="A melhorar","o comportamento",""),IF(IF($L10="","",$L10)="Regrediu","a evolução",""),IF(IF($M10="","",$M10)="Irregular","a assiduidade","")))-LEN(SUBSTITUTE(_xlfn.TEXTJOIN(", ",TRUE(),IF(OR(IF($H10="","",$H10)="Insuficiente",IF($H10="","",$H10)="Suficiente"),"o aproveitamento",""),IF(IF($I10="","",$I10)="Reduzido","o empenho",""),IF(IF($J10="","",$J10)="Reduzida","a participação",""),IF(IF($K10="","",$K10)="A melhorar","o comportamento",""),IF(IF($L10="","",$L10)="Regrediu","a evolução",""),IF(IF($M10="","",$M10)="Irregular","a assiduidade","")),", ","")))/2))) | AA10: =IF(OR(IF($H10="","",$H10)<>"",IF($I10="","",$I10)<>"",IF($J10="","",$J10)<>"",IF($K10="","",$K10)<>"",IF($L10="","",$L10)<>"",IF($M10="","",$M10)<>""),IF($X10=0,INDEX(DADOS!$B:$B,(MOD(ROW()+17+0,5)+99)),IF($X10=1,CHOOSE($Y10,INDEX(DADOS!$B:$B,(MOD(ROW()+17+0,3)+106)),INDEX(DADOS!$C:$C,(MOD(ROW()+17+0,3)+106)),INDEX(DADOS!$D:$D,(MOD(ROW()+17+0,3)+106)),INDEX(DADOS!$E:$E,(MOD(ROW()+17+0,3)+106)),INDEX(DADOS!$F:$F,(MOD(ROW()+17+0,3)+106)),INDEX(DADOS!$G:$G,(MOD(ROW()+17+0,3)+106))),INDEX(DADOS!$B:$B,(MOD(ROW()+17,3)+111))&$Z10&INDEX(DADOS!$C:$C,(MOD(ROW()+17,3)+111)))),"") | AB10: =INDEX(DADOS!$B:$B,(MOD(ROW()+19,5)+116)) -> Destaca-se igualmente: | AC10: =SUBTOTAL(103,$G$8:G10) -> 3 | AD10: =IF($G10="","",C10&"|"&D10&"|"&E10&"|"&$G10) -> 8.º A|Matemática|1.º Período|Beatriz Nunes
B11: =IF(BASE!B4="","",BASE!B4) -> 2026/2027 | C11: =IF(BASE!C7="","",BASE!C7) -> 8.º A | D11: =IF(BASE!F8="","",BASE!F8) -> Matemática | E11: 2.º Período | F11: 1 | G11: =IF(BASE!$C$8="","",BASE!$C$8) -> Ana Silva | H11: Muito Bom | I11: Muito Bom | J11: Muito Boa | K11: Muito Bom | L11: Melhorou bastante | M11: Muito boa | N11: Apresentou um projeto de investigação de grande qualidade. | O11: =IF($G11="","",IF(AND(NOT(OR(IF($H11="","",$H11)<>"",IF($I11="","",$I11)<>"",IF($J11="","",$J11)<>"",IF($K11="","",$K11)<>"",IF($L11="","",$L11)<>"",IF($M11="","",$M11)<>"")),IF($N11="","",$N11)=""),"— Ainda sem critérios preenchidos. —",_xlfn.TEXTJOIN(" ",TRUE(),$Q11,$T11,$W11,$AA11,IF(IF($N11="","",$N11)<>"",$AB11&" "&IF($N11="","",$N11),"")))) -> O aluno apresentou um muito bom aproveitamento ao longo do período, com resultados sólidos. Destacou-se ainda por revelar um empenho muito elevado, uma participação muito ativa e um comportamento exemplar ao longo do período. Ao longo do período, registou uma evolução muito positiva e uma assiduidade exemplar. Espera-se que este percurso positivo se mantenha nas próximas etapas. Importa ainda destacar: Apresentou um projeto de investigação de grande qualidade. | Q11: =IF(OR(IF($H11="","",$H11)<>"",IF($I11="","",$I11)<>"",IF($J11="","",$J11)<>"",IF($K11="","",$K11)<>"",IF($L11="","",$L11)<>"",IF($M11="","",$M11)<>""),INDEX(DADOS!$C:$C,(15+(MATCH(IF($H11="","(sem aproveitamento)",$H11),DADOS!$I$6:$I$11,0)-1)*3+MOD(ROW()+1,3))),"") -> O aluno apresentou um muito bom aproveitamento ao longo do período, com resultados sólidos. | R11: =IF(((LEN(_xlfn.TEXTJOIN(", ",TRUE(),IF(AND(IF($I11="","",$I11)<>"",NOT(IF($I11="","",$I11)="Reduzido")),INDEX(DADOS!$C:$C,(36+MATCH(IF($I11="","",$I11),DADOS!$C$6:$C$9,0)-1)),""),IF(AND(IF($J11="","",$J11)<>"",NOT(IF($J11="","",$J11)="Reduzida")),INDEX(DADOS!$C:$C,(42+MATCH(IF($J11="","",$J11),DADOS!$D$6:$D$9,0)-1)),""),IF(AND(IF($K11="","",$K11)<>"",NOT(IF($K11="","",$K11)="A melhorar")),INDEX(DADOS!$C:$C,(48+MATCH(IF($K11="","",$K11),DADOS!$E$6:$E$9,0)-1)),"")))-LEN(SUBSTITUTE(_xlfn.TEXTJOIN(", ",TRUE(),IF(AND(IF($I11="","",$I11)<>"",NOT(IF($I11="","",$I11)="Reduzido")),INDEX(DADOS!$C:$C,(36+MATCH(IF($I11="","",$I11),DADOS!$C$6:$C$9,0)-1)),""),IF(AND(IF($J11="","",$J11)<>"",NOT(IF($J11="","",$J11)="Reduzida")),INDEX(DADOS!$C:$C,(42+MATCH(IF($J11="","",$J11),DADOS!$D$6:$D$9,0)-1)),""),IF(AND(IF($K11="","",$K11)<>"",NOT(IF($K11="","",$K11)="A melhorar")),INDEX(DADOS!$C:$C,(48+MATCH(IF($K11="","",$K11),DADOS!$E$6:$E$9,0)-1)),"")),", ","")))/2)=0,_xlfn.TEXTJOIN(", ",TRUE(),IF(AND(IF($I11="","",$I11)<>"",NOT(IF($I11="","",$I11)="Reduzido")),INDEX(DADOS!$C:$C,(36+MATCH(IF($I11="","",$I11),DADOS!$C$6:$C$9,0)-1)),""),IF(AND(IF($J11="","",$J11)<>"",NOT(IF($J11="","",$J11)="Reduzida")),INDEX(DADOS!$C:$C,(42+MATCH(IF($J11="","",$J11),DADOS!$D$6:$D$9,0)-1)),""),IF(AND(IF($K11="","",$K11)<>"",NOT(IF($K11="","",$K11)="A melhorar")),INDEX(DADOS!$C:$C,(48+MATCH(IF($K11="","",$K11),DADOS!$E$6:$E$9,0)-1)),"")),SUBSTITUTE(_xlfn.TEXTJOIN(", ",TRUE(),IF(AND(IF($I11="","",$I11)<>"",NOT(IF($I11="","",$I11)="Reduzido")),INDEX(DADOS!$C:$C,(36+MATCH(IF($I11="","",$I11),DADOS!$C$6:$C$9,0)-1)),""),IF(AND(IF($J11="","",$J11)<>"",NOT(IF($J11="","",$J11)="Reduzida")),INDEX(DADOS!$C:$C,(42+MATCH(IF($J11="","",$J11),DADOS!$D$6:$D$9,0)-1)),""),IF(AND(IF($K11="","",$K11)<>"",NOT(IF($K11="","",$K11)="A melhorar")),INDEX(DADOS!$C:$C,(48+MATCH(IF($K11="","",$K11),DADOS!$E$6:$E$9,0)-1)),"")),", "," e ",((LEN(_xlfn.TEXTJOIN(", ",TRUE(),IF(AND(IF($I11="","",$I11)<>"",NOT(IF($I11="","",$I11)="Reduzido")),INDEX(DADOS!$C:$C,(36+MATCH(IF($I11="","",$I11),DADOS!$C$6:$C$9,0)-1)),""),IF(AND(IF($J11="","",$J11)<>"",NOT(IF($J11="","",$J11)="Reduzida")),INDEX(DADOS!$C:$C,(42+MATCH(IF($J11="","",$J11),DADOS!$D$6:$D$9,0)-1)),""),IF(AND(IF($K11="","",$K11)<>"",NOT(IF($K11="","",$K11)="A melhorar")),INDEX(DADOS!$C:$C,(48+MATCH(IF($K11="","",$K11),DADOS!$E$6:$E$9,0)-1)),"")))-LEN(SUBSTITUTE(_xlfn.TEXTJOIN(", ",TRUE(),IF(AND(IF($I11="","",$I11)<>"",NOT(IF($I11="","",$I11)="Reduzido")),INDEX(DADOS!$C:$C,(36+MATCH(IF($I11="","",$I11),DADOS!$C$6:$C$9,0)-1)),""),IF(AND(IF($J11="","",$J11)<>"",NOT(IF($J11="","",$J11)="Reduzida")),INDEX(DADOS!$C:$C,(42+MATCH(IF($J11="","",$J11),DADOS!$D$6:$D$9,0)-1)),""),IF(AND(IF($K11="","",$K11)<>"",NOT(IF($K11="","",$K11)="A melhorar")),INDEX(DADOS!$C:$C,(48+MATCH(IF($K11="","",$K11),DADOS!$E$6:$E$9,0)-1)),"")),", ","")))/2))) -> um empenho muito elevado, uma participação muito ativa e um comportamento exemplar | S11: =IF(((LEN(_xlfn.TEXTJOIN(", ",TRUE(),IF(AND(IF($I11="","",$I11)<>"",IF($I11="","",$I11)="Reduzido"),INDEX(DADOS!$C:$C,(36+MATCH(IF($I11="","",$I11),DADOS!$C$6:$C$9,0)-1)),""),IF(AND(IF($J11="","",$J11)<>"",IF($J11="","",$J11)="Reduzida"),INDEX(DADOS!$C:$C,(42+MATCH(IF($J11="","",$J11),DADOS!$D$6:$D$9,0)-1)),""),IF(AND(IF($K11="","",$K11)<>"",IF($K11="","",$K11)="A melhorar"),INDEX(DADOS!$C:$C,(48+MATCH(IF($K11="","",$K11),DADOS!$E$6:$E$9,0)-1)),"")))-LEN(SUBSTITUTE(_xlfn.TEXTJOIN(", ",TRUE(),IF(AND(IF($I11="","",$I11)<>"",IF($I11="","",$I11)="Reduzido"),INDEX(DADOS!$C:$C,(36+MATCH(IF($I11="","",$I11),DADOS!$C$6:$C$9,0)-1)),""),IF(AND(IF($J11="","",$J11)<>"",IF($J11="","",$J11)="Reduzida"),INDEX(DADOS!$C:$C,(42+MATCH(IF($J11="","",$J11),DADOS!$D$6:$D$9,0)-1)),""),IF(AND(IF($K11="","",$K11)<>"",IF($K11="","",$K11)="A melhorar"),INDEX(DADOS!$C:$C,(48+MATCH(IF($K11="","",$K11),DADOS!$E$6:$E$9,0)-1)),"")),", ","")))/2)=0,_xlfn.TEXTJOIN(", ",TRUE(),IF(AND(IF($I11="","",$I11)<>"",IF($I11="","",$I11)="Reduzido"),INDEX(DADOS!$C:$C,(36+MATCH(IF($I11="","",$I11),DADOS!$C$6:$C$9,0)-1)),""),IF(AND(IF($J11="","",$J11)<>"",IF($J11="","",$J11)="Reduzida"),INDEX(DADOS!$C:$C,(42+MATCH(IF($J11="","",$J11),DADOS!$D$6:$D$9,0)-1)),""),IF(AND(IF($K11="","",$K11)<>"",IF($K11="","",$K11)="A melhorar"),INDEX(DADOS!$C:$C,(48+MATCH(IF($K11="","",$K11),DADOS!$E$6:$E$9,0)-1)),"")),SUBSTITUTE(_xlfn.TEXTJOIN(", ",TRUE(),IF(AND(IF($I11="","",$I11)<>"",IF($I11="","",$I11)="Reduzido"),INDEX(DADOS!$C:$C,(36+MATCH(IF($I11="","",$I11),DADOS!$C$6:$C$9,0)-1)),""),IF(AND(IF($J11="","",$J11)<>"",IF($J11="","",$J11)="Reduzida"),INDEX(DADOS!$C:$C,(42+MATCH(IF($J11="","",$J11),DADOS!$D$6:$D$9,0)-1)),""),IF(AND(IF($K11="","",$K11)<>"",IF($K11="","",$K11)="A melhorar"),INDEX(DADOS!$C:$C,(48+MATCH(IF($K11="","",$K11),DADOS!$E$6:$E$9,0)-1)),"")),", "," e ",((LEN(_xlfn.TEXTJOIN(", ",TRUE(),IF(AND(IF($I11="","",$I11)<>"",IF($I11="","",$I11)="Reduzido"),INDEX(DADOS!$C:$C,(36+MATCH(IF($I11="","",$I11),DADOS!$C$6:$C$9,0)-1)),""),IF(AND(IF($J11="","",$J11)<>"",IF($J11="","",$J11)="Reduzida"),INDEX(DADOS!$C:$C,(42+MATCH(IF($J11="","",$J11),DADOS!$D$6:$D$9,0)-1)),""),IF(AND(IF($K11="","",$K11)<>"",IF($K11="","",$K11)="A melhorar"),INDEX(DADOS!$C:$C,(48+MATCH(IF($K11="","",$K11),DADOS!$E$6:$E$9,0)-1)),"")))-LEN(SUBSTITUTE(_xlfn.TEXTJOIN(", ",TRUE(),IF(AND(IF($I11="","",$I11)<>"",IF($I11="","",$I11)="Reduzido"),INDEX(DADOS!$C:$C,(36+MATCH(IF($I11="","",$I11),DADOS!$C$6:$C$9,0)-1)),""),IF(AND(IF($J11="","",$J11)<>"",IF($J11="","",$J11)="Reduzida"),INDEX(DADOS!$C:$C,(42+MATCH(IF($J11="","",$J11),DADOS!$D$6:$D$9,0)-1)),""),IF(AND(IF($K11="","",$K11)<>"",IF($K11="","",$K11)="A melhorar"),INDEX(DADOS!$C:$C,(48+MATCH(IF($K11="","",$K11),DADOS!$E$6:$E$9,0)-1)),"")),", ","")))/2))) | T11: =IF(AND($R11="",$S11=""),"",IF($S11="",INDEX(DADOS!$B:$B,(MOD(ROW()+3,3)+67))&$R11&INDEX(DADOS!$C:$C,(MOD(ROW()+3,3)+67)),IF($R11="",INDEX(DADOS!$B:$B,(MOD(ROW()+3,3)+72))&$S11&INDEX(DADOS!$C:$C,(MOD(ROW()+3,3)+72)),INDEX(DADOS!$B:$B,(MOD(ROW()+3,3)+77))&$R11&INDEX(DADOS!$C:$C,(MOD(ROW()+3,3)+77))&$S11&INDEX(DADOS!$D:$D,(MOD(ROW()+3,3)+77))))) -> Destacou-se ainda por revelar um empenho muito elevado, uma participação muito ativa e um comportamento exemplar ao longo do período. | U11: =IF(((LEN(_xlfn.TEXTJOIN(", ",TRUE(),IF(AND(IF($L11="","",$L11)<>"",NOT(IF($L11="","",$L11)="Regrediu")),INDEX(DADOS!$C:$C,(54+MATCH(IF($L11="","",$L11),DADOS!$F$6:$F$9,0)-1)),""),IF(AND(IF($M11="","",$M11)<>"",NOT(IF($M11="","",$M11)="Irregular")),INDEX(DADOS!$C:$C,(60+MATCH(IF($M11="","",$M11),DADOS!$G$6:$G$9,0)-1)),"")))-LEN(SUBSTITUTE(_xlfn.TEXTJOIN(", ",TRUE(),IF(AND(IF($L11="","",$L11)<>"",NOT(IF($L11="","",$L11)="Regrediu")),INDEX(DADOS!$C:$C,(54+MATCH(IF($L11="","",$L11),DADOS!$F$6:$F$9,0)-1)),""),IF(AND(IF($M11="","",$M11)<>"",NOT(IF($M11="","",$M11)="Irregular")),INDEX(DADOS!$C:$C,(60+MATCH(IF($M11="","",$M11),DADOS!$G$6:$G$9,0)-1)),"")),", ","")))/2)=0,_xlfn.TEXTJOIN(", ",TRUE(),IF(AND(IF($L11="","",$L11)<>"",NOT(IF($L11="","",$L11)="Regrediu")),INDEX(DADOS!$C:$C,(54+MATCH(IF($L11="","",$L11),DADOS!$F$6:$F$9,0)-1)),""),IF(AND(IF($M11="","",$M11)<>"",NOT(IF($M11="","",$M11)="Irregular")),INDEX(DADOS!$C:$C,(60+MATCH(IF($M11="","",$M11),DADOS!$G$6:$G$9,0)-1)),"")),SUBSTITUTE(_xlfn.TEXTJOIN(", ",TRUE(),IF(AND(IF($L11="","",$L11)<>"",NOT(IF($L11="","",$L11)="Regrediu")),INDEX(DADOS!$C:$C,(54+MATCH(IF($L11="","",$L11),DADOS!$F$6:$F$9,0)-1)),""),IF(AND(IF($M11="","",$M11)<>"",NOT(IF($M11="","",$M11)="Irregular")),INDEX(DADOS!$C:$C,(60+MATCH(IF($M11="","",$M11),DADOS!$G$6:$G$9,0)-1)),"")),", "," e ",((LEN(_xlfn.TEXTJOIN(", ",TRUE(),IF(AND(IF($L11="","",$L11)<>"",NOT(IF($L11="","",$L11)="Regrediu")),INDEX(DADOS!$C:$C,(54+MATCH(IF($L11="","",$L11),DADOS!$F$6:$F$9,0)-1)),""),IF(AND(IF($M11="","",$M11)<>"",NOT(IF($M11="","",$M11)="Irregular")),INDEX(DADOS!$C:$C,(60+MATCH(IF($M11="","",$M11),DADOS!$G$6:$G$9,0)-1)),"")))-LEN(SUBSTITUTE(_xlfn.TEXTJOIN(", ",TRUE(),IF(AND(IF($L11="","",$L11)<>"",NOT(IF($L11="","",$L11)="Regrediu")),INDEX(DADOS!$C:$C,(54+MATCH(IF($L11="","",$L11),DADOS!$F$6:$F$9,0)-1)),""),IF(AND(IF($M11="","",$M11)<>"",NOT(IF($M11="","",$M11)="Irregular")),INDEX(DADOS!$C:$C,(60+MATCH(IF($M11="","",$M11),DADOS!$G$6:$G$9,0)-1)),"")),", ","")))/2))) -> uma evolução muito positiva e uma assiduidade exemplar | V11: =IF(((LEN(_xlfn.TEXTJOIN(", ",TRUE(),IF(AND(IF($L11="","",$L11)<>"",IF($L11="","",$L11)="Regrediu"),INDEX(DADOS!$C:$C,(54+MATCH(IF($L11="","",$L11),DADOS!$F$6:$F$9,0)-1)),""),IF(AND(IF($M11="","",$M11)<>"",IF($M11="","",$M11)="Irregular"),INDEX(DADOS!$C:$C,(60+MATCH(IF($M11="","",$M11),DADOS!$G$6:$G$9,0)-1)),"")))-LEN(SUBSTITUTE(_xlfn.TEXTJOIN(", ",TRUE(),IF(AND(IF($L11="","",$L11)<>"",IF($L11="","",$L11)="Regrediu"),INDEX(DADOS!$C:$C,(54+MATCH(IF($L11="","",$L11),DADOS!$F$6:$F$9,0)-1)),""),IF(AND(IF($M11="","",$M11)<>"",IF($M11="","",$M11)="Irregular"),INDEX(DADOS!$C:$C,(60+MATCH(IF($M11="","",$M11),DADOS!$G$6:$G$9,0)-1)),"")),", ","")))/2)=0,_xlfn.TEXTJOIN(", ",TRUE(),IF(AND(IF($L11="","",$L11)<>"",IF($L11="","",$L11)="Regrediu"),INDEX(DADOS!$C:$C,(54+MATCH(IF($L11="","",$L11),DADOS!$F$6:$F$9,0)-1)),""),IF(AND(IF($M11="","",$M11)<>"",IF($M11="","",$M11)="Irregular"),INDEX(DADOS!$C:$C,(60+MATCH(IF($M11="","",$M11),DADOS!$G$6:$G$9,0)-1)),"")),SUBSTITUTE(_xlfn.TEXTJOIN(", ",TRUE(),IF(AND(IF($L11="","",$L11)<>"",IF($L11="","",$L11)="Regrediu"),INDEX(DADOS!$C:$C,(54+MATCH(IF($L11="","",$L11),DADOS!$F$6:$F$9,0)-1)),""),IF(AND(IF($M11="","",$M11)<>"",IF($M11="","",$M11)="Irregular"),INDEX(DADOS!$C:$C,(60+MATCH(IF($M11="","",$M11),DADOS!$G$6:$G$9,0)-1)),"")),", "," e ",((LEN(_xlfn.TEXTJOIN(", ",TRUE(),IF(AND(IF($L11="","",$L11)<>"",IF($L11="","",$L11)="Regrediu"),INDEX(DADOS!$C:$C,(54+MATCH(IF($L11="","",$L11),DADOS!$F$6:$F$9,0)-1)),""),IF(AND(IF($M11="","",$M11)<>"",IF($M11="","",$M11)="Irregular"),INDEX(DADOS!$C:$C,(60+MATCH(IF($M11="","",$M11),DADOS!$G$6:$G$9,0)-1)),"")))-LEN(SUBSTITUTE(_xlfn.TEXTJOIN(", ",TRUE(),IF(AND(IF($L11="","",$L11)<>"",IF($L11="","",$L11)="Regrediu"),INDEX(DADOS!$C:$C,(54+MATCH(IF($L11="","",$L11),DADOS!$F$6:$F$9,0)-1)),""),IF(AND(IF($M11="","",$M11)<>"",IF($M11="","",$M11)="Irregular"),INDEX(DADOS!$C:$C,(60+MATCH(IF($M11="","",$M11),DADOS!$G$6:$G$9,0)-1)),"")),", ","")))/2))) | W11: =IF(AND($U11="",$V11=""),"",IF($V11="",INDEX(DADOS!$B:$B,(MOD(ROW()+7,3)+83))&$U11&INDEX(DADOS!$C:$C,(MOD(ROW()+7,3)+83)),IF($U11="",INDEX(DADOS!$B:$B,(MOD(ROW()+7,3)+88))&$V11&INDEX(DADOS!$C:$C,(MOD(ROW()+7,3)+88)),INDEX(DADOS!$B:$B,(MOD(ROW()+7,3)+93))&$U11&INDEX(DADOS!$C:$C,(MOD(ROW()+7,3)+93))&$V11&INDEX(DADOS!$D:$D,(MOD(ROW()+7,3)+93))))) -> Ao longo do período, registou uma evolução muito positiva e uma assiduidade exemplar. | X11: =--(OR(IF($H11="","",$H11)="Insuficiente",IF($H11="","",$H11)="Suficiente"))+--(IF($I11="","",$I11)="Reduzido")+--(IF($J11="","",$J11)="Reduzida")+--(IF($K11="","",$K11)="A melhorar")+--(IF($L11="","",$L11)="Regrediu")+--(IF($M11="","",$M11)="Irregular") -> 0 | Y11: =IF(OR(IF($H11="","",$H11)="Insuficiente",IF($H11="","",$H11)="Suficiente"),1,IF(IF($I11="","",$I11)="Reduzido",2,IF(IF($J11="","",$J11)="Reduzida",3,IF(IF($K11="","",$K11)="A melhorar",4,IF(IF($L11="","",$L11)="Regrediu",5,IF(IF($M11="","",$M11)="Irregular",6,0)))))) -> 0 | Z11: =IF(((LEN(_xlfn.TEXTJOIN(", ",TRUE(),IF(OR(IF($H11="","",$H11)="Insuficiente",IF($H11="","",$H11)="Suficiente"),"o aproveitamento",""),IF(IF($I11="","",$I11)="Reduzido","o empenho",""),IF(IF($J11="","",$J11)="Reduzida","a participação",""),IF(IF($K11="","",$K11)="A melhorar","o comportamento",""),IF(IF($L11="","",$L11)="Regrediu","a evolução",""),IF(IF($M11="","",$M11)="Irregular","a assiduidade","")))-LEN(SUBSTITUTE(_xlfn.TEXTJOIN(", ",TRUE(),IF(OR(IF($H11="","",$H11)="Insuficiente",IF($H11="","",$H11)="Suficiente"),"o aproveitamento",""),IF(IF($I11="","",$I11)="Reduzido","o empenho",""),IF(IF($J11="","",$J11)="Reduzida","a participação",""),IF(IF($K11="","",$K11)="A melhorar","o comportamento",""),IF(IF($L11="","",$L11)="Regrediu","a evolução",""),IF(IF($M11="","",$M11)="Irregular","a assiduidade","")),", ","")))/2)=0,_xlfn.TEXTJOIN(", ",TRUE(),IF(OR(IF($H11="","",$H11)="Insuficiente",IF($H11="","",$H11)="Suficiente"),"o aproveitamento",""),IF(IF($I11="","",$I11)="Reduzido","o empenho",""),IF(IF($J11="","",$J11)="Reduzida","a participação",""),IF(IF($K11="","",$K11)="A melhorar","o comportamento",""),IF(IF($L11="","",$L11)="Regrediu","a evolução",""),IF(IF($M11="","",$M11)="Irregular","a assiduidade","")),SUBSTITUTE(_xlfn.TEXTJOIN(", ",TRUE(),IF(OR(IF($H11="","",$H11)="Insuficiente",IF($H11="","",$H11)="Suficiente"),"o aproveitamento",""),IF(IF($I11="","",$I11)="Reduzido","o empenho",""),IF(IF($J11="","",$J11)="Reduzida","a participação",""),IF(IF($K11="","",$K11)="A melhorar","o comportamento",""),IF(IF($L11="","",$L11)="Regrediu","a evolução",""),IF(IF($M11="","",$M11)="Irregular","a assiduidade","")),", "," e ",((LEN(_xlfn.TEXTJOIN(", ",TRUE(),IF(OR(IF($H11="","",$H11)="Insuficiente",IF($H11="","",$H11)="Suficiente"),"o aproveitamento",""),IF(IF($I11="","",$I11)="Reduzido","o empenho",""),IF(IF($J11="","",$J11)="Reduzida","a participação",""),IF(IF($K11="","",$K11)="A melhorar","o comportamento",""),IF(IF($L11="","",$L11)="Regrediu","a evolução",""),IF(IF($M11="","",$M11)="Irregular","a assiduidade","")))-LEN(SUBSTITUTE(_xlfn.TEXTJOIN(", ",TRUE(),IF(OR(IF($H11="","",$H11)="Insuficiente",IF($H11="","",$H11)="Suficiente"),"o aproveitamento",""),IF(IF($I11="","",$I11)="Reduzido","o empenho",""),IF(IF($J11="","",$J11)="Reduzida","a participação",""),IF(IF($K11="","",$K11)="A melhorar","o comportamento",""),IF(IF($L11="","",$L11)="Regrediu","a evolução",""),IF(IF($M11="","",$M11)="Irregular","a assiduidade","")),", ","")))/2))) | AA11: =IF(OR(IF($H11="","",$H11)<>"",IF($I11="","",$I11)<>"",IF($J11="","",$J11)<>"",IF($K11="","",$K11)<>"",IF($L11="","",$L11)<>"",IF($M11="","",$M11)<>""),IF($X11=0,INDEX(DADOS!$B:$B,(MOD(ROW()+17+0,5)+99)),IF($X11=1,CHOOSE($Y11,INDEX(DADOS!$B:$B,(MOD(ROW()+17+0,3)+106)),INDEX(DADOS!$C:$C,(MOD(ROW()+17+0,3)+106)),INDEX(DADOS!$D:$D,(MOD(ROW()+17+0,3)+106)),INDEX(DADOS!$E:$E,(MOD(ROW()+17+0,3)+106)),INDEX(DADOS!$F:$F,(MOD(ROW()+17+0,3)+106)),INDEX(DADOS!$G:$G,(MOD(ROW()+17+0,3)+106))),INDEX(DADOS!$B:$B,(MOD(ROW()+17,3)+111))&$Z11&INDEX(DADOS!$C:$C,(MOD(ROW()+17,3)+111)))),"") -> Espera-se que este percurso positivo se mantenha nas próximas etapas. | AB11: =INDEX(DADOS!$B:$B,(MOD(ROW()+19,5)+116)) -> Importa ainda destacar: | AC11: =SUBTOTAL(103,$G$8:G11) -> 4 | AD11: =IF($G11="","",C11&"|"&D11&"|"&E11&"|"&$G11) -> 8.º A|Matemática|2.º Período|Ana Silva
B12: =IF(BASE!B4="","",BASE!B4) -> 2026/2027 | C12: =IF(BASE!C7="","",BASE!C7) -> 8.º A | D12: =IF(BASE!F8="","",BASE!F8) -> Matemática | E12: 2.º Período | F12: 2 | G12: =IF(BASE!$C$9="","",BASE!$C$9) -> João Costa | O12: =IF($G12="","",IF(AND(NOT(OR(IF($H12="","",$H12)<>"",IF($I12="","",$I12)<>"",IF($J12="","",$J12)<>"",IF($K12="","",$K12)<>"",IF($L12="","",$L12)<>"",IF($M12="","",$M12)<>"")),IF($N12="","",$N12)=""),"— Ainda sem critérios preenchidos. —",_xlfn.TEXTJOIN(" ",TRUE(),$Q12,$T12,$W12,$AA12,IF(IF($N12="","",$N12)<>"",$AB12&" "&IF($N12="","",$N12),"")))) -> — Ainda sem critérios preenchidos. — | Q12: =IF(OR(IF($H12="","",$H12)<>"",IF($I12="","",$I12)<>"",IF($J12="","",$J12)<>"",IF($K12="","",$K12)<>"",IF($L12="","",$L12)<>"",IF($M12="","",$M12)<>""),INDEX(DADOS!$C:$C,(15+(MATCH(IF($H12="","(sem aproveitamento)",$H12),DADOS!$I$6:$I$11,0)-1)*3+MOD(ROW()+1,3))),"") | R12: =IF(((LEN(_xlfn.TEXTJOIN(", ",TRUE(),IF(AND(IF($I12="","",$I12)<>"",NOT(IF($I12="","",$I12)="Reduzido")),INDEX(DADOS!$C:$C,(36+MATCH(IF($I12="","",$I12),DADOS!$C$6:$C$9,0)-1)),""),IF(AND(IF($J12="","",$J12)<>"",NOT(IF($J12="","",$J12)="Reduzida")),INDEX(DADOS!$C:$C,(42+MATCH(IF($J12="","",$J12),DADOS!$D$6:$D$9,0)-1)),""),IF(AND(IF($K12="","",$K12)<>"",NOT(IF($K12="","",$K12)="A melhorar")),INDEX(DADOS!$C:$C,(48+MATCH(IF($K12="","",$K12),DADOS!$E$6:$E$9,0)-1)),"")))-LEN(SUBSTITUTE(_xlfn.TEXTJOIN(", ",TRUE(),IF(AND(IF($I12="","",$I12)<>"",NOT(IF($I12="","",$I12)="Reduzido")),INDEX(DADOS!$C:$C,(36+MATCH(IF($I12="","",$I12),DADOS!$C$6:$C$9,0)-1)),""),IF(AND(IF($J12="","",$J12)<>"",NOT(IF($J12="","",$J12)="Reduzida")),INDEX(DADOS!$C:$C,(42+MATCH(IF($J12="","",$J12),DADOS!$D$6:$D$9,0)-1)),""),IF(AND(IF($K12="","",$K12)<>"",NOT(IF($K12="","",$K12)="A melhorar")),INDEX(DADOS!$C:$C,(48+MATCH(IF($K12="","",$K12),DADOS!$E$6:$E$9,0)-1)),"")),", ","")))/2)=0,_xlfn.TEXTJOIN(", ",TRUE(),IF(AND(IF($I12="","",$I12)<>"",NOT(IF($I12="","",$I12)="Reduzido")),INDEX(DADOS!$C:$C,(36+MATCH(IF($I12="","",$I12),DADOS!$C$6:$C$9,0)-1)),""),IF(AND(IF($J12="","",$J12)<>"",NOT(IF($J12="","",$J12)="Reduzida")),INDEX(DADOS!$C:$C,(42+MATCH(IF($J12="","",$J12),DADOS!$D$6:$D$9,0)-1)),""),IF(AND(IF($K12="","",$K12)<>"",NOT(IF($K12="","",$K12)="A melhorar")),INDEX(DADOS!$C:$C,(48+MATCH(IF($K12="","",$K12),DADOS!$E$6:$E$9,0)-1)),"")),SUBSTITUTE(_xlfn.TEXTJOIN(", ",TRUE(),IF(AND(IF($I12="","",$I12)<>"",NOT(IF($I12="","",$I12)="Reduzido")),INDEX(DADOS!$C:$C,(36+MATCH(IF($I12="","",$I12),DADOS!$C$6:$C$9,0)-1)),""),IF(AND(IF($J12="","",$J12)<>"",NOT(IF($J12="","",$J12)="Reduzida")),INDEX(DADOS!$C:$C,(42+MATCH(IF($J12="","",$J12),DADOS!$D$6:$D$9,0)-1)),""),IF(AND(IF($K12="","",$K12)<>"",NOT(IF($K12="","",$K12)="A melhorar")),INDEX(DADOS!$C:$C,(48+MATCH(IF($K12="","",$K12),DADOS!$E$6:$E$9,0)-1)),"")),", "," e ",((LEN(_xlfn.TEXTJOIN(", ",TRUE(),IF(AND(IF($I12="","",$I12)<>"",NOT(IF($I12="","",$I12)="Reduzido")),INDEX(DADOS!$C:$C,(36+MATCH(IF($I12="","",$I12),DADOS!$C$6:$C$9,0)-1)),""),IF(AND(IF($J12="","",$J12)<>"",NOT(IF($J12="","",$J12)="Reduzida")),INDEX(DADOS!$C:$C,(42+MATCH(IF($J12="","",$J12),DADOS!$D$6:$D$9,0)-1)),""),IF(AND(IF($K12="","",$K12)<>"",NOT(IF($K12="","",$K12)="A melhorar")),INDEX(DADOS!$C:$C,(48+MATCH(IF($K12="","",$K12),DADOS!$E$6:$E$9,0)-1)),"")))-LEN(SUBSTITUTE(_xlfn.TEXTJOIN(", ",TRUE(),IF(AND(IF($I12="","",$I12)<>"",NOT(IF($I12="","",$I12)="Reduzido")),INDEX(DADOS!$C:$C,(36+MATCH(IF($I12="","",$I12),DADOS!$C$6:$C$9,0)-1)),""),IF(AND(IF($J12="","",$J12)<>"",NOT(IF($J12="","",$J12)="Reduzida")),INDEX(DADOS!$C:$C,(42+MATCH(IF($J12="","",$J12),DADOS!$D$6:$D$9,0)-1)),""),IF(AND(IF($K12="","",$K12)<>"",NOT(IF($K12="","",$K12)="A melhorar")),INDEX(DADOS!$C:$C,(48+MATCH(IF($K12="","",$K12),DADOS!$E$6:$E$9,0)-1)),"")),", ","")))/2))) | S12: =IF(((LEN(_xlfn.TEXTJOIN(", ",TRUE(),IF(AND(IF($I12="","",$I12)<>"",IF($I12="","",$I12)="Reduzido"),INDEX(DADOS!$C:$C,(36+MATCH(IF($I12="","",$I12),DADOS!$C$6:$C$9,0)-1)),""),IF(AND(IF($J12="","",$J12)<>"",IF($J12="","",$J12)="Reduzida"),INDEX(DADOS!$C:$C,(42+MATCH(IF($J12="","",$J12),DADOS!$D$6:$D$9,0)-1)),""),IF(AND(IF($K12="","",$K12)<>"",IF($K12="","",$K12)="A melhorar"),INDEX(DADOS!$C:$C,(48+MATCH(IF($K12="","",$K12),DADOS!$E$6:$E$9,0)-1)),"")))-LEN(SUBSTITUTE(_xlfn.TEXTJOIN(", ",TRUE(),IF(AND(IF($I12="","",$I12)<>"",IF($I12="","",$I12)="Reduzido"),INDEX(DADOS!$C:$C,(36+MATCH(IF($I12="","",$I12),DADOS!$C$6:$C$9,0)-1)),""),IF(AND(IF($J12="","",$J12)<>"",IF($J12="","",$J12)="Reduzida"),INDEX(DADOS!$C:$C,(42+MATCH(IF($J12="","",$J12),DADOS!$D$6:$D$9,0)-1)),""),IF(AND(IF($K12="","",$K12)<>"",IF($K12="","",$K12)="A melhorar"),INDEX(DADOS!$C:$C,(48+MATCH(IF($K12="","",$K12),DADOS!$E$6:$E$9,0)-1)),"")),", ","")))/2)=0,_xlfn.TEXTJOIN(", ",TRUE(),IF(AND(IF($I12="","",$I12)<>"",IF($I12="","",$I12)="Reduzido"),INDEX(DADOS!$C:$C,(36+MATCH(IF($I12="","",$I12),DADOS!$C$6:$C$9,0)-1)),""),IF(AND(IF($J12="","",$J12)<>"",IF($J12="","",$J12)="Reduzida"),INDEX(DADOS!$C:$C,(42+MATCH(IF($J12="","",$J12),DADOS!$D$6:$D$9,0)-1)),""),IF(AND(IF($K12="","",$K12)<>"",IF($K12="","",$K12)="A melhorar"),INDEX(DADOS!$C:$C,(48+MATCH(IF($K12="","",$K12),DADOS!$E$6:$E$9,0)-1)),"")),SUBSTITUTE(_xlfn.TEXTJOIN(", ",TRUE(),IF(AND(IF($I12="","",$I12)<>"",IF($I12="","",$I12)="Reduzido"),INDEX(DADOS!$C:$C,(36+MATCH(IF($I12="","",$I12),DADOS!$C$6:$C$9,0)-1)),""),IF(AND(IF($J12="","",$J12)<>"",IF($J12="","",$J12)="Reduzida"),INDEX(DADOS!$C:$C,(42+MATCH(IF($J12="","",$J12),DADOS!$D$6:$D$9,0)-1)),""),IF(AND(IF($K12="","",$K12)<>"",IF($K12="","",$K12)="A melhorar"),INDEX(DADOS!$C:$C,(48+MATCH(IF($K12="","",$K12),DADOS!$E$6:$E$9,0)-1)),"")),", "," e ",((LEN(_xlfn.TEXTJOIN(", ",TRUE(),IF(AND(IF($I12="","",$I12)<>"",IF($I12="","",$I12)="Reduzido"),INDEX(DADOS!$C:$C,(36+MATCH(IF($I12="","",$I12),DADOS!$C$6:$C$9,0)-1)),""),IF(AND(IF($J12="","",$J12)<>"",IF($J12="","",$J12)="Reduzida"),INDEX(DADOS!$C:$C,(42+MATCH(IF($J12="","",$J12),DADOS!$D$6:$D$9,0)-1)),""),IF(AND(IF($K12="","",$K12)<>"",IF($K12="","",$K12)="A melhorar"),INDEX(DADOS!$C:$C,(48+MATCH(IF($K12="","",$K12),DADOS!$E$6:$E$9,0)-1)),"")))-LEN(SUBSTITUTE(_xlfn.TEXTJOIN(", ",TRUE(),IF(AND(IF($I12="","",$I12)<>"",IF($I12="","",$I12)="Reduzido"),INDEX(DADOS!$C:$C,(36+MATCH(IF($I12="","",$I12),DADOS!$C$6:$C$9,0)-1)),""),IF(AND(IF($J12="","",$J12)<>"",IF($J12="","",$J12)="Reduzida"),INDEX(DADOS!$C:$C,(42+MATCH(IF($J12="","",$J12),DADOS!$D$6:$D$9,0)-1)),""),IF(AND(IF($K12="","",$K12)<>"",IF($K12="","",$K12)="A melhorar"),INDEX(DADOS!$C:$C,(48+MATCH(IF($K12="","",$K12),DADOS!$E$6:$E$9,0)-1)),"")),", ","")))/2))) | T12: =IF(AND($R12="",$S12=""),"",IF($S12="",INDEX(DADOS!$B:$B,(MOD(ROW()+3,3)+67))&$R12&INDEX(DADOS!$C:$C,(MOD(ROW()+3,3)+67)),IF($R12="",INDEX(DADOS!$B:$B,(MOD(ROW()+3,3)+72))&$S12&INDEX(DADOS!$C:$C,(MOD(ROW()+3,3)+72)),INDEX(DADOS!$B:$B,(MOD(ROW()+3,3)+77))&$R12&INDEX(DADOS!$C:$C,(MOD(ROW()+3,3)+77))&$S12&INDEX(DADOS!$D:$D,(MOD(ROW()+3,3)+77))))) | U12: =IF(((LEN(_xlfn.TEXTJOIN(", ",TRUE(),IF(AND(IF($L12="","",$L12)<>"",NOT(IF($L12="","",$L12)="Regrediu")),INDEX(DADOS!$C:$C,(54+MATCH(IF($L12="","",$L12),DADOS!$F$6:$F$9,0)-1)),""),IF(AND(IF($M12="","",$M12)<>"",NOT(IF($M12="","",$M12)="Irregular")),INDEX(DADOS!$C:$C,(60+MATCH(IF($M12="","",$M12),DADOS!$G$6:$G$9,0)-1)),"")))-LEN(SUBSTITUTE(_xlfn.TEXTJOIN(", ",TRUE(),IF(AND(IF($L12="","",$L12)<>"",NOT(IF($L12="","",$L12)="Regrediu")),INDEX(DADOS!$C:$C,(54+MATCH(IF($L12="","",$L12),DADOS!$F$6:$F$9,0)-1)),""),IF(AND(IF($M12="","",$M12)<>"",NOT(IF($M12="","",$M12)="Irregular")),INDEX(DADOS!$C:$C,(60+MATCH(IF($M12="","",$M12),DADOS!$G$6:$G$9,0)-1)),"")),", ","")))/2)=0,_xlfn.TEXTJOIN(", ",TRUE(),IF(AND(IF($L12="","",$L12)<>"",NOT(IF($L12="","",$L12)="Regrediu")),INDEX(DADOS!$C:$C,(54+MATCH(IF($L12="","",$L12),DADOS!$F$6:$F$9,0)-1)),""),IF(AND(IF($M12="","",$M12)<>"",NOT(IF($M12="","",$M12)="Irregular")),INDEX(DADOS!$C:$C,(60+MATCH(IF($M12="","",$M12),DADOS!$G$6:$G$9,0)-1)),"")),SUBSTITUTE(_xlfn.TEXTJOIN(", ",TRUE(),IF(AND(IF($L12="","",$L12)<>"",NOT(IF($L12="","",$L12)="Regrediu")),INDEX(DADOS!$C:$C,(54+MATCH(IF($L12="","",$L12),DADOS!$F$6:$F$9,0)-1)),""),IF(AND(IF($M12="","",$M12)<>"",NOT(IF($M12="","",$M12)="Irregular")),INDEX(DADOS!$C:$C,(60+MATCH(IF($M12="","",$M12),DADOS!$G$6:$G$9,0)-1)),"")),", "," e ",((LEN(_xlfn.TEXTJOIN(", ",TRUE(),IF(AND(IF($L12="","",$L12)<>"",NOT(IF($L12="","",$L12)="Regrediu")),INDEX(DADOS!$C:$C,(54+MATCH(IF($L12="","",$L12),DADOS!$F$6:$F$9,0)-1)),""),IF(AND(IF($M12="","",$M12)<>"",NOT(IF($M12="","",$M12)="Irregular")),INDEX(DADOS!$C:$C,(60+MATCH(IF($M12="","",$M12),DADOS!$G$6:$G$9,0)-1)),"")))-LEN(SUBSTITUTE(_xlfn.TEXTJOIN(", ",TRUE(),IF(AND(IF($L12="","",$L12)<>"",NOT(IF($L12="","",$L12)="Regrediu")),INDEX(DADOS!$C:$C,(54+MATCH(IF($L12="","",$L12),DADOS!$F$6:$F$9,0)-1)),""),IF(AND(IF($M12="","",$M12)<>"",NOT(IF($M12="","",$M12)="Irregular")),INDEX(DADOS!$C:$C,(60+MATCH(IF($M12="","",$M12),DADOS!$G$6:$G$9,0)-1)),"")),", ","")))/2))) | V12: =IF(((LEN(_xlfn.TEXTJOIN(", ",TRUE(),IF(AND(IF($L12="","",$L12)<>"",IF($L12="","",$L12)="Regrediu"),INDEX(DADOS!$C:$C,(54+MATCH(IF($L12="","",$L12),DADOS!$F$6:$F$9,0)-1)),""),IF(AND(IF($M12="","",$M12)<>"",IF($M12="","",$M12)="Irregular"),INDEX(DADOS!$C:$C,(60+MATCH(IF($M12="","",$M12),DADOS!$G$6:$G$9,0)-1)),"")))-LEN(SUBSTITUTE(_xlfn.TEXTJOIN(", ",TRUE(),IF(AND(IF($L12="","",$L12)<>"",IF($L12="","",$L12)="Regrediu"),INDEX(DADOS!$C:$C,(54+MATCH(IF($L12="","",$L12),DADOS!$F$6:$F$9,0)-1)),""),IF(AND(IF($M12="","",$M12)<>"",IF($M12="","",$M12)="Irregular"),INDEX(DADOS!$C:$C,(60+MATCH(IF($M12="","",$M12),DADOS!$G$6:$G$9,0)-1)),"")),", ","")))/2)=0,_xlfn.TEXTJOIN(", ",TRUE(),IF(AND(IF($L12="","",$L12)<>"",IF($L12="","",$L12)="Regrediu"),INDEX(DADOS!$C:$C,(54+MATCH(IF($L12="","",$L12),DADOS!$F$6:$F$9,0)-1)),""),IF(AND(IF($M12="","",$M12)<>"",IF($M12="","",$M12)="Irregular"),INDEX(DADOS!$C:$C,(60+MATCH(IF($M12="","",$M12),DADOS!$G$6:$G$9,0)-1)),"")),SUBSTITUTE(_xlfn.TEXTJOIN(", ",TRUE(),IF(AND(IF($L12="","",$L12)<>"",IF($L12="","",$L12)="Regrediu"),INDEX(DADOS!$C:$C,(54+MATCH(IF($L12="","",$L12),DADOS!$F$6:$F$9,0)-1)),""),IF(AND(IF($M12="","",$M12)<>"",IF($M12="","",$M12)="Irregular"),INDEX(DADOS!$C:$C,(60+MATCH(IF($M12="","",$M12),DADOS!$G$6:$G$9,0)-1)),"")),", "," e ",((LEN(_xlfn.TEXTJOIN(", ",TRUE(),IF(AND(IF($L12="","",$L12)<>"",IF($L12="","",$L12)="Regrediu"),INDEX(DADOS!$C:$C,(54+MATCH(IF($L12="","",$L12),DADOS!$F$6:$F$9,0)-1)),""),IF(AND(IF($M12="","",$M12)<>"",IF($M12="","",$M12)="Irregular"),INDEX(DADOS!$C:$C,(60+MATCH(IF($M12="","",$M12),DADOS!$G$6:$G$9,0)-1)),"")))-LEN(SUBSTITUTE(_xlfn.TEXTJOIN(", ",TRUE(),IF(AND(IF($L12="","",$L12)<>"",IF($L12="","",$L12)="Regrediu"),INDEX(DADOS!$C:$C,(54+MATCH(IF($L12="","",$L12),DADOS!$F$6:$F$9,0)-1)),""),IF(AND(IF($M12="","",$M12)<>"",IF($M12="","",$M12)="Irregular"),INDEX(DADOS!$C:$C,(60+MATCH(IF($M12="","",$M12),DADOS!$G$6:$G$9,0)-1)),"")),", ","")))/2))) | W12: =IF(AND($U12="",$V12=""),"",IF($V12="",INDEX(DADOS!$B:$B,(MOD(ROW()+7,3)+83))&$U12&INDEX(DADOS!$C:$C,(MOD(ROW()+7,3)+83)),IF($U12="",INDEX(DADOS!$B:$B,(MOD(ROW()+7,3)+88))&$V12&INDEX(DADOS!$C:$C,(MOD(ROW()+7,3)+88)),INDEX(DADOS!$B:$B,(MOD(ROW()+7,3)+93))&$U12&INDEX(DADOS!$C:$C,(MOD(ROW()+7,3)+93))&$V12&INDEX(DADOS!$D:$D,(MOD(ROW()+7,3)+93))))) | X12: =--(OR(IF($H12="","",$H12)="Insuficiente",IF($H12="","",$H12)="Suficiente"))+--(IF($I12="","",$I12)="Reduzido")+--(IF($J12="","",$J12)="Reduzida")+--(IF($K12="","",$K12)="A melhorar")+--(IF($L12="","",$L12)="Regrediu")+--(IF($M12="","",$M12)="Irregular") -> 0 | Y12: =IF(OR(IF($H12="","",$H12)="Insuficiente",IF($H12="","",$H12)="Suficiente"),1,IF(IF($I12="","",$I12)="Reduzido",2,IF(IF($J12="","",$J12)="Reduzida",3,IF(IF($K12="","",$K12)="A melhorar",4,IF(IF($L12="","",$L12)="Regrediu",5,IF(IF($M12="","",$M12)="Irregular",6,0)))))) -> 0 | Z12: =IF(((LEN(_xlfn.TEXTJOIN(", ",TRUE(),IF(OR(IF($H12="","",$H12)="Insuficiente",IF($H12="","",$H12)="Suficiente"),"o aproveitamento",""),IF(IF($I12="","",$I12)="Reduzido","o empenho",""),IF(IF($J12="","",$J12)="Reduzida","a participação",""),IF(IF($K12="","",$K12)="A melhorar","o comportamento",""),IF(IF($L12="","",$L12)="Regrediu","a evolução",""),IF(IF($M12="","",$M12)="Irregular","a assiduidade","")))-LEN(SUBSTITUTE(_xlfn.TEXTJOIN(", ",TRUE(),IF(OR(IF($H12="","",$H12)="Insuficiente",IF($H12="","",$H12)="Suficiente"),"o aproveitamento",""),IF(IF($I12="","",$I12)="Reduzido","o empenho",""),IF(IF($J12="","",$J12)="Reduzida","a participação",""),IF(IF($K12="","",$K12)="A melhorar","o comportamento",""),IF(IF($L12="","",$L12)="Regrediu","a evolução",""),IF(IF($M12="","",$M12)="Irregular","a assiduidade","")),", ","")))/2)=0,_xlfn.TEXTJOIN(", ",TRUE(),IF(OR(IF($H12="","",$H12)="Insuficiente",IF($H12="","",$H12)="Suficiente"),"o aproveitamento",""),IF(IF($I12="","",$I12)="Reduzido","o empenho",""),IF(IF($J12="","",$J12)="Reduzida","a participação",""),IF(IF($K12="","",$K12)="A melhorar","o comportamento",""),IF(IF($L12="","",$L12)="Regrediu","a evolução",""),IF(IF($M12="","",$M12)="Irregular","a assiduidade","")),SUBSTITUTE(_xlfn.TEXTJOIN(", ",TRUE(),IF(OR(IF($H12="","",$H12)="Insuficiente",IF($H12="","",$H12)="Suficiente"),"o aproveitamento",""),IF(IF($I12="","",$I12)="Reduzido","o empenho",""),IF(IF($J12="","",$J12)="Reduzida","a participação",""),IF(IF($K12="","",$K12)="A melhorar","o comportamento",""),IF(IF($L12="","",$L12)="Regrediu","a evolução",""),IF(IF($M12="","",$M12)="Irregular","a assiduidade","")),", "," e ",((LEN(_xlfn.TEXTJOIN(", ",TRUE(),IF(OR(IF($H12="","",$H12)="Insuficiente",IF($H12="","",$H12)="Suficiente"),"o aproveitamento",""),IF(IF($I12="","",$I12)="Reduzido","o empenho",""),IF(IF($J12="","",$J12)="Reduzida","a participação",""),IF(IF($K12="","",$K12)="A melhorar","o comportamento",""),IF(IF($L12="","",$L12)="Regrediu","a evolução",""),IF(IF($M12="","",$M12)="Irregular","a assiduidade","")))-LEN(SUBSTITUTE(_xlfn.TEXTJOIN(", ",TRUE(),IF(OR(IF($H12="","",$H12)="Insuficiente",IF($H12="","",$H12)="Suficiente"),"o aproveitamento",""),IF(IF($I12="","",$I12)="Reduzido","o empenho",""),IF(IF($J12="","",$J12)="Reduzida","a participação",""),IF(IF($K12="","",$K12)="A melhorar","o comportamento",""),IF(IF($L12="","",$L12)="Regrediu","a evolução",""),IF(IF($M12="","",$M12)="Irregular","a assiduidade","")),", ","")))/2))) | AA12: =IF(OR(IF($H12="","",$H12)<>"",IF($I12="","",$I12)<>"",IF($J12="","",$J12)<>"",IF($K12="","",$K12)<>"",IF($L12="","",$L12)<>"",IF($M12="","",$M12)<>""),IF($X12=0,INDEX(DADOS!$B:$B,(MOD(ROW()+17+0,5)+99)),IF($X12=1,CHOOSE($Y12,INDEX(DADOS!$B:$B,(MOD(ROW()+17+0,3)+106)),INDEX(DADOS!$C:$C,(MOD(ROW()+17+0,3)+106)),INDEX(DADOS!$D:$D,(MOD(ROW()+17+0,3)+106)),INDEX(DADOS!$E:$E,(MOD(ROW()+17+0,3)+106)),INDEX(DADOS!$F:$F,(MOD(ROW()+17+0,3)+106)),INDEX(DADOS!$G:$G,(MOD(ROW()+17+0,3)+106))),INDEX(DADOS!$B:$B,(MOD(ROW()+17,3)+111))&$Z12&INDEX(DADOS!$C:$C,(MOD(ROW()+17,3)+111)))),"") | AB12: =INDEX(DADOS!$B:$B,(MOD(ROW()+19,5)+116)) -> De salientar também: | AC12: =SUBTOTAL(103,$G$8:G12) -> 5 | AD12: =IF($G12="","",C12&"|"&D12&"|"&E12&"|"&$G12) -> 8.º A|Matemática|2.º Período|João Costa
B13: =IF(BASE!B4="","",BASE!B4) -> 2026/2027 | C13: =IF(BASE!C7="","",BASE!C7) -> 8.º A | D13: =IF(BASE!F8="","",BASE!F8) -> Matemática | E13: 2.º Período | F13: 3 | G13: =IF(BASE!$C$10="","",BASE!$C$10) -> Beatriz Nunes | O13: =IF($G13="","",IF(AND(NOT(OR(IF($H13="","",$H13)<>"",IF($I13="","",$I13)<>"",IF($J13="","",$J13)<>"",IF($K13="","",$K13)<>"",IF($L13="","",$L13)<>"",IF($M13="","",$M13)<>"")),IF($N13="","",$N13)=""),"— Ainda sem critérios preenchidos. —",_xlfn.TEXTJOIN(" ",TRUE(),$Q13,$T13,$W13,$AA13,IF(IF($N13="","",$N13)<>"",$AB13&" "&IF($N13="","",$N13),"")))) -> — Ainda sem critérios preenchidos. — | Q13: =IF(OR(IF($H13="","",$H13)<>"",IF($I13="","",$I13)<>"",IF($J13="","",$J13)<>"",IF($K13="","",$K13)<>"",IF($L13="","",$L13)<>"",IF($M13="","",$M13)<>""),INDEX(DADOS!$C:$C,(15+(MATCH(IF($H13="","(sem aproveitamento)",$H13),DADOS!$I$6:$I$11,0)-1)*3+MOD(ROW()+1,3))),"") | R13: =IF(((LEN(_xlfn.TEXTJOIN(", ",TRUE(),IF(AND(IF($I13="","",$I13)<>"",NOT(IF($I13="","",$I13)="Reduzido")),INDEX(DADOS!$C:$C,(36+MATCH(IF($I13="","",$I13),DADOS!$C$6:$C$9,0)-1)),""),IF(AND(IF($J13="","",$J13)<>"",NOT(IF($J13="","",$J13)="Reduzida")),INDEX(DADOS!$C:$C,(42+MATCH(IF($J13="","",$J13),DADOS!$D$6:$D$9,0)-1)),""),IF(AND(IF($K13="","",$K13)<>"",NOT(IF($K13="","",$K13)="A melhorar")),INDEX(DADOS!$C:$C,(48+MATCH(IF($K13="","",$K13),DADOS!$E$6:$E$9,0)-1)),"")))-LEN(SUBSTITUTE(_xlfn.TEXTJOIN(", ",TRUE(),IF(AND(IF($I13="","",$I13)<>"",NOT(IF($I13="","",$I13)="Reduzido")),INDEX(DADOS!$C:$C,(36+MATCH(IF($I13="","",$I13),DADOS!$C$6:$C$9,0)-1)),""),IF(AND(IF($J13="","",$J13)<>"",NOT(IF($J13="","",$J13)="Reduzida")),INDEX(DADOS!$C:$C,(42+MATCH(IF($J13="","",$J13),DADOS!$D$6:$D$9,0)-1)),""),IF(AND(IF($K13="","",$K13)<>"",NOT(IF($K13="","",$K13)="A melhorar")),INDEX(DADOS!$C:$C,(48+MATCH(IF($K13="","",$K13),DADOS!$E$6:$E$9,0)-1)),"")),", ","")))/2)=0,_xlfn.TEXTJOIN(", ",TRUE(),IF(AND(IF($I13="","",$I13)<>"",NOT(IF($I13="","",$I13)="Reduzido")),INDEX(DADOS!$C:$C,(36+MATCH(IF($I13="","",$I13),DADOS!$C$6:$C$9,0)-1)),""),IF(AND(IF($J13="","",$J13)<>"",NOT(IF($J13="","",$J13)="Reduzida")),INDEX(DADOS!$C:$C,(42+MATCH(IF($J13="","",$J13),DADOS!$D$6:$D$9,0)-1)),""),IF(AND(IF($K13="","",$K13)<>"",NOT(IF($K13="","",$K13)="A melhorar")),INDEX(DADOS!$C:$C,(48+MATCH(IF($K13="","",$K13),DADOS!$E$6:$E$9,0)-1)),"")),SUBSTITUTE(_xlfn.TEXTJOIN(", ",TRUE(),IF(AND(IF($I13="","",$I13)<>"",NOT(IF($I13="","",$I13)="Reduzido")),INDEX(DADOS!$C:$C,(36+MATCH(IF($I13="","",$I13),DADOS!$C$6:$C$9,0)-1)),""),IF(AND(IF($J13="","",$J13)<>"",NOT(IF($J13="","",$J13)="Reduzida")),INDEX(DADOS!$C:$C,(42+MATCH(IF($J13="","",$J13),DADOS!$D$6:$D$9,0)-1)),""),IF(AND(IF($K13="","",$K13)<>"",NOT(IF($K13="","",$K13)="A melhorar")),INDEX(DADOS!$C:$C,(48+MATCH(IF($K13="","",$K13),DADOS!$E$6:$E$9,0)-1)),"")),", "," e ",((LEN(_xlfn.TEXTJOIN(", ",TRUE(),IF(AND(IF($I13="","",$I13)<>"",NOT(IF($I13="","",$I13)="Reduzido")),INDEX(DADOS!$C:$C,(36+MATCH(IF($I13="","",$I13),DADOS!$C$6:$C$9,0)-1)),""),IF(AND(IF($J13="","",$J13)<>"",NOT(IF($J13="","",$J13)="Reduzida")),INDEX(DADOS!$C:$C,(42+MATCH(IF($J13="","",$J13),DADOS!$D$6:$D$9,0)-1)),""),IF(AND(IF($K13="","",$K13)<>"",NOT(IF($K13="","",$K13)="A melhorar")),INDEX(DADOS!$C:$C,(48+MATCH(IF($K13="","",$K13),DADOS!$E$6:$E$9,0)-1)),"")))-LEN(SUBSTITUTE(_xlfn.TEXTJOIN(", ",TRUE(),IF(AND(IF($I13="","",$I13)<>"",NOT(IF($I13="","",$I13)="Reduzido")),INDEX(DADOS!$C:$C,(36+MATCH(IF($I13="","",$I13),DADOS!$C$6:$C$9,0)-1)),""),IF(AND(IF($J13="","",$J13)<>"",NOT(IF($J13="","",$J13)="Reduzida")),INDEX(DADOS!$C:$C,(42+MATCH(IF($J13="","",$J13),DADOS!$D$6:$D$9,0)-1)),""),IF(AND(IF($K13="","",$K13)<>"",NOT(IF($K13="","",$K13)="A melhorar")),INDEX(DADOS!$C:$C,(48+MATCH(IF($K13="","",$K13),DADOS!$E$6:$E$9,0)-1)),"")),", ","")))/2))) | S13: =IF(((LEN(_xlfn.TEXTJOIN(", ",TRUE(),IF(AND(IF($I13="","",$I13)<>"",IF($I13="","",$I13)="Reduzido"),INDEX(DADOS!$C:$C,(36+MATCH(IF($I13="","",$I13),DADOS!$C$6:$C$9,0)-1)),""),IF(AND(IF($J13="","",$J13)<>"",IF($J13="","",$J13)="Reduzida"),INDEX(DADOS!$C:$C,(42+MATCH(IF($J13="","",$J13),DADOS!$D$6:$D$9,0)-1)),""),IF(AND(IF($K13="","",$K13)<>"",IF($K13="","",$K13)="A melhorar"),INDEX(DADOS!$C:$C,(48+MATCH(IF($K13="","",$K13),DADOS!$E$6:$E$9,0)-1)),"")))-LEN(SUBSTITUTE(_xlfn.TEXTJOIN(", ",TRUE(),IF(AND(IF($I13="","",$I13)<>"",IF($I13="","",$I13)="Reduzido"),INDEX(DADOS!$C:$C,(36+MATCH(IF($I13="","",$I13),DADOS!$C$6:$C$9,0)-1)),""),IF(AND(IF($J13="","",$J13)<>"",IF($J13="","",$J13)="Reduzida"),INDEX(DADOS!$C:$C,(42+MATCH(IF($J13="","",$J13),DADOS!$D$6:$D$9,0)-1)),""),IF(AND(IF($K13="","",$K13)<>"",IF($K13="","",$K13)="A melhorar"),INDEX(DADOS!$C:$C,(48+MATCH(IF($K13="","",$K13),DADOS!$E$6:$E$9,0)-1)),"")),", ","")))/2)=0,_xlfn.TEXTJOIN(", ",TRUE(),IF(AND(IF($I13="","",$I13)<>"",IF($I13="","",$I13)="Reduzido"),INDEX(DADOS!$C:$C,(36+MATCH(IF($I13="","",$I13),DADOS!$C$6:$C$9,0)-1)),""),IF(AND(IF($J13="","",$J13)<>"",IF($J13="","",$J13)="Reduzida"),INDEX(DADOS!$C:$C,(42+MATCH(IF($J13="","",$J13),DADOS!$D$6:$D$9,0)-1)),""),IF(AND(IF($K13="","",$K13)<>"",IF($K13="","",$K13)="A melhorar"),INDEX(DADOS!$C:$C,(48+MATCH(IF($K13="","",$K13),DADOS!$E$6:$E$9,0)-1)),"")),SUBSTITUTE(_xlfn.TEXTJOIN(", ",TRUE(),IF(AND(IF($I13="","",$I13)<>"",IF($I13="","",$I13)="Reduzido"),INDEX(DADOS!$C:$C,(36+MATCH(IF($I13="","",$I13),DADOS!$C$6:$C$9,0)-1)),""),IF(AND(IF($J13="","",$J13)<>"",IF($J13="","",$J13)="Reduzida"),INDEX(DADOS!$C:$C,(42+MATCH(IF($J13="","",$J13),DADOS!$D$6:$D$9,0)-1)),""),IF(AND(IF($K13="","",$K13)<>"",IF($K13="","",$K13)="A melhorar"),INDEX(DADOS!$C:$C,(48+MATCH(IF($K13="","",$K13),DADOS!$E$6:$E$9,0)-1)),"")),", "," e ",((LEN(_xlfn.TEXTJOIN(", ",TRUE(),IF(AND(IF($I13="","",$I13)<>"",IF($I13="","",$I13)="Reduzido"),INDEX(DADOS!$C:$C,(36+MATCH(IF($I13="","",$I13),DADOS!$C$6:$C$9,0)-1)),""),IF(AND(IF($J13="","",$J13)<>"",IF($J13="","",$J13)="Reduzida"),INDEX(DADOS!$C:$C,(42+MATCH(IF($J13="","",$J13),DADOS!$D$6:$D$9,0)-1)),""),IF(AND(IF($K13="","",$K13)<>"",IF($K13="","",$K13)="A melhorar"),INDEX(DADOS!$C:$C,(48+MATCH(IF($K13="","",$K13),DADOS!$E$6:$E$9,0)-1)),"")))-LEN(SUBSTITUTE(_xlfn.TEXTJOIN(", ",TRUE(),IF(AND(IF($I13="","",$I13)<>"",IF($I13="","",$I13)="Reduzido"),INDEX(DADOS!$C:$C,(36+MATCH(IF($I13="","",$I13),DADOS!$C$6:$C$9,0)-1)),""),IF(AND(IF($J13="","",$J13)<>"",IF($J13="","",$J13)="Reduzida"),INDEX(DADOS!$C:$C,(42+MATCH(IF($J13="","",$J13),DADOS!$D$6:$D$9,0)-1)),""),IF(AND(IF($K13="","",$K13)<>"",IF($K13="","",$K13)="A melhorar"),INDEX(DADOS!$C:$C,(48+MATCH(IF($K13="","",$K13),DADOS!$E$6:$E$9,0)-1)),"")),", ","")))/2))) | T13: =IF(AND($R13="",$S13=""),"",IF($S13="",INDEX(DADOS!$B:$B,(MOD(ROW()+3,3)+67))&$R13&INDEX(DADOS!$C:$C,(MOD(ROW()+3,3)+67)),IF($R13="",INDEX(DADOS!$B:$B,(MOD(ROW()+3,3)+72))&$S13&INDEX(DADOS!$C:$C,(MOD(ROW()+3,3)+72)),INDEX(DADOS!$B:$B,(MOD(ROW()+3,3)+77))&$R13&INDEX(DADOS!$C:$C,(MOD(ROW()+3,3)+77))&$S13&INDEX(DADOS!$D:$D,(MOD(ROW()+3,3)+77))))) | U13: =IF(((LEN(_xlfn.TEXTJOIN(", ",TRUE(),IF(AND(IF($L13="","",$L13)<>"",NOT(IF($L13="","",$L13)="Regrediu")),INDEX(DADOS!$C:$C,(54+MATCH(IF($L13="","",$L13),DADOS!$F$6:$F$9,0)-1)),""),IF(AND(IF($M13="","",$M13)<>"",NOT(IF($M13="","",$M13)="Irregular")),INDEX(DADOS!$C:$C,(60+MATCH(IF($M13="","",$M13),DADOS!$G$6:$G$9,0)-1)),"")))-LEN(SUBSTITUTE(_xlfn.TEXTJOIN(", ",TRUE(),IF(AND(IF($L13="","",$L13)<>"",NOT(IF($L13="","",$L13)="Regrediu")),INDEX(DADOS!$C:$C,(54+MATCH(IF($L13="","",$L13),DADOS!$F$6:$F$9,0)-1)),""),IF(AND(IF($M13="","",$M13)<>"",NOT(IF($M13="","",$M13)="Irregular")),INDEX(DADOS!$C:$C,(60+MATCH(IF($M13="","",$M13),DADOS!$G$6:$G$9,0)-1)),"")),", ","")))/2)=0,_xlfn.TEXTJOIN(", ",TRUE(),IF(AND(IF($L13="","",$L13)<>"",NOT(IF($L13="","",$L13)="Regrediu")),INDEX(DADOS!$C:$C,(54+MATCH(IF($L13="","",$L13),DADOS!$F$6:$F$9,0)-1)),""),IF(AND(IF($M13="","",$M13)<>"",NOT(IF($M13="","",$M13)="Irregular")),INDEX(DADOS!$C:$C,(60+MATCH(IF($M13="","",$M13),DADOS!$G$6:$G$9,0)-1)),"")),SUBSTITUTE(_xlfn.TEXTJOIN(", ",TRUE(),IF(AND(IF($L13="","",$L13)<>"",NOT(IF($L13="","",$L13)="Regrediu")),INDEX(DADOS!$C:$C,(54+MATCH(IF($L13="","",$L13),DADOS!$F$6:$F$9,0)-1)),""),IF(AND(IF($M13="","",$M13)<>"",NOT(IF($M13="","",$M13)="Irregular")),INDEX(DADOS!$C:$C,(60+MATCH(IF($M13="","",$M13),DADOS!$G$6:$G$9,0)-1)),"")),", "," e ",((LEN(_xlfn.TEXTJOIN(", ",TRUE(),IF(AND(IF($L13="","",$L13)<>"",NOT(IF($L13="","",$L13)="Regrediu")),INDEX(DADOS!$C:$C,(54+MATCH(IF($L13="","",$L13),DADOS!$F$6:$F$9,0)-1)),""),IF(AND(IF($M13="","",$M13)<>"",NOT(IF($M13="","",$M13)="Irregular")),INDEX(DADOS!$C:$C,(60+MATCH(IF($M13="","",$M13),DADOS!$G$6:$G$9,0)-1)),"")))-LEN(SUBSTITUTE(_xlfn.TEXTJOIN(", ",TRUE(),IF(AND(IF($L13="","",$L13)<>"",NOT(IF($L13="","",$L13)="Regrediu")),INDEX(DADOS!$C:$C,(54+MATCH(IF($L13="","",$L13),DADOS!$F$6:$F$9,0)-1)),""),IF(AND(IF($M13="","",$M13)<>"",NOT(IF($M13="","",$M13)="Irregular")),INDEX(DADOS!$C:$C,(60+MATCH(IF($M13="","",$M13),DADOS!$G$6:$G$9,0)-1)),"")),", ","")))/2))) | V13: =IF(((LEN(_xlfn.TEXTJOIN(", ",TRUE(),IF(AND(IF($L13="","",$L13)<>"",IF($L13="","",$L13)="Regrediu"),INDEX(DADOS!$C:$C,(54+MATCH(IF($L13="","",$L13),DADOS!$F$6:$F$9,0)-1)),""),IF(AND(IF($M13="","",$M13)<>"",IF($M13="","",$M13)="Irregular"),INDEX(DADOS!$C:$C,(60+MATCH(IF($M13="","",$M13),DADOS!$G$6:$G$9,0)-1)),"")))-LEN(SUBSTITUTE(_xlfn.TEXTJOIN(", ",TRUE(),IF(AND(IF($L13="","",$L13)<>"",IF($L13="","",$L13)="Regrediu"),INDEX(DADOS!$C:$C,(54+MATCH(IF($L13="","",$L13),DADOS!$F$6:$F$9,0)-1)),""),IF(AND(IF($M13="","",$M13)<>"",IF($M13="","",$M13)="Irregular"),INDEX(DADOS!$C:$C,(60+MATCH(IF($M13="","",$M13),DADOS!$G$6:$G$9,0)-1)),"")),", ","")))/2)=0,_xlfn.TEXTJOIN(", ",TRUE(),IF(AND(IF($L13="","",$L13)<>"",IF($L13="","",$L13)="Regrediu"),INDEX(DADOS!$C:$C,(54+MATCH(IF($L13="","",$L13),DADOS!$F$6:$F$9,0)-1)),""),IF(AND(IF($M13="","",$M13)<>"",IF($M13="","",$M13)="Irregular"),INDEX(DADOS!$C:$C,(60+MATCH(IF($M13="","",$M13),DADOS!$G$6:$G$9,0)-1)),"")),SUBSTITUTE(_xlfn.TEXTJOIN(", ",TRUE(),IF(AND(IF($L13="","",$L13)<>"",IF($L13="","",$L13)="Regrediu"),INDEX(DADOS!$C:$C,(54+MATCH(IF($L13="","",$L13),DADOS!$F$6:$F$9,0)-1)),""),IF(AND(IF($M13="","",$M13)<>"",IF($M13="","",$M13)="Irregular"),INDEX(DADOS!$C:$C,(60+MATCH(IF($M13="","",$M13),DADOS!$G$6:$G$9,0)-1)),"")),", "," e ",((LEN(_xlfn.TEXTJOIN(", ",TRUE(),IF(AND(IF($L13="","",$L13)<>"",IF($L13="","",$L13)="Regrediu"),INDEX(DADOS!$C:$C,(54+MATCH(IF($L13="","",$L13),DADOS!$F$6:$F$9,0)-1)),""),IF(AND(IF($M13="","",$M13)<>"",IF($M13="","",$M13)="Irregular"),INDEX(DADOS!$C:$C,(60+MATCH(IF($M13="","",$M13),DADOS!$G$6:$G$9,0)-1)),"")))-LEN(SUBSTITUTE(_xlfn.TEXTJOIN(", ",TRUE(),IF(AND(IF($L13="","",$L13)<>"",IF($L13="","",$L13)="Regrediu"),INDEX(DADOS!$C:$C,(54+MATCH(IF($L13="","",$L13),DADOS!$F$6:$F$9,0)-1)),""),IF(AND(IF($M13="","",$M13)<>"",IF($M13="","",$M13)="Irregular"),INDEX(DADOS!$C:$C,(60+MATCH(IF($M13="","",$M13),DADOS!$G$6:$G$9,0)-1)),"")),", ","")))/2))) | W13: =IF(AND($U13="",$V13=""),"",IF($V13="",INDEX(DADOS!$B:$B,(MOD(ROW()+7,3)+83))&$U13&INDEX(DADOS!$C:$C,(MOD(ROW()+7,3)+83)),IF($U13="",INDEX(DADOS!$B:$B,(MOD(ROW()+7,3)+88))&$V13&INDEX(DADOS!$C:$C,(MOD(ROW()+7,3)+88)),INDEX(DADOS!$B:$B,(MOD(ROW()+7,3)+93))&$U13&INDEX(DADOS!$C:$C,(MOD(ROW()+7,3)+93))&$V13&INDEX(DADOS!$D:$D,(MOD(ROW()+7,3)+93))))) | X13: =--(OR(IF($H13="","",$H13)="Insuficiente",IF($H13="","",$H13)="Suficiente"))+--(IF($I13="","",$I13)="Reduzido")+--(IF($J13="","",$J13)="Reduzida")+--(IF($K13="","",$K13)="A melhorar")+--(IF($L13="","",$L13)="Regrediu")+--(IF($M13="","",$M13)="Irregular") -> 0 | Y13: =IF(OR(IF($H13="","",$H13)="Insuficiente",IF($H13="","",$H13)="Suficiente"),1,IF(IF($I13="","",$I13)="Reduzido",2,IF(IF($J13="","",$J13)="Reduzida",3,IF(IF($K13="","",$K13)="A melhorar",4,IF(IF($L13="","",$L13)="Regrediu",5,IF(IF($M13="","",$M13)="Irregular",6,0)))))) -> 0 | Z13: =IF(((LEN(_xlfn.TEXTJOIN(", ",TRUE(),IF(OR(IF($H13="","",$H13)="Insuficiente",IF($H13="","",$H13)="Suficiente"),"o aproveitamento",""),IF(IF($I13="","",$I13)="Reduzido","o empenho",""),IF(IF($J13="","",$J13)="Reduzida","a participação",""),IF(IF($K13="","",$K13)="A melhorar","o comportamento",""),IF(IF($L13="","",$L13)="Regrediu","a evolução",""),IF(IF($M13="","",$M13)="Irregular","a assiduidade","")))-LEN(SUBSTITUTE(_xlfn.TEXTJOIN(", ",TRUE(),IF(OR(IF($H13="","",$H13)="Insuficiente",IF($H13="","",$H13)="Suficiente"),"o aproveitamento",""),IF(IF($I13="","",$I13)="Reduzido","o empenho",""),IF(IF($J13="","",$J13)="Reduzida","a participação",""),IF(IF($K13="","",$K13)="A melhorar","o comportamento",""),IF(IF($L13="","",$L13)="Regrediu","a evolução",""),IF(IF($M13="","",$M13)="Irregular","a assiduidade","")),", ","")))/2)=0,_xlfn.TEXTJOIN(", ",TRUE(),IF(OR(IF($H13="","",$H13)="Insuficiente",IF($H13="","",$H13)="Suficiente"),"o aproveitamento",""),IF(IF($I13="","",$I13)="Reduzido","o empenho",""),IF(IF($J13="","",$J13)="Reduzida","a participação",""),IF(IF($K13="","",$K13)="A melhorar","o comportamento",""),IF(IF($L13="","",$L13)="Regrediu","a evolução",""),IF(IF($M13="","",$M13)="Irregular","a assiduidade","")),SUBSTITUTE(_xlfn.TEXTJOIN(", ",TRUE(),IF(OR(IF($H13="","",$H13)="Insuficiente",IF($H13="","",$H13)="Suficiente"),"o aproveitamento",""),IF(IF($I13="","",$I13)="Reduzido","o empenho",""),IF(IF($J13="","",$J13)="Reduzida","a participação",""),IF(IF($K13="","",$K13)="A melhorar","o comportamento",""),IF(IF($L13="","",$L13)="Regrediu","a evolução",""),IF(IF($M13="","",$M13)="Irregular","a assiduidade","")),", "," e ",((LEN(_xlfn.TEXTJOIN(", ",TRUE(),IF(OR(IF($H13="","",$H13)="Insuficiente",IF($H13="","",$H13)="Suficiente"),"o aproveitamento",""),IF(IF($I13="","",$I13)="Reduzido","o empenho",""),IF(IF($J13="","",$J13)="Reduzida","a participação",""),IF(IF($K13="","",$K13)="A melhorar","o comportamento",""),IF(IF($L13="","",$L13)="Regrediu","a evolução",""),IF(IF($M13="","",$M13)="Irregular","a assiduidade","")))-LEN(SUBSTITUTE(_xlfn.TEXTJOIN(", ",TRUE(),IF(OR(IF($H13="","",$H13)="Insuficiente",IF($H13="","",$H13)="Suficiente"),"o aproveitamento",""),IF(IF($I13="","",$I13)="Reduzido","o empenho",""),IF(IF($J13="","",$J13)="Reduzida","a participação",""),IF(IF($K13="","",$K13)="A melhorar","o comportamento",""),IF(IF($L13="","",$L13)="Regrediu","a evolução",""),IF(IF($M13="","",$M13)="Irregular","a assiduidade","")),", ","")))/2))) | AA13: =IF(OR(IF($H13="","",$H13)<>"",IF($I13="","",$I13)<>"",IF($J13="","",$J13)<>"",IF($K13="","",$K13)<>"",IF($L13="","",$L13)<>"",IF($M13="","",$M13)<>""),IF($X13=0,INDEX(DADOS!$B:$B,(MOD(ROW()+17+0,5)+99)),IF($X13=1,CHOOSE($Y13,INDEX(DADOS!$B:$B,(MOD(ROW()+17+0,3)+106)),INDEX(DADOS!$C:$C,(MOD(ROW()+17+0,3)+106)),INDEX(DADOS!$D:$D,(MOD(ROW()+17+0,3)+106)),INDEX(DADOS!$E:$E,(MOD(ROW()+17+0,3)+106)),INDEX(DADOS!$F:$F,(MOD(ROW()+17+0,3)+106)),INDEX(DADOS!$G:$G,(MOD(ROW()+17+0,3)+106))),INDEX(DADOS!$B:$B,(MOD(ROW()+17,3)+111))&$Z13&INDEX(DADOS!$C:$C,(MOD(ROW()+17,3)+111)))),"") | AB13: =INDEX(DADOS!$B:$B,(MOD(ROW()+19,5)+116)) -> Regista-se ainda: | AC13: =SUBTOTAL(103,$G$8:G13) -> 6 | AD13: =IF($G13="","",C13&"|"&D13&"|"&E13&"|"&$G13) -> 8.º A|Matemática|2.º Período|Beatriz Nunes
B14: =IF(BASE!B4="","",BASE!B4) -> 2026/2027 | C14: =IF(BASE!C7="","",BASE!C7) -> 8.º A | D14: =IF(BASE!F8="","",BASE!F8) -> Matemática | E14: 3.º Período | F14: 1 | G14: =IF(BASE!$C$8="","",BASE!$C$8) -> Ana Silva | O14: =IF($G14="","",IF(AND(NOT(OR(IF($H14="","",$H14)<>"",IF($I14="","",$I14)<>"",IF($J14="","",$J14)<>"",IF($K14="","",$K14)<>"",IF($L14="","",$L14)<>"",IF($M14="","",$M14)<>"")),IF($N14="","",$N14)=""),"— Ainda sem critérios preenchidos. —",_xlfn.TEXTJOIN(" ",TRUE(),$Q14,$T14,$W14,$AA14,IF(IF($N14="","",$N14)<>"",$AB14&" "&IF($N14="","",$N14),"")))) -> — Ainda sem critérios preenchidos. — | Q14: =IF(OR(IF($H14="","",$H14)<>"",IF($I14="","",$I14)<>"",IF($J14="","",$J14)<>"",IF($K14="","",$K14)<>"",IF($L14="","",$L14)<>"",IF($M14="","",$M14)<>""),INDEX(DADOS!$C:$C,(15+(MATCH(IF($H14="","(sem aproveitamento)",$H14),DADOS!$I$6:$I$11,0)-1)*3+MOD(ROW()+1,3))),"") | R14: =IF(((LEN(_xlfn.TEXTJOIN(", ",TRUE(),IF(AND(IF($I14="","",$I14)<>"",NOT(IF($I14="","",$I14)="Reduzido")),INDEX(DADOS!$C:$C,(36+MATCH(IF($I14="","",$I14),DADOS!$C$6:$C$9,0)-1)),""),IF(AND(IF($J14="","",$J14)<>"",NOT(IF($J14="","",$J14)="Reduzida")),INDEX(DADOS!$C:$C,(42+MATCH(IF($J14="","",$J14),DADOS!$D$6:$D$9,0)-1)),""),IF(AND(IF($K14="","",$K14)<>"",NOT(IF($K14="","",$K14)="A melhorar")),INDEX(DADOS!$C:$C,(48+MATCH(IF($K14="","",$K14),DADOS!$E$6:$E$9,0)-1)),"")))-LEN(SUBSTITUTE(_xlfn.TEXTJOIN(", ",TRUE(),IF(AND(IF($I14="","",$I14)<>"",NOT(IF($I14="","",$I14)="Reduzido")),INDEX(DADOS!$C:$C,(36+MATCH(IF($I14="","",$I14),DADOS!$C$6:$C$9,0)-1)),""),IF(AND(IF($J14="","",$J14)<>"",NOT(IF($J14="","",$J14)="Reduzida")),INDEX(DADOS!$C:$C,(42+MATCH(IF($J14="","",$J14),DADOS!$D$6:$D$9,0)-1)),""),IF(AND(IF($K14="","",$K14)<>"",NOT(IF($K14="","",$K14)="A melhorar")),INDEX(DADOS!$C:$C,(48+MATCH(IF($K14="","",$K14),DADOS!$E$6:$E$9,0)-1)),"")),", ","")))/2)=0,_xlfn.TEXTJOIN(", ",TRUE(),IF(AND(IF($I14="","",$I14)<>"",NOT(IF($I14="","",$I14)="Reduzido")),INDEX(DADOS!$C:$C,(36+MATCH(IF($I14="","",$I14),DADOS!$C$6:$C$9,0)-1)),""),IF(AND(IF($J14="","",$J14)<>"",NOT(IF($J14="","",$J14)="Reduzida")),INDEX(DADOS!$C:$C,(42+MATCH(IF($J14="","",$J14),DADOS!$D$6:$D$9,0)-1)),""),IF(AND(IF($K14="","",$K14)<>"",NOT(IF($K14="","",$K14)="A melhorar")),INDEX(DADOS!$C:$C,(48+MATCH(IF($K14="","",$K14),DADOS!$E$6:$E$9,0)-1)),"")),SUBSTITUTE(_xlfn.TEXTJOIN(", ",TRUE(),IF(AND(IF($I14="","",$I14)<>"",NOT(IF($I14="","",$I14)="Reduzido")),INDEX(DADOS!$C:$C,(36+MATCH(IF($I14="","",$I14),DADOS!$C$6:$C$9,0)-1)),""),IF(AND(IF($J14="","",$J14)<>"",NOT(IF($J14="","",$J14)="Reduzida")),INDEX(DADOS!$C:$C,(42+MATCH(IF($J14="","",$J14),DADOS!$D$6:$D$9,0)-1)),""),IF(AND(IF($K14="","",$K14)<>"",NOT(IF($K14="","",$K14)="A melhorar")),INDEX(DADOS!$C:$C,(48+MATCH(IF($K14="","",$K14),DADOS!$E$6:$E$9,0)-1)),"")),", "," e ",((LEN(_xlfn.TEXTJOIN(", ",TRUE(),IF(AND(IF($I14="","",$I14)<>"",NOT(IF($I14="","",$I14)="Reduzido")),INDEX(DADOS!$C:$C,(36+MATCH(IF($I14="","",$I14),DADOS!$C$6:$C$9,0)-1)),""),IF(AND(IF($J14="","",$J14)<>"",NOT(IF($J14="","",$J14)="Reduzida")),INDEX(DADOS!$C:$C,(42+MATCH(IF($J14="","",$J14),DADOS!$D$6:$D$9,0)-1)),""),IF(AND(IF($K14="","",$K14)<>"",NOT(IF($K14="","",$K14)="A melhorar")),INDEX(DADOS!$C:$C,(48+MATCH(IF($K14="","",$K14),DADOS!$E$6:$E$9,0)-1)),"")))-LEN(SUBSTITUTE(_xlfn.TEXTJOIN(", ",TRUE(),IF(AND(IF($I14="","",$I14)<>"",NOT(IF($I14="","",$I14)="Reduzido")),INDEX(DADOS!$C:$C,(36+MATCH(IF($I14="","",$I14),DADOS!$C$6:$C$9,0)-1)),""),IF(AND(IF($J14="","",$J14)<>"",NOT(IF($J14="","",$J14)="Reduzida")),INDEX(DADOS!$C:$C,(42+MATCH(IF($J14="","",$J14),DADOS!$D$6:$D$9,0)-1)),""),IF(AND(IF($K14="","",$K14)<>"",NOT(IF($K14="","",$K14)="A melhorar")),INDEX(DADOS!$C:$C,(48+MATCH(IF($K14="","",$K14),DADOS!$E$6:$E$9,0)-1)),"")),", ","")))/2))) | S14: =IF(((LEN(_xlfn.TEXTJOIN(", ",TRUE(),IF(AND(IF($I14="","",$I14)<>"",IF($I14="","",$I14)="Reduzido"),INDEX(DADOS!$C:$C,(36+MATCH(IF($I14="","",$I14),DADOS!$C$6:$C$9,0)-1)),""),IF(AND(IF($J14="","",$J14)<>"",IF($J14="","",$J14)="Reduzida"),INDEX(DADOS!$C:$C,(42+MATCH(IF($J14="","",$J14),DADOS!$D$6:$D$9,0)-1)),""),IF(AND(IF($K14="","",$K14)<>"",IF($K14="","",$K14)="A melhorar"),INDEX(DADOS!$C:$C,(48+MATCH(IF($K14="","",$K14),DADOS!$E$6:$E$9,0)-1)),"")))-LEN(SUBSTITUTE(_xlfn.TEXTJOIN(", ",TRUE(),IF(AND(IF($I14="","",$I14)<>"",IF($I14="","",$I14)="Reduzido"),INDEX(DADOS!$C:$C,(36+MATCH(IF($I14="","",$I14),DADOS!$C$6:$C$9,0)-1)),""),IF(AND(IF($J14="","",$J14)<>"",IF($J14="","",$J14)="Reduzida"),INDEX(DADOS!$C:$C,(42+MATCH(IF($J14="","",$J14),DADOS!$D$6:$D$9,0)-1)),""),IF(AND(IF($K14="","",$K14)<>"",IF($K14="","",$K14)="A melhorar"),INDEX(DADOS!$C:$C,(48+MATCH(IF($K14="","",$K14),DADOS!$E$6:$E$9,0)-1)),"")),", ","")))/2)=0,_xlfn.TEXTJOIN(", ",TRUE(),IF(AND(IF($I14="","",$I14)<>"",IF($I14="","",$I14)="Reduzido"),INDEX(DADOS!$C:$C,(36+MATCH(IF($I14="","",$I14),DADOS!$C$6:$C$9,0)-1)),""),IF(AND(IF($J14="","",$J14)<>"",IF($J14="","",$J14)="Reduzida"),INDEX(DADOS!$C:$C,(42+MATCH(IF($J14="","",$J14),DADOS!$D$6:$D$9,0)-1)),""),IF(AND(IF($K14="","",$K14)<>"",IF($K14="","",$K14)="A melhorar"),INDEX(DADOS!$C:$C,(48+MATCH(IF($K14="","",$K14),DADOS!$E$6:$E$9,0)-1)),"")),SUBSTITUTE(_xlfn.TEXTJOIN(", ",TRUE(),IF(AND(IF($I14="","",$I14)<>"",IF($I14="","",$I14)="Reduzido"),INDEX(DADOS!$C:$C,(36+MATCH(IF($I14="","",$I14),DADOS!$C$6:$C$9,0)-1)),""),IF(AND(IF($J14="","",$J14)<>"",IF($J14="","",$J14)="Reduzida"),INDEX(DADOS!$C:$C,(42+MATCH(IF($J14="","",$J14),DADOS!$D$6:$D$9,0)-1)),""),IF(AND(IF($K14="","",$K14)<>"",IF($K14="","",$K14)="A melhorar"),INDEX(DADOS!$C:$C,(48+MATCH(IF($K14="","",$K14),DADOS!$E$6:$E$9,0)-1)),"")),", "," e ",((LEN(_xlfn.TEXTJOIN(", ",TRUE(),IF(AND(IF($I14="","",$I14)<>"",IF($I14="","",$I14)="Reduzido"),INDEX(DADOS!$C:$C,(36+MATCH(IF($I14="","",$I14),DADOS!$C$6:$C$9,0)-1)),""),IF(AND(IF($J14="","",$J14)<>"",IF($J14="","",$J14)="Reduzida"),INDEX(DADOS!$C:$C,(42+MATCH(IF($J14="","",$J14),DADOS!$D$6:$D$9,0)-1)),""),IF(AND(IF($K14="","",$K14)<>"",IF($K14="","",$K14)="A melhorar"),INDEX(DADOS!$C:$C,(48+MATCH(IF($K14="","",$K14),DADOS!$E$6:$E$9,0)-1)),"")))-LEN(SUBSTITUTE(_xlfn.TEXTJOIN(", ",TRUE(),IF(AND(IF($I14="","",$I14)<>"",IF($I14="","",$I14)="Reduzido"),INDEX(DADOS!$C:$C,(36+MATCH(IF($I14="","",$I14),DADOS!$C$6:$C$9,0)-1)),""),IF(AND(IF($J14="","",$J14)<>"",IF($J14="","",$J14)="Reduzida"),INDEX(DADOS!$C:$C,(42+MATCH(IF($J14="","",$J14),DADOS!$D$6:$D$9,0)-1)),""),IF(AND(IF($K14="","",$K14)<>"",IF($K14="","",$K14)="A melhorar"),INDEX(DADOS!$C:$C,(48+MATCH(IF($K14="","",$K14),DADOS!$E$6:$E$9,0)-1)),"")),", ","")))/2))) | T14: =IF(AND($R14="",$S14=""),"",IF($S14="",INDEX(DADOS!$B:$B,(MOD(ROW()+3,3)+67))&$R14&INDEX(DADOS!$C:$C,(MOD(ROW()+3,3)+67)),IF($R14="",INDEX(DADOS!$B:$B,(MOD(ROW()+3,3)+72))&$S14&INDEX(DADOS!$C:$C,(MOD(ROW()+3,3)+72)),INDEX(DADOS!$B:$B,(MOD(ROW()+3,3)+77))&$R14&INDEX(DADOS!$C:$C,(MOD(ROW()+3,3)+77))&$S14&INDEX(DADOS!$D:$D,(MOD(ROW()+3,3)+77))))) | U14: =IF(((LEN(_xlfn.TEXTJOIN(", ",TRUE(),IF(AND(IF($L14="","",$L14)<>"",NOT(IF($L14="","",$L14)="Regrediu")),INDEX(DADOS!$C:$C,(54+MATCH(IF($L14="","",$L14),DADOS!$F$6:$F$9,0)-1)),""),IF(AND(IF($M14="","",$M14)<>"",NOT(IF($M14="","",$M14)="Irregular")),INDEX(DADOS!$C:$C,(60+MATCH(IF($M14="","",$M14),DADOS!$G$6:$G$9,0)-1)),"")))-LEN(SUBSTITUTE(_xlfn.TEXTJOIN(", ",TRUE(),IF(AND(IF($L14="","",$L14)<>"",NOT(IF($L14="","",$L14)="Regrediu")),INDEX(DADOS!$C:$C,(54+MATCH(IF($L14="","",$L14),DADOS!$F$6:$F$9,0)-1)),""),IF(AND(IF($M14="","",$M14)<>"",NOT(IF($M14="","",$M14)="Irregular")),INDEX(DADOS!$C:$C,(60+MATCH(IF($M14="","",$M14),DADOS!$G$6:$G$9,0)-1)),"")),", ","")))/2)=0,_xlfn.TEXTJOIN(", ",TRUE(),IF(AND(IF($L14="","",$L14)<>"",NOT(IF($L14="","",$L14)="Regrediu")),INDEX(DADOS!$C:$C,(54+MATCH(IF($L14="","",$L14),DADOS!$F$6:$F$9,0)-1)),""),IF(AND(IF($M14="","",$M14)<>"",NOT(IF($M14="","",$M14)="Irregular")),INDEX(DADOS!$C:$C,(60+MATCH(IF($M14="","",$M14),DADOS!$G$6:$G$9,0)-1)),"")),SUBSTITUTE(_xlfn.TEXTJOIN(", ",TRUE(),IF(AND(IF($L14="","",$L14)<>"",NOT(IF($L14="","",$L14)="Regrediu")),INDEX(DADOS!$C:$C,(54+MATCH(IF($L14="","",$L14),DADOS!$F$6:$F$9,0)-1)),""),IF(AND(IF($M14="","",$M14)<>"",NOT(IF($M14="","",$M14)="Irregular")),INDEX(DADOS!$C:$C,(60+MATCH(IF($M14="","",$M14),DADOS!$G$6:$G$9,0)-1)),"")),", "," e ",((LEN(_xlfn.TEXTJOIN(", ",TRUE(),IF(AND(IF($L14="","",$L14)<>"",NOT(IF($L14="","",$L14)="Regrediu")),INDEX(DADOS!$C:$C,(54+MATCH(IF($L14="","",$L14),DADOS!$F$6:$F$9,0)-1)),""),IF(AND(IF($M14="","",$M14)<>"",NOT(IF($M14="","",$M14)="Irregular")),INDEX(DADOS!$C:$C,(60+MATCH(IF($M14="","",$M14),DADOS!$G$6:$G$9,0)-1)),"")))-LEN(SUBSTITUTE(_xlfn.TEXTJOIN(", ",TRUE(),IF(AND(IF($L14="","",$L14)<>"",NOT(IF($L14="","",$L14)="Regrediu")),INDEX(DADOS!$C:$C,(54+MATCH(IF($L14="","",$L14),DADOS!$F$6:$F$9,0)-1)),""),IF(AND(IF($M14="","",$M14)<>"",NOT(IF($M14="","",$M14)="Irregular")),INDEX(DADOS!$C:$C,(60+MATCH(IF($M14="","",$M14),DADOS!$G$6:$G$9,0)-1)),"")),", ","")))/2))) | V14: =IF(((LEN(_xlfn.TEXTJOIN(", ",TRUE(),IF(AND(IF($L14="","",$L14)<>"",IF($L14="","",$L14)="Regrediu"),INDEX(DADOS!$C:$C,(54+MATCH(IF($L14="","",$L14),DADOS!$F$6:$F$9,0)-1)),""),IF(AND(IF($M14="","",$M14)<>"",IF($M14="","",$M14)="Irregular"),INDEX(DADOS!$C:$C,(60+MATCH(IF($M14="","",$M14),DADOS!$G$6:$G$9,0)-1)),"")))-LEN(SUBSTITUTE(_xlfn.TEXTJOIN(", ",TRUE(),IF(AND(IF($L14="","",$L14)<>"",IF($L14="","",$L14)="Regrediu"),INDEX(DADOS!$C:$C,(54+MATCH(IF($L14="","",$L14),DADOS!$F$6:$F$9,0)-1)),""),IF(AND(IF($M14="","",$M14)<>"",IF($M14="","",$M14)="Irregular"),INDEX(DADOS!$C:$C,(60+MATCH(IF($M14="","",$M14),DADOS!$G$6:$G$9,0)-1)),"")),", ","")))/2)=0,_xlfn.TEXTJOIN(", ",TRUE(),IF(AND(IF($L14="","",$L14)<>"",IF($L14="","",$L14)="Regrediu"),INDEX(DADOS!$C:$C,(54+MATCH(IF($L14="","",$L14),DADOS!$F$6:$F$9,0)-1)),""),IF(AND(IF($M14="","",$M14)<>"",IF($M14="","",$M14)="Irregular"),INDEX(DADOS!$C:$C,(60+MATCH(IF($M14="","",$M14),DADOS!$G$6:$G$9,0)-1)),"")),SUBSTITUTE(_xlfn.TEXTJOIN(", ",TRUE(),IF(AND(IF($L14="","",$L14)<>"",IF($L14="","",$L14)="Regrediu"),INDEX(DADOS!$C:$C,(54+MATCH(IF($L14="","",$L14),DADOS!$F$6:$F$9,0)-1)),""),IF(AND(IF($M14="","",$M14)<>"",IF($M14="","",$M14)="Irregular"),INDEX(DADOS!$C:$C,(60+MATCH(IF($M14="","",$M14),DADOS!$G$6:$G$9,0)-1)),"")),", "," e ",((LEN(_xlfn.TEXTJOIN(", ",TRUE(),IF(AND(IF($L14="","",$L14)<>"",IF($L14="","",$L14)="Regrediu"),INDEX(DADOS!$C:$C,(54+MATCH(IF($L14="","",$L14),DADOS!$F$6:$F$9,0)-1)),""),IF(AND(IF($M14="","",$M14)<>"",IF($M14="","",$M14)="Irregular"),INDEX(DADOS!$C:$C,(60+MATCH(IF($M14="","",$M14),DADOS!$G$6:$G$9,0)-1)),"")))-LEN(SUBSTITUTE(_xlfn.TEXTJOIN(", ",TRUE(),IF(AND(IF($L14="","",$L14)<>"",IF($L14="","",$L14)="Regrediu"),INDEX(DADOS!$C:$C,(54+MATCH(IF($L14="","",$L14),DADOS!$F$6:$F$9,0)-1)),""),IF(AND(IF($M14="","",$M14)<>"",IF($M14="","",$M14)="Irregular"),INDEX(DADOS!$C:$C,(60+MATCH(IF($M14="","",$M14),DADOS!$G$6:$G$9,0)-1)),"")),", ","")))/2))) | W14: =IF(AND($U14="",$V14=""),"",IF($V14="",INDEX(DADOS!$B:$B,(MOD(ROW()+7,3)+83))&$U14&INDEX(DADOS!$C:$C,(MOD(ROW()+7,3)+83)),IF($U14="",INDEX(DADOS!$B:$B,(MOD(ROW()+7,3)+88))&$V14&INDEX(DADOS!$C:$C,(MOD(ROW()+7,3)+88)),INDEX(DADOS!$B:$B,(MOD(ROW()+7,3)+93))&$U14&INDEX(DADOS!$C:$C,(MOD(ROW()+7,3)+93))&$V14&INDEX(DADOS!$D:$D,(MOD(ROW()+7,3)+93))))) | X14: =--(OR(IF($H14="","",$H14)="Insuficiente",IF($H14="","",$H14)="Suficiente"))+--(IF($I14="","",$I14)="Reduzido")+--(IF($J14="","",$J14)="Reduzida")+--(IF($K14="","",$K14)="A melhorar")+--(IF($L14="","",$L14)="Regrediu")+--(IF($M14="","",$M14)="Irregular") -> 0 | Y14: =IF(OR(IF($H14="","",$H14)="Insuficiente",IF($H14="","",$H14)="Suficiente"),1,IF(IF($I14="","",$I14)="Reduzido",2,IF(IF($J14="","",$J14)="Reduzida",3,IF(IF($K14="","",$K14)="A melhorar",4,IF(IF($L14="","",$L14)="Regrediu",5,IF(IF($M14="","",$M14)="Irregular",6,0)))))) -> 0 | Z14: =IF(((LEN(_xlfn.TEXTJOIN(", ",TRUE(),IF(OR(IF($H14="","",$H14)="Insuficiente",IF($H14="","",$H14)="Suficiente"),"o aproveitamento",""),IF(IF($I14="","",$I14)="Reduzido","o empenho",""),IF(IF($J14="","",$J14)="Reduzida","a participação",""),IF(IF($K14="","",$K14)="A melhorar","o comportamento",""),IF(IF($L14="","",$L14)="Regrediu","a evolução",""),IF(IF($M14="","",$M14)="Irregular","a assiduidade","")))-LEN(SUBSTITUTE(_xlfn.TEXTJOIN(", ",TRUE(),IF(OR(IF($H14="","",$H14)="Insuficiente",IF($H14="","",$H14)="Suficiente"),"o aproveitamento",""),IF(IF($I14="","",$I14)="Reduzido","o empenho",""),IF(IF($J14="","",$J14)="Reduzida","a participação",""),IF(IF($K14="","",$K14)="A melhorar","o comportamento",""),IF(IF($L14="","",$L14)="Regrediu","a evolução",""),IF(IF($M14="","",$M14)="Irregular","a assiduidade","")),", ","")))/2)=0,_xlfn.TEXTJOIN(", ",TRUE(),IF(OR(IF($H14="","",$H14)="Insuficiente",IF($H14="","",$H14)="Suficiente"),"o aproveitamento",""),IF(IF($I14="","",$I14)="Reduzido","o empenho",""),IF(IF($J14="","",$J14)="Reduzida","a participação",""),IF(IF($K14="","",$K14)="A melhorar","o comportamento",""),IF(IF($L14="","",$L14)="Regrediu","a evolução",""),IF(IF($M14="","",$M14)="Irregular","a assiduidade","")),SUBSTITUTE(_xlfn.TEXTJOIN(", ",TRUE(),IF(OR(IF($H14="","",$H14)="Insuficiente",IF($H14="","",$H14)="Suficiente"),"o aproveitamento",""),IF(IF($I14="","",$I14)="Reduzido","o empenho",""),IF(IF($J14="","",$J14)="Reduzida","a participação",""),IF(IF($K14="","",$K14)="A melhorar","o comportamento",""),IF(IF($L14="","",$L14)="Regrediu","a evolução",""),IF(IF($M14="","",$M14)="Irregular","a assiduidade","")),", "," e ",((LEN(_xlfn.TEXTJOIN(", ",TRUE(),IF(OR(IF($H14="","",$H14)="Insuficiente",IF($H14="","",$H14)="Suficiente"),"o aproveitamento",""),IF(IF($I14="","",$I14)="Reduzido","o empenho",""),IF(IF($J14="","",$J14)="Reduzida","a participação",""),IF(IF($K14="","",$K14)="A melhorar","o comportamento",""),IF(IF($L14="","",$L14)="Regrediu","a evolução",""),IF(IF($M14="","",$M14)="Irregular","a assiduidade","")))-LEN(SUBSTITUTE(_xlfn.TEXTJOIN(", ",TRUE(),IF(OR(IF($H14="","",$H14)="Insuficiente",IF($H14="","",$H14)="Suficiente"),"o aproveitamento",""),IF(IF($I14="","",$I14)="Reduzido","o empenho",""),IF(IF($J14="","",$J14)="Reduzida","a participação",""),IF(IF($K14="","",$K14)="A melhorar","o comportamento",""),IF(IF($L14="","",$L14)="Regrediu","a evolução",""),IF(IF($M14="","",$M14)="Irregular","a assiduidade","")),", ","")))/2))) | AA14: =IF(OR(IF($H14="","",$H14)<>"",IF($I14="","",$I14)<>"",IF($J14="","",$J14)<>"",IF($K14="","",$K14)<>"",IF($L14="","",$L14)<>"",IF($M14="","",$M14)<>""),IF($X14=0,INDEX(DADOS!$B:$B,(MOD(ROW()+17+0,5)+99)),IF($X14=1,CHOOSE($Y14,INDEX(DADOS!$B:$B,(MOD(ROW()+17+0,3)+106)),INDEX(DADOS!$C:$C,(MOD(ROW()+17+0,3)+106)),INDEX(DADOS!$D:$D,(MOD(ROW()+17+0,3)+106)),INDEX(DADOS!$E:$E,(MOD(ROW()+17+0,3)+106)),INDEX(DADOS!$F:$F,(MOD(ROW()+17+0,3)+106)),INDEX(DADOS!$G:$G,(MOD(ROW()+17+0,3)+106))),INDEX(DADOS!$B:$B,(MOD(ROW()+17,3)+111))&$Z14&INDEX(DADOS!$C:$C,(MOD(ROW()+17,3)+111)))),"") | AB14: =INDEX(DADOS!$B:$B,(MOD(ROW()+19,5)+116)) -> É ainda de referir: | AC14: =SUBTOTAL(103,$G$8:G14) -> 7 | AD14: =IF($G14="","",C14&"|"&D14&"|"&E14&"|"&$G14) -> 8.º A|Matemática|3.º Período|Ana Silva
B15: =IF(BASE!B4="","",BASE!B4) -> 2026/2027 | C15: =IF(BASE!C7="","",BASE!C7) -> 8.º A | D15: =IF(BASE!F8="","",BASE!F8) -> Matemática | E15: 3.º Período | F15: 2 | G15: =IF(BASE!$C$9="","",BASE!$C$9) -> João Costa | O15: =IF($G15="","",IF(AND(NOT(OR(IF($H15="","",$H15)<>"",IF($I15="","",$I15)<>"",IF($J15="","",$J15)<>"",IF($K15="","",$K15)<>"",IF($L15="","",$L15)<>"",IF($M15="","",$M15)<>"")),IF($N15="","",$N15)=""),"— Ainda sem critérios preenchidos. —",_xlfn.TEXTJOIN(" ",TRUE(),$Q15,$T15,$W15,$AA15,IF(IF($N15="","",$N15)<>"",$AB15&" "&IF($N15="","",$N15),"")))) -> — Ainda sem critérios preenchidos. — | Q15: =IF(OR(IF($H15="","",$H15)<>"",IF($I15="","",$I15)<>"",IF($J15="","",$J15)<>"",IF($K15="","",$K15)<>"",IF($L15="","",$L15)<>"",IF($M15="","",$M15)<>""),INDEX(DADOS!$C:$C,(15+(MATCH(IF($H15="","(sem aproveitamento)",$H15),DADOS!$I$6:$I$11,0)-1)*3+MOD(ROW()+1,3))),"") | R15: =IF(((LEN(_xlfn.TEXTJOIN(", ",TRUE(),IF(AND(IF($I15="","",$I15)<>"",NOT(IF($I15="","",$I15)="Reduzido")),INDEX(DADOS!$C:$C,(36+MATCH(IF($I15="","",$I15),DADOS!$C$6:$C$9,0)-1)),""),IF(AND(IF($J15="","",$J15)<>"",NOT(IF($J15="","",$J15)="Reduzida")),INDEX(DADOS!$C:$C,(42+MATCH(IF($J15="","",$J15),DADOS!$D$6:$D$9,0)-1)),""),IF(AND(IF($K15="","",$K15)<>"",NOT(IF($K15="","",$K15)="A melhorar")),INDEX(DADOS!$C:$C,(48+MATCH(IF($K15="","",$K15),DADOS!$E$6:$E$9,0)-1)),"")))-LEN(SUBSTITUTE(_xlfn.TEXTJOIN(", ",TRUE(),IF(AND(IF($I15="","",$I15)<>"",NOT(IF($I15="","",$I15)="Reduzido")),INDEX(DADOS!$C:$C,(36+MATCH(IF($I15="","",$I15),DADOS!$C$6:$C$9,0)-1)),""),IF(AND(IF($J15="","",$J15)<>"",NOT(IF($J15="","",$J15)="Reduzida")),INDEX(DADOS!$C:$C,(42+MATCH(IF($J15="","",$J15),DADOS!$D$6:$D$9,0)-1)),""),IF(AND(IF($K15="","",$K15)<>"",NOT(IF($K15="","",$K15)="A melhorar")),INDEX(DADOS!$C:$C,(48+MATCH(IF($K15="","",$K15),DADOS!$E$6:$E$9,0)-1)),"")),", ","")))/2)=0,_xlfn.TEXTJOIN(", ",TRUE(),IF(AND(IF($I15="","",$I15)<>"",NOT(IF($I15="","",$I15)="Reduzido")),INDEX(DADOS!$C:$C,(36+MATCH(IF($I15="","",$I15),DADOS!$C$6:$C$9,0)-1)),""),IF(AND(IF($J15="","",$J15)<>"",NOT(IF($J15="","",$J15)="Reduzida")),INDEX(DADOS!$C:$C,(42+MATCH(IF($J15="","",$J15),DADOS!$D$6:$D$9,0)-1)),""),IF(AND(IF($K15="","",$K15)<>"",NOT(IF($K15="","",$K15)="A melhorar")),INDEX(DADOS!$C:$C,(48+MATCH(IF($K15="","",$K15),DADOS!$E$6:$E$9,0)-1)),"")),SUBSTITUTE(_xlfn.TEXTJOIN(", ",TRUE(),IF(AND(IF($I15="","",$I15)<>"",NOT(IF($I15="","",$I15)="Reduzido")),INDEX(DADOS!$C:$C,(36+MATCH(IF($I15="","",$I15),DADOS!$C$6:$C$9,0)-1)),""),IF(AND(IF($J15="","",$J15)<>"",NOT(IF($J15="","",$J15)="Reduzida")),INDEX(DADOS!$C:$C,(42+MATCH(IF($J15="","",$J15),DADOS!$D$6:$D$9,0)-1)),""),IF(AND(IF($K15="","",$K15)<>"",NOT(IF($K15="","",$K15)="A melhorar")),INDEX(DADOS!$C:$C,(48+MATCH(IF($K15="","",$K15),DADOS!$E$6:$E$9,0)-1)),"")),", "," e ",((LEN(_xlfn.TEXTJOIN(", ",TRUE(),IF(AND(IF($I15="","",$I15)<>"",NOT(IF($I15="","",$I15)="Reduzido")),INDEX(DADOS!$C:$C,(36+MATCH(IF($I15="","",$I15),DADOS!$C$6:$C$9,0)-1)),""),IF(AND(IF($J15="","",$J15)<>"",NOT(IF($J15="","",$J15)="Reduzida")),INDEX(DADOS!$C:$C,(42+MATCH(IF($J15="","",$J15),DADOS!$D$6:$D$9,0)-1)),""),IF(AND(IF($K15="","",$K15)<>"",NOT(IF($K15="","",$K15)="A melhorar")),INDEX(DADOS!$C:$C,(48+MATCH(IF($K15="","",$K15),DADOS!$E$6:$E$9,0)-1)),"")))-LEN(SUBSTITUTE(_xlfn.TEXTJOIN(", ",TRUE(),IF(AND(IF($I15="","",$I15)<>"",NOT(IF($I15="","",$I15)="Reduzido")),INDEX(DADOS!$C:$C,(36+MATCH(IF($I15="","",$I15),DADOS!$C$6:$C$9,0)-1)),""),IF(AND(IF($J15="","",$J15)<>"",NOT(IF($J15="","",$J15)="Reduzida")),INDEX(DADOS!$C:$C,(42+MATCH(IF($J15="","",$J15),DADOS!$D$6:$D$9,0)-1)),""),IF(AND(IF($K15="","",$K15)<>"",NOT(IF($K15="","",$K15)="A melhorar")),INDEX(DADOS!$C:$C,(48+MATCH(IF($K15="","",$K15),DADOS!$E$6:$E$9,0)-1)),"")),", ","")))/2))) | S15: =IF(((LEN(_xlfn.TEXTJOIN(", ",TRUE(),IF(AND(IF($I15="","",$I15)<>"",IF($I15="","",$I15)="Reduzido"),INDEX(DADOS!$C:$C,(36+MATCH(IF($I15="","",$I15),DADOS!$C$6:$C$9,0)-1)),""),IF(AND(IF($J15="","",$J15)<>"",IF($J15="","",$J15)="Reduzida"),INDEX(DADOS!$C:$C,(42+MATCH(IF($J15="","",$J15),DADOS!$D$6:$D$9,0)-1)),""),IF(AND(IF($K15="","",$K15)<>"",IF($K15="","",$K15)="A melhorar"),INDEX(DADOS!$C:$C,(48+MATCH(IF($K15="","",$K15),DADOS!$E$6:$E$9,0)-1)),"")))-LEN(SUBSTITUTE(_xlfn.TEXTJOIN(", ",TRUE(),IF(AND(IF($I15="","",$I15)<>"",IF($I15="","",$I15)="Reduzido"),INDEX(DADOS!$C:$C,(36+MATCH(IF($I15="","",$I15),DADOS!$C$6:$C$9,0)-1)),""),IF(AND(IF($J15="","",$J15)<>"",IF($J15="","",$J15)="Reduzida"),INDEX(DADOS!$C:$C,(42+MATCH(IF($J15="","",$J15),DADOS!$D$6:$D$9,0)-1)),""),IF(AND(IF($K15="","",$K15)<>"",IF($K15="","",$K15)="A melhorar"),INDEX(DADOS!$C:$C,(48+MATCH(IF($K15="","",$K15),DADOS!$E$6:$E$9,0)-1)),"")),", ","")))/2)=0,_xlfn.TEXTJOIN(", ",TRUE(),IF(AND(IF($I15="","",$I15)<>"",IF($I15="","",$I15)="Reduzido"),INDEX(DADOS!$C:$C,(36+MATCH(IF($I15="","",$I15),DADOS!$C$6:$C$9,0)-1)),""),IF(AND(IF($J15="","",$J15)<>"",IF($J15="","",$J15)="Reduzida"),INDEX(DADOS!$C:$C,(42+MATCH(IF($J15="","",$J15),DADOS!$D$6:$D$9,0)-1)),""),IF(AND(IF($K15="","",$K15)<>"",IF($K15="","",$K15)="A melhorar"),INDEX(DADOS!$C:$C,(48+MATCH(IF($K15="","",$K15),DADOS!$E$6:$E$9,0)-1)),"")),SUBSTITUTE(_xlfn.TEXTJOIN(", ",TRUE(),IF(AND(IF($I15="","",$I15)<>"",IF($I15="","",$I15)="Reduzido"),INDEX(DADOS!$C:$C,(36+MATCH(IF($I15="","",$I15),DADOS!$C$6:$C$9,0)-1)),""),IF(AND(IF($J15="","",$J15)<>"",IF($J15="","",$J15)="Reduzida"),INDEX(DADOS!$C:$C,(42+MATCH(IF($J15="","",$J15),DADOS!$D$6:$D$9,0)-1)),""),IF(AND(IF($K15="","",$K15)<>"",IF($K15="","",$K15)="A melhorar"),INDEX(DADOS!$C:$C,(48+MATCH(IF($K15="","",$K15),DADOS!$E$6:$E$9,0)-1)),"")),", "," e ",((LEN(_xlfn.TEXTJOIN(", ",TRUE(),IF(AND(IF($I15="","",$I15)<>"",IF($I15="","",$I15)="Reduzido"),INDEX(DADOS!$C:$C,(36+MATCH(IF($I15="","",$I15),DADOS!$C$6:$C$9,0)-1)),""),IF(AND(IF($J15="","",$J15)<>"",IF($J15="","",$J15)="Reduzida"),INDEX(DADOS!$C:$C,(42+MATCH(IF($J15="","",$J15),DADOS!$D$6:$D$9,0)-1)),""),IF(AND(IF($K15="","",$K15)<>"",IF($K15="","",$K15)="A melhorar"),INDEX(DADOS!$C:$C,(48+MATCH(IF($K15="","",$K15),DADOS!$E$6:$E$9,0)-1)),"")))-LEN(SUBSTITUTE(_xlfn.TEXTJOIN(", ",TRUE(),IF(AND(IF($I15="","",$I15)<>"",IF($I15="","",$I15)="Reduzido"),INDEX(DADOS!$C:$C,(36+MATCH(IF($I15="","",$I15),DADOS!$C$6:$C$9,0)-1)),""),IF(AND(IF($J15="","",$J15)<>"",IF($J15="","",$J15)="Reduzida"),INDEX(DADOS!$C:$C,(42+MATCH(IF($J15="","",$J15),DADOS!$D$6:$D$9,0)-1)),""),IF(AND(IF($K15="","",$K15)<>"",IF($K15="","",$K15)="A melhorar"),INDEX(DADOS!$C:$C,(48+MATCH(IF($K15="","",$K15),DADOS!$E$6:$E$9,0)-1)),"")),", ","")))/2))) | T15: =IF(AND($R15="",$S15=""),"",IF($S15="",INDEX(DADOS!$B:$B,(MOD(ROW()+3,3)+67))&$R15&INDEX(DADOS!$C:$C,(MOD(ROW()+3,3)+67)),IF($R15="",INDEX(DADOS!$B:$B,(MOD(ROW()+3,3)+72))&$S15&INDEX(DADOS!$C:$C,(MOD(ROW()+3,3)+72)),INDEX(DADOS!$B:$B,(MOD(ROW()+3,3)+77))&$R15&INDEX(DADOS!$C:$C,(MOD(ROW()+3,3)+77))&$S15&INDEX(DADOS!$D:$D,(MOD(ROW()+3,3)+77))))) | U15: =IF(((LEN(_xlfn.TEXTJOIN(", ",TRUE(),IF(AND(IF($L15="","",$L15)<>"",NOT(IF($L15="","",$L15)="Regrediu")),INDEX(DADOS!$C:$C,(54+MATCH(IF($L15="","",$L15),DADOS!$F$6:$F$9,0)-1)),""),IF(AND(IF($M15="","",$M15)<>"",NOT(IF($M15="","",$M15)="Irregular")),INDEX(DADOS!$C:$C,(60+MATCH(IF($M15="","",$M15),DADOS!$G$6:$G$9,0)-1)),"")))-LEN(SUBSTITUTE(_xlfn.TEXTJOIN(", ",TRUE(),IF(AND(IF($L15="","",$L15)<>"",NOT(IF($L15="","",$L15)="Regrediu")),INDEX(DADOS!$C:$C,(54+MATCH(IF($L15="","",$L15),DADOS!$F$6:$F$9,0)-1)),""),IF(AND(IF($M15="","",$M15)<>"",NOT(IF($M15="","",$M15)="Irregular")),INDEX(DADOS!$C:$C,(60+MATCH(IF($M15="","",$M15),DADOS!$G$6:$G$9,0)-1)),"")),", ","")))/2)=0,_xlfn.TEXTJOIN(", ",TRUE(),IF(AND(IF($L15="","",$L15)<>"",NOT(IF($L15="","",$L15)="Regrediu")),INDEX(DADOS!$C:$C,(54+MATCH(IF($L15="","",$L15),DADOS!$F$6:$F$9,0)-1)),""),IF(AND(IF($M15="","",$M15)<>"",NOT(IF($M15="","",$M15)="Irregular")),INDEX(DADOS!$C:$C,(60+MATCH(IF($M15="","",$M15),DADOS!$G$6:$G$9,0)-1)),"")),SUBSTITUTE(_xlfn.TEXTJOIN(", ",TRUE(),IF(AND(IF($L15="","",$L15)<>"",NOT(IF($L15="","",$L15)="Regrediu")),INDEX(DADOS!$C:$C,(54+MATCH(IF($L15="","",$L15),DADOS!$F$6:$F$9,0)-1)),""),IF(AND(IF($M15="","",$M15)<>"",NOT(IF($M15="","",$M15)="Irregular")),INDEX(DADOS!$C:$C,(60+MATCH(IF($M15="","",$M15),DADOS!$G$6:$G$9,0)-1)),"")),", "," e ",((LEN(_xlfn.TEXTJOIN(", ",TRUE(),IF(AND(IF($L15="","",$L15)<>"",NOT(IF($L15="","",$L15)="Regrediu")),INDEX(DADOS!$C:$C,(54+MATCH(IF($L15="","",$L15),DADOS!$F$6:$F$9,0)-1)),""),IF(AND(IF($M15="","",$M15)<>"",NOT(IF($M15="","",$M15)="Irregular")),INDEX(DADOS!$C:$C,(60+MATCH(IF($M15="","",$M15),DADOS!$G$6:$G$9,0)-1)),"")))-LEN(SUBSTITUTE(_xlfn.TEXTJOIN(", ",TRUE(),IF(AND(IF($L15="","",$L15)<>"",NOT(IF($L15="","",$L15)="Regrediu")),INDEX(DADOS!$C:$C,(54+MATCH(IF($L15="","",$L15),DADOS!$F$6:$F$9,0)-1)),""),IF(AND(IF($M15="","",$M15)<>"",NOT(IF($M15="","",$M15)="Irregular")),INDEX(DADOS!$C:$C,(60+MATCH(IF($M15="","",$M15),DADOS!$G$6:$G$9,0)-1)),"")),", ","")))/2))) | V15: =IF(((LEN(_xlfn.TEXTJOIN(", ",TRUE(),IF(AND(IF($L15="","",$L15)<>"",IF($L15="","",$L15)="Regrediu"),INDEX(DADOS!$C:$C,(54+MATCH(IF($L15="","",$L15),DADOS!$F$6:$F$9,0)-1)),""),IF(AND(IF($M15="","",$M15)<>"",IF($M15="","",$M15)="Irregular"),INDEX(DADOS!$C:$C,(60+MATCH(IF($M15="","",$M15),DADOS!$G$6:$G$9,0)-1)),"")))-LEN(SUBSTITUTE(_xlfn.TEXTJOIN(", ",TRUE(),IF(AND(IF($L15="","",$L15)<>"",IF($L15="","",$L15)="Regrediu"),INDEX(DADOS!$C:$C,(54+MATCH(IF($L15="","",$L15),DADOS!$F$6:$F$9,0)-1)),""),IF(AND(IF($M15="","",$M15)<>"",IF($M15="","",$M15)="Irregular"),INDEX(DADOS!$C:$C,(60+MATCH(IF($M15="","",$M15),DADOS!$G$6:$G$9,0)-1)),"")),", ","")))/2)=0,_xlfn.TEXTJOIN(", ",TRUE(),IF(AND(IF($L15="","",$L15)<>"",IF($L15="","",$L15)="Regrediu"),INDEX(DADOS!$C:$C,(54+MATCH(IF($L15="","",$L15),DADOS!$F$6:$F$9,0)-1)),""),IF(AND(IF($M15="","",$M15)<>"",IF($M15="","",$M15)="Irregular"),INDEX(DADOS!$C:$C,(60+MATCH(IF($M15="","",$M15),DADOS!$G$6:$G$9,0)-1)),"")),SUBSTITUTE(_xlfn.TEXTJOIN(", ",TRUE(),IF(AND(IF($L15="","",$L15)<>"",IF($L15="","",$L15)="Regrediu"),INDEX(DADOS!$C:$C,(54+MATCH(IF($L15="","",$L15),DADOS!$F$6:$F$9,0)-1)),""),IF(AND(IF($M15="","",$M15)<>"",IF($M15="","",$M15)="Irregular"),INDEX(DADOS!$C:$C,(60+MATCH(IF($M15="","",$M15),DADOS!$G$6:$G$9,0)-1)),"")),", "," e ",((LEN(_xlfn.TEXTJOIN(", ",TRUE(),IF(AND(IF($L15="","",$L15)<>"",IF($L15="","",$L15)="Regrediu"),INDEX(DADOS!$C:$C,(54+MATCH(IF($L15="","",$L15),DADOS!$F$6:$F$9,0)-1)),""),IF(AND(IF($M15="","",$M15)<>"",IF($M15="","",$M15)="Irregular"),INDEX(DADOS!$C:$C,(60+MATCH(IF($M15="","",$M15),DADOS!$G$6:$G$9,0)-1)),"")))-LEN(SUBSTITUTE(_xlfn.TEXTJOIN(", ",TRUE(),IF(AND(IF($L15="","",$L15)<>"",IF($L15="","",$L15)="Regrediu"),INDEX(DADOS!$C:$C,(54+MATCH(IF($L15="","",$L15),DADOS!$F$6:$F$9,0)-1)),""),IF(AND(IF($M15="","",$M15)<>"",IF($M15="","",$M15)="Irregular"),INDEX(DADOS!$C:$C,(60+MATCH(IF($M15="","",$M15),DADOS!$G$6:$G$9,0)-1)),"")),", ","")))/2))) | W15: =IF(AND($U15="",$V15=""),"",IF($V15="",INDEX(DADOS!$B:$B,(MOD(ROW()+7,3)+83))&$U15&INDEX(DADOS!$C:$C,(MOD(ROW()+7,3)+83)),IF($U15="",INDEX(DADOS!$B:$B,(MOD(ROW()+7,3)+88))&$V15&INDEX(DADOS!$C:$C,(MOD(ROW()+7,3)+88)),INDEX(DADOS!$B:$B,(MOD(ROW()+7,3)+93))&$U15&INDEX(DADOS!$C:$C,(MOD(ROW()+7,3)+93))&$V15&INDEX(DADOS!$D:$D,(MOD(ROW()+7,3)+93))))) | X15: =--(OR(IF($H15="","",$H15)="Insuficiente",IF($H15="","",$H15)="Suficiente"))+--(IF($I15="","",$I15)="Reduzido")+--(IF($J15="","",$J15)="Reduzida")+--(IF($K15="","",$K15)="A melhorar")+--(IF($L15="","",$L15)="Regrediu")+--(IF($M15="","",$M15)="Irregular") -> 0 | Y15: =IF(OR(IF($H15="","",$H15)="Insuficiente",IF($H15="","",$H15)="Suficiente"),1,IF(IF($I15="","",$I15)="Reduzido",2,IF(IF($J15="","",$J15)="Reduzida",3,IF(IF($K15="","",$K15)="A melhorar",4,IF(IF($L15="","",$L15)="Regrediu",5,IF(IF($M15="","",$M15)="Irregular",6,0)))))) -> 0 | Z15: =IF(((LEN(_xlfn.TEXTJOIN(", ",TRUE(),IF(OR(IF($H15="","",$H15)="Insuficiente",IF($H15="","",$H15)="Suficiente"),"o aproveitamento",""),IF(IF($I15="","",$I15)="Reduzido","o empenho",""),IF(IF($J15="","",$J15)="Reduzida","a participação",""),IF(IF($K15="","",$K15)="A melhorar","o comportamento",""),IF(IF($L15="","",$L15)="Regrediu","a evolução",""),IF(IF($M15="","",$M15)="Irregular","a assiduidade","")))-LEN(SUBSTITUTE(_xlfn.TEXTJOIN(", ",TRUE(),IF(OR(IF($H15="","",$H15)="Insuficiente",IF($H15="","",$H15)="Suficiente"),"o aproveitamento",""),IF(IF($I15="","",$I15)="Reduzido","o empenho",""),IF(IF($J15="","",$J15)="Reduzida","a participação",""),IF(IF($K15="","",$K15)="A melhorar","o comportamento",""),IF(IF($L15="","",$L15)="Regrediu","a evolução",""),IF(IF($M15="","",$M15)="Irregular","a assiduidade","")),", ","")))/2)=0,_xlfn.TEXTJOIN(", ",TRUE(),IF(OR(IF($H15="","",$H15)="Insuficiente",IF($H15="","",$H15)="Suficiente"),"o aproveitamento",""),IF(IF($I15="","",$I15)="Reduzido","o empenho",""),IF(IF($J15="","",$J15)="Reduzida","a participação",""),IF(IF($K15="","",$K15)="A melhorar","o comportamento",""),IF(IF($L15="","",$L15)="Regrediu","a evolução",""),IF(IF($M15="","",$M15)="Irregular","a assiduidade","")),SUBSTITUTE(_xlfn.TEXTJOIN(", ",TRUE(),IF(OR(IF($H15="","",$H15)="Insuficiente",IF($H15="","",$H15)="Suficiente"),"o aproveitamento",""),IF(IF($I15="","",$I15)="Reduzido","o empenho",""),IF(IF($J15="","",$J15)="Reduzida","a participação",""),IF(IF($K15="","",$K15)="A melhorar","o comportamento",""),IF(IF($L15="","",$L15)="Regrediu","a evolução",""),IF(IF($M15="","",$M15)="Irregular","a assiduidade","")),", "," e ",((LEN(_xlfn.TEXTJOIN(", ",TRUE(),IF(OR(IF($H15="","",$H15)="Insuficiente",IF($H15="","",$H15)="Suficiente"),"o aproveitamento",""),IF(IF($I15="","",$I15)="Reduzido","o empenho",""),IF(IF($J15="","",$J15)="Reduzida","a participação",""),IF(IF($K15="","",$K15)="A melhorar","o comportamento",""),IF(IF($L15="","",$L15)="Regrediu","a evolução",""),IF(IF($M15="","",$M15)="Irregular","a assiduidade","")))-LEN(SUBSTITUTE(_xlfn.TEXTJOIN(", ",TRUE(),IF(OR(IF($H15="","",$H15)="Insuficiente",IF($H15="","",$H15)="Suficiente"),"o aproveitamento",""),IF(IF($I15="","",$I15)="Reduzido","o empenho",""),IF(IF($J15="","",$J15)="Reduzida","a participação",""),IF(IF($K15="","",$K15)="A melhorar","o comportamento",""),IF(IF($L15="","",$L15)="Regrediu","a evolução",""),IF(IF($M15="","",$M15)="Irregular","a assiduidade","")),", ","")))/2))) | AA15: =IF(OR(IF($H15="","",$H15)<>"",IF($I15="","",$I15)<>"",IF($J15="","",$J15)<>"",IF($K15="","",$K15)<>"",IF($L15="","",$L15)<>"",IF($M15="","",$M15)<>""),IF($X15=0,INDEX(DADOS!$B:$B,(MOD(ROW()+17+0,5)+99)),IF($X15=1,CHOOSE($Y15,INDEX(DADOS!$B:$B,(MOD(ROW()+17+0,3)+106)),INDEX(DADOS!$C:$C,(MOD(ROW()+17+0,3)+106)),INDEX(DADOS!$D:$D,(MOD(ROW()+17+0,3)+106)),INDEX(DADOS!$E:$E,(MOD(ROW()+17+0,3)+106)),INDEX(DADOS!$F:$F,(MOD(ROW()+17+0,3)+106)),INDEX(DADOS!$G:$G,(MOD(ROW()+17+0,3)+106))),INDEX(DADOS!$B:$B,(MOD(ROW()+17,3)+111))&$Z15&INDEX(DADOS!$C:$C,(MOD(ROW()+17,3)+111)))),"") | AB15: =INDEX(DADOS!$B:$B,(MOD(ROW()+19,5)+116)) -> Destaca-se igualmente: | AC15: =SUBTOTAL(103,$G$8:G15) -> 8 | AD15: =IF($G15="","",C15&"|"&D15&"|"&E15&"|"&$G15) -> 8.º A|Matemática|3.º Período|João Costa
B16: =IF(BASE!B4="","",BASE!B4) -> 2026/2027 | C16: =IF(BASE!C7="","",BASE!C7) -> 8.º A | D16: =IF(BASE!F8="","",BASE!F8) -> Matemática | E16: 3.º Período | F16: 3 | G16: =IF(BASE!$C$10="","",BASE!$C$10) -> Beatriz Nunes | O16: =IF($G16="","",IF(AND(NOT(OR(IF($H16="","",$H16)<>"",IF($I16="","",$I16)<>"",IF($J16="","",$J16)<>"",IF($K16="","",$K16)<>"",IF($L16="","",$L16)<>"",IF($M16="","",$M16)<>"")),IF($N16="","",$N16)=""),"— Ainda sem critérios preenchidos. —",_xlfn.TEXTJOIN(" ",TRUE(),$Q16,$T16,$W16,$AA16,IF(IF($N16="","",$N16)<>"",$AB16&" "&IF($N16="","",$N16),"")))) -> — Ainda sem critérios preenchidos. — | Q16: =IF(OR(IF($H16="","",$H16)<>"",IF($I16="","",$I16)<>"",IF($J16="","",$J16)<>"",IF($K16="","",$K16)<>"",IF($L16="","",$L16)<>"",IF($M16="","",$M16)<>""),INDEX(DADOS!$C:$C,(15+(MATCH(IF($H16="","(sem aproveitamento)",$H16),DADOS!$I$6:$I$11,0)-1)*3+MOD(ROW()+1,3))),"") | R16: =IF(((LEN(_xlfn.TEXTJOIN(", ",TRUE(),IF(AND(IF($I16="","",$I16)<>"",NOT(IF($I16="","",$I16)="Reduzido")),INDEX(DADOS!$C:$C,(36+MATCH(IF($I16="","",$I16),DADOS!$C$6:$C$9,0)-1)),""),IF(AND(IF($J16="","",$J16)<>"",NOT(IF($J16="","",$J16)="Reduzida")),INDEX(DADOS!$C:$C,(42+MATCH(IF($J16="","",$J16),DADOS!$D$6:$D$9,0)-1)),""),IF(AND(IF($K16="","",$K16)<>"",NOT(IF($K16="","",$K16)="A melhorar")),INDEX(DADOS!$C:$C,(48+MATCH(IF($K16="","",$K16),DADOS!$E$6:$E$9,0)-1)),"")))-LEN(SUBSTITUTE(_xlfn.TEXTJOIN(", ",TRUE(),IF(AND(IF($I16="","",$I16)<>"",NOT(IF($I16="","",$I16)="Reduzido")),INDEX(DADOS!$C:$C,(36+MATCH(IF($I16="","",$I16),DADOS!$C$6:$C$9,0)-1)),""),IF(AND(IF($J16="","",$J16)<>"",NOT(IF($J16="","",$J16)="Reduzida")),INDEX(DADOS!$C:$C,(42+MATCH(IF($J16="","",$J16),DADOS!$D$6:$D$9,0)-1)),""),IF(AND(IF($K16="","",$K16)<>"",NOT(IF($K16="","",$K16)="A melhorar")),INDEX(DADOS!$C:$C,(48+MATCH(IF($K16="","",$K16),DADOS!$E$6:$E$9,0)-1)),"")),", ","")))/2)=0,_xlfn.TEXTJOIN(", ",TRUE(),IF(AND(IF($I16="","",$I16)<>"",NOT(IF($I16="","",$I16)="Reduzido")),INDEX(DADOS!$C:$C,(36+MATCH(IF($I16="","",$I16),DADOS!$C$6:$C$9,0)-1)),""),IF(AND(IF($J16="","",$J16)<>"",NOT(IF($J16="","",$J16)="Reduzida")),INDEX(DADOS!$C:$C,(42+MATCH(IF($J16="","",$J16),DADOS!$D$6:$D$9,0)-1)),""),IF(AND(IF($K16="","",$K16)<>"",NOT(IF($K16="","",$K16)="A melhorar")),INDEX(DADOS!$C:$C,(48+MATCH(IF($K16="","",$K16),DADOS!$E$6:$E$9,0)-1)),"")),SUBSTITUTE(_xlfn.TEXTJOIN(", ",TRUE(),IF(AND(IF($I16="","",$I16)<>"",NOT(IF($I16="","",$I16)="Reduzido")),INDEX(DADOS!$C:$C,(36+MATCH(IF($I16="","",$I16),DADOS!$C$6:$C$9,0)-1)),""),IF(AND(IF($J16="","",$J16)<>"",NOT(IF($J16="","",$J16)="Reduzida")),INDEX(DADOS!$C:$C,(42+MATCH(IF($J16="","",$J16),DADOS!$D$6:$D$9,0)-1)),""),IF(AND(IF($K16="","",$K16)<>"",NOT(IF($K16="","",$K16)="A melhorar")),INDEX(DADOS!$C:$C,(48+MATCH(IF($K16="","",$K16),DADOS!$E$6:$E$9,0)-1)),"")),", "," e ",((LEN(_xlfn.TEXTJOIN(", ",TRUE(),IF(AND(IF($I16="","",$I16)<>"",NOT(IF($I16="","",$I16)="Reduzido")),INDEX(DADOS!$C:$C,(36+MATCH(IF($I16="","",$I16),DADOS!$C$6:$C$9,0)-1)),""),IF(AND(IF($J16="","",$J16)<>"",NOT(IF($J16="","",$J16)="Reduzida")),INDEX(DADOS!$C:$C,(42+MATCH(IF($J16="","",$J16),DADOS!$D$6:$D$9,0)-1)),""),IF(AND(IF($K16="","",$K16)<>"",NOT(IF($K16="","",$K16)="A melhorar")),INDEX(DADOS!$C:$C,(48+MATCH(IF($K16="","",$K16),DADOS!$E$6:$E$9,0)-1)),"")))-LEN(SUBSTITUTE(_xlfn.TEXTJOIN(", ",TRUE(),IF(AND(IF($I16="","",$I16)<>"",NOT(IF($I16="","",$I16)="Reduzido")),INDEX(DADOS!$C:$C,(36+MATCH(IF($I16="","",$I16),DADOS!$C$6:$C$9,0)-1)),""),IF(AND(IF($J16="","",$J16)<>"",NOT(IF($J16="","",$J16)="Reduzida")),INDEX(DADOS!$C:$C,(42+MATCH(IF($J16="","",$J16),DADOS!$D$6:$D$9,0)-1)),""),IF(AND(IF($K16="","",$K16)<>"",NOT(IF($K16="","",$K16)="A melhorar")),INDEX(DADOS!$C:$C,(48+MATCH(IF($K16="","",$K16),DADOS!$E$6:$E$9,0)-1)),"")),", ","")))/2))) | S16: =IF(((LEN(_xlfn.TEXTJOIN(", ",TRUE(),IF(AND(IF($I16="","",$I16)<>"",IF($I16="","",$I16)="Reduzido"),INDEX(DADOS!$C:$C,(36+MATCH(IF($I16="","",$I16),DADOS!$C$6:$C$9,0)-1)),""),IF(AND(IF($J16="","",$J16)<>"",IF($J16="","",$J16)="Reduzida"),INDEX(DADOS!$C:$C,(42+MATCH(IF($J16="","",$J16),DADOS!$D$6:$D$9,0)-1)),""),IF(AND(IF($K16="","",$K16)<>"",IF($K16="","",$K16)="A melhorar"),INDEX(DADOS!$C:$C,(48+MATCH(IF($K16="","",$K16),DADOS!$E$6:$E$9,0)-1)),"")))-LEN(SUBSTITUTE(_xlfn.TEXTJOIN(", ",TRUE(),IF(AND(IF($I16="","",$I16)<>"",IF($I16="","",$I16)="Reduzido"),INDEX(DADOS!$C:$C,(36+MATCH(IF($I16="","",$I16),DADOS!$C$6:$C$9,0)-1)),""),IF(AND(IF($J16="","",$J16)<>"",IF($J16="","",$J16)="Reduzida"),INDEX(DADOS!$C:$C,(42+MATCH(IF($J16="","",$J16),DADOS!$D$6:$D$9,0)-1)),""),IF(AND(IF($K16="","",$K16)<>"",IF($K16="","",$K16)="A melhorar"),INDEX(DADOS!$C:$C,(48+MATCH(IF($K16="","",$K16),DADOS!$E$6:$E$9,0)-1)),"")),", ","")))/2)=0,_xlfn.TEXTJOIN(", ",TRUE(),IF(AND(IF($I16="","",$I16)<>"",IF($I16="","",$I16)="Reduzido"),INDEX(DADOS!$C:$C,(36+MATCH(IF($I16="","",$I16),DADOS!$C$6:$C$9,0)-1)),""),IF(AND(IF($J16="","",$J16)<>"",IF($J16="","",$J16)="Reduzida"),INDEX(DADOS!$C:$C,(42+MATCH(IF($J16="","",$J16),DADOS!$D$6:$D$9,0)-1)),""),IF(AND(IF($K16="","",$K16)<>"",IF($K16="","",$K16)="A melhorar"),INDEX(DADOS!$C:$C,(48+MATCH(IF($K16="","",$K16),DADOS!$E$6:$E$9,0)-1)),"")),SUBSTITUTE(_xlfn.TEXTJOIN(", ",TRUE(),IF(AND(IF($I16="","",$I16)<>"",IF($I16="","",$I16)="Reduzido"),INDEX(DADOS!$C:$C,(36+MATCH(IF($I16="","",$I16),DADOS!$C$6:$C$9,0)-1)),""),IF(AND(IF($J16="","",$J16)<>"",IF($J16="","",$J16)="Reduzida"),INDEX(DADOS!$C:$C,(42+MATCH(IF($J16="","",$J16),DADOS!$D$6:$D$9,0)-1)),""),IF(AND(IF($K16="","",$K16)<>"",IF($K16="","",$K16)="A melhorar"),INDEX(DADOS!$C:$C,(48+MATCH(IF($K16="","",$K16),DADOS!$E$6:$E$9,0)-1)),"")),", "," e ",((LEN(_xlfn.TEXTJOIN(", ",TRUE(),IF(AND(IF($I16="","",$I16)<>"",IF($I16="","",$I16)="Reduzido"),INDEX(DADOS!$C:$C,(36+MATCH(IF($I16="","",$I16),DADOS!$C$6:$C$9,0)-1)),""),IF(AND(IF($J16="","",$J16)<>"",IF($J16="","",$J16)="Reduzida"),INDEX(DADOS!$C:$C,(42+MATCH(IF($J16="","",$J16),DADOS!$D$6:$D$9,0)-1)),""),IF(AND(IF($K16="","",$K16)<>"",IF($K16="","",$K16)="A melhorar"),INDEX(DADOS!$C:$C,(48+MATCH(IF($K16="","",$K16),DADOS!$E$6:$E$9,0)-1)),"")))-LEN(SUBSTITUTE(_xlfn.TEXTJOIN(", ",TRUE(),IF(AND(IF($I16="","",$I16)<>"",IF($I16="","",$I16)="Reduzido"),INDEX(DADOS!$C:$C,(36+MATCH(IF($I16="","",$I16),DADOS!$C$6:$C$9,0)-1)),""),IF(AND(IF($J16="","",$J16)<>"",IF($J16="","",$J16)="Reduzida"),INDEX(DADOS!$C:$C,(42+MATCH(IF($J16="","",$J16),DADOS!$D$6:$D$9,0)-1)),""),IF(AND(IF($K16="","",$K16)<>"",IF($K16="","",$K16)="A melhorar"),INDEX(DADOS!$C:$C,(48+MATCH(IF($K16="","",$K16),DADOS!$E$6:$E$9,0)-1)),"")),", ","")))/2))) | T16: =IF(AND($R16="",$S16=""),"",IF($S16="",INDEX(DADOS!$B:$B,(MOD(ROW()+3,3)+67))&$R16&INDEX(DADOS!$C:$C,(MOD(ROW()+3,3)+67)),IF($R16="",INDEX(DADOS!$B:$B,(MOD(ROW()+3,3)+72))&$S16&INDEX(DADOS!$C:$C,(MOD(ROW()+3,3)+72)),INDEX(DADOS!$B:$B,(MOD(ROW()+3,3)+77))&$R16&INDEX(DADOS!$C:$C,(MOD(ROW()+3,3)+77))&$S16&INDEX(DADOS!$D:$D,(MOD(ROW()+3,3)+77))))) | U16: =IF(((LEN(_xlfn.TEXTJOIN(", ",TRUE(),IF(AND(IF($L16="","",$L16)<>"",NOT(IF($L16="","",$L16)="Regrediu")),INDEX(DADOS!$C:$C,(54+MATCH(IF($L16="","",$L16),DADOS!$F$6:$F$9,0)-1)),""),IF(AND(IF($M16="","",$M16)<>"",NOT(IF($M16="","",$M16)="Irregular")),INDEX(DADOS!$C:$C,(60+MATCH(IF($M16="","",$M16),DADOS!$G$6:$G$9,0)-1)),"")))-LEN(SUBSTITUTE(_xlfn.TEXTJOIN(", ",TRUE(),IF(AND(IF($L16="","",$L16)<>"",NOT(IF($L16="","",$L16)="Regrediu")),INDEX(DADOS!$C:$C,(54+MATCH(IF($L16="","",$L16),DADOS!$F$6:$F$9,0)-1)),""),IF(AND(IF($M16="","",$M16)<>"",NOT(IF($M16="","",$M16)="Irregular")),INDEX(DADOS!$C:$C,(60+MATCH(IF($M16="","",$M16),DADOS!$G$6:$G$9,0)-1)),"")),", ","")))/2)=0,_xlfn.TEXTJOIN(", ",TRUE(),IF(AND(IF($L16="","",$L16)<>"",NOT(IF($L16="","",$L16)="Regrediu")),INDEX(DADOS!$C:$C,(54+MATCH(IF($L16="","",$L16),DADOS!$F$6:$F$9,0)-1)),""),IF(AND(IF($M16="","",$M16)<>"",NOT(IF($M16="","",$M16)="Irregular")),INDEX(DADOS!$C:$C,(60+MATCH(IF($M16="","",$M16),DADOS!$G$6:$G$9,0)-1)),"")),SUBSTITUTE(_xlfn.TEXTJOIN(", ",TRUE(),IF(AND(IF($L16="","",$L16)<>"",NOT(IF($L16="","",$L16)="Regrediu")),INDEX(DADOS!$C:$C,(54+MATCH(IF($L16="","",$L16),DADOS!$F$6:$F$9,0)-1)),""),IF(AND(IF($M16="","",$M16)<>"",NOT(IF($M16="","",$M16)="Irregular")),INDEX(DADOS!$C:$C,(60+MATCH(IF($M16="","",$M16),DADOS!$G$6:$G$9,0)-1)),"")),", "," e ",((LEN(_xlfn.TEXTJOIN(", ",TRUE(),IF(AND(IF($L16="","",$L16)<>"",NOT(IF($L16="","",$L16)="Regrediu")),INDEX(DADOS!$C:$C,(54+MATCH(IF($L16="","",$L16),DADOS!$F$6:$F$9,0)-1)),""),IF(AND(IF($M16="","",$M16)<>"",NOT(IF($M16="","",$M16)="Irregular")),INDEX(DADOS!$C:$C,(60+MATCH(IF($M16="","",$M16),DADOS!$G$6:$G$9,0)-1)),"")))-LEN(SUBSTITUTE(_xlfn.TEXTJOIN(", ",TRUE(),IF(AND(IF($L16="","",$L16)<>"",NOT(IF($L16="","",$L16)="Regrediu")),INDEX(DADOS!$C:$C,(54+MATCH(IF($L16="","",$L16),DADOS!$F$6:$F$9,0)-1)),""),IF(AND(IF($M16="","",$M16)<>"",NOT(IF($M16="","",$M16)="Irregular")),INDEX(DADOS!$C:$C,(60+MATCH(IF($M16="","",$M16),DADOS!$G$6:$G$9,0)-1)),"")),", ","")))/2))) | V16: =IF(((LEN(_xlfn.TEXTJOIN(", ",TRUE(),IF(AND(IF($L16="","",$L16)<>"",IF($L16="","",$L16)="Regrediu"),INDEX(DADOS!$C:$C,(54+MATCH(IF($L16="","",$L16),DADOS!$F$6:$F$9,0)-1)),""),IF(AND(IF($M16="","",$M16)<>"",IF($M16="","",$M16)="Irregular"),INDEX(DADOS!$C:$C,(60+MATCH(IF($M16="","",$M16),DADOS!$G$6:$G$9,0)-1)),"")))-LEN(SUBSTITUTE(_xlfn.TEXTJOIN(", ",TRUE(),IF(AND(IF($L16="","",$L16)<>"",IF($L16="","",$L16)="Regrediu"),INDEX(DADOS!$C:$C,(54+MATCH(IF($L16="","",$L16),DADOS!$F$6:$F$9,0)-1)),""),IF(AND(IF($M16="","",$M16)<>"",IF($M16="","",$M16)="Irregular"),INDEX(DADOS!$C:$C,(60+MATCH(IF($M16="","",$M16),DADOS!$G$6:$G$9,0)-1)),"")),", ","")))/2)=0,_xlfn.TEXTJOIN(", ",TRUE(),IF(AND(IF($L16="","",$L16)<>"",IF($L16="","",$L16)="Regrediu"),INDEX(DADOS!$C:$C,(54+MATCH(IF($L16="","",$L16),DADOS!$F$6:$F$9,0)-1)),""),IF(AND(IF($M16="","",$M16)<>"",IF($M16="","",$M16)="Irregular"),INDEX(DADOS!$C:$C,(60+MATCH(IF($M16="","",$M16),DADOS!$G$6:$G$9,0)-1)),"")),SUBSTITUTE(_xlfn.TEXTJOIN(", ",TRUE(),IF(AND(IF($L16="","",$L16)<>"",IF($L16="","",$L16)="Regrediu"),INDEX(DADOS!$C:$C,(54+MATCH(IF($L16="","",$L16),DADOS!$F$6:$F$9,0)-1)),""),IF(AND(IF($M16="","",$M16)<>"",IF($M16="","",$M16)="Irregular"),INDEX(DADOS!$C:$C,(60+MATCH(IF($M16="","",$M16),DADOS!$G$6:$G$9,0)-1)),"")),", "," e ",((LEN(_xlfn.TEXTJOIN(", ",TRUE(),IF(AND(IF($L16="","",$L16)<>"",IF($L16="","",$L16)="Regrediu"),INDEX(DADOS!$C:$C,(54+MATCH(IF($L16="","",$L16),DADOS!$F$6:$F$9,0)-1)),""),IF(AND(IF($M16="","",$M16)<>"",IF($M16="","",$M16)="Irregular"),INDEX(DADOS!$C:$C,(60+MATCH(IF($M16="","",$M16),DADOS!$G$6:$G$9,0)-1)),"")))-LEN(SUBSTITUTE(_xlfn.TEXTJOIN(", ",TRUE(),IF(AND(IF($L16="","",$L16)<>"",IF($L16="","",$L16)="Regrediu"),INDEX(DADOS!$C:$C,(54+MATCH(IF($L16="","",$L16),DADOS!$F$6:$F$9,0)-1)),""),IF(AND(IF($M16="","",$M16)<>"",IF($M16="","",$M16)="Irregular"),INDEX(DADOS!$C:$C,(60+MATCH(IF($M16="","",$M16),DADOS!$G$6:$G$9,0)-1)),"")),", ","")))/2))) | W16: =IF(AND($U16="",$V16=""),"",IF($V16="",INDEX(DADOS!$B:$B,(MOD(ROW()+7,3)+83))&$U16&INDEX(DADOS!$C:$C,(MOD(ROW()+7,3)+83)),IF($U16="",INDEX(DADOS!$B:$B,(MOD(ROW()+7,3)+88))&$V16&INDEX(DADOS!$C:$C,(MOD(ROW()+7,3)+88)),INDEX(DADOS!$B:$B,(MOD(ROW()+7,3)+93))&$U16&INDEX(DADOS!$C:$C,(MOD(ROW()+7,3)+93))&$V16&INDEX(DADOS!$D:$D,(MOD(ROW()+7,3)+93))))) | X16: =--(OR(IF($H16="","",$H16)="Insuficiente",IF($H16="","",$H16)="Suficiente"))+--(IF($I16="","",$I16)="Reduzido")+--(IF($J16="","",$J16)="Reduzida")+--(IF($K16="","",$K16)="A melhorar")+--(IF($L16="","",$L16)="Regrediu")+--(IF($M16="","",$M16)="Irregular") -> 0 | Y16: =IF(OR(IF($H16="","",$H16)="Insuficiente",IF($H16="","",$H16)="Suficiente"),1,IF(IF($I16="","",$I16)="Reduzido",2,IF(IF($J16="","",$J16)="Reduzida",3,IF(IF($K16="","",$K16)="A melhorar",4,IF(IF($L16="","",$L16)="Regrediu",5,IF(IF($M16="","",$M16)="Irregular",6,0)))))) -> 0 | Z16: =IF(((LEN(_xlfn.TEXTJOIN(", ",TRUE(),IF(OR(IF($H16="","",$H16)="Insuficiente",IF($H16="","",$H16)="Suficiente"),"o aproveitamento",""),IF(IF($I16="","",$I16)="Reduzido","o empenho",""),IF(IF($J16="","",$J16)="Reduzida","a participação",""),IF(IF($K16="","",$K16)="A melhorar","o comportamento",""),IF(IF($L16="","",$L16)="Regrediu","a evolução",""),IF(IF($M16="","",$M16)="Irregular","a assiduidade","")))-LEN(SUBSTITUTE(_xlfn.TEXTJOIN(", ",TRUE(),IF(OR(IF($H16="","",$H16)="Insuficiente",IF($H16="","",$H16)="Suficiente"),"o aproveitamento",""),IF(IF($I16="","",$I16)="Reduzido","o empenho",""),IF(IF($J16="","",$J16)="Reduzida","a participação",""),IF(IF($K16="","",$K16)="A melhorar","o comportamento",""),IF(IF($L16="","",$L16)="Regrediu","a evolução",""),IF(IF($M16="","",$M16)="Irregular","a assiduidade","")),", ","")))/2)=0,_xlfn.TEXTJOIN(", ",TRUE(),IF(OR(IF($H16="","",$H16)="Insuficiente",IF($H16="","",$H16)="Suficiente"),"o aproveitamento",""),IF(IF($I16="","",$I16)="Reduzido","o empenho",""),IF(IF($J16="","",$J16)="Reduzida","a participação",""),IF(IF($K16="","",$K16)="A melhorar","o comportamento",""),IF(IF($L16="","",$L16)="Regrediu","a evolução",""),IF(IF($M16="","",$M16)="Irregular","a assiduidade","")),SUBSTITUTE(_xlfn.TEXTJOIN(", ",TRUE(),IF(OR(IF($H16="","",$H16)="Insuficiente",IF($H16="","",$H16)="Suficiente"),"o aproveitamento",""),IF(IF($I16="","",$I16)="Reduzido","o empenho",""),IF(IF($J16="","",$J16)="Reduzida","a participação",""),IF(IF($K16="","",$K16)="A melhorar","o comportamento",""),IF(IF($L16="","",$L16)="Regrediu","a evolução",""),IF(IF($M16="","",$M16)="Irregular","a assiduidade","")),", "," e ",((LEN(_xlfn.TEXTJOIN(", ",TRUE(),IF(OR(IF($H16="","",$H16)="Insuficiente",IF($H16="","",$H16)="Suficiente"),"o aproveitamento",""),IF(IF($I16="","",$I16)="Reduzido","o empenho",""),IF(IF($J16="","",$J16)="Reduzida","a participação",""),IF(IF($K16="","",$K16)="A melhorar","o comportamento",""),IF(IF($L16="","",$L16)="Regrediu","a evolução",""),IF(IF($M16="","",$M16)="Irregular","a assiduidade","")))-LEN(SUBSTITUTE(_xlfn.TEXTJOIN(", ",TRUE(),IF(OR(IF($H16="","",$H16)="Insuficiente",IF($H16="","",$H16)="Suficiente"),"o aproveitamento",""),IF(IF($I16="","",$I16)="Reduzido","o empenho",""),IF(IF($J16="","",$J16)="Reduzida","a participação",""),IF(IF($K16="","",$K16)="A melhorar","o comportamento",""),IF(IF($L16="","",$L16)="Regrediu","a evolução",""),IF(IF($M16="","",$M16)="Irregular","a assiduidade","")),", ","")))/2))) | AA16: =IF(OR(IF($H16="","",$H16)<>"",IF($I16="","",$I16)<>"",IF($J16="","",$J16)<>"",IF($K16="","",$K16)<>"",IF($L16="","",$L16)<>"",IF($M16="","",$M16)<>""),IF($X16=0,INDEX(DADOS!$B:$B,(MOD(ROW()+17+0,5)+99)),IF($X16=1,CHOOSE($Y16,INDEX(DADOS!$B:$B,(MOD(ROW()+17+0,3)+106)),INDEX(DADOS!$C:$C,(MOD(ROW()+17+0,3)+106)),INDEX(DADOS!$D:$D,(MOD(ROW()+17+0,3)+106)),INDEX(DADOS!$E:$E,(MOD(ROW()+17+0,3)+106)),INDEX(DADOS!$F:$F,(MOD(ROW()+17+0,3)+106)),INDEX(DADOS!$G:$G,(MOD(ROW()+17+0,3)+106))),INDEX(DADOS!$B:$B,(MOD(ROW()+17,3)+111))&$Z16&INDEX(DADOS!$C:$C,(MOD(ROW()+17,3)+111)))),"") | AB16: =INDEX(DADOS!$B:$B,(MOD(ROW()+19,5)+116)) -> Importa ainda destacar: | AC16: =SUBTOTAL(103,$G$8:G16) -> 9 | AD16: =IF($G16="","",C16&"|"&D16&"|"&E16&"|"&$G16) -> 8.º A|Matemática|3.º Período|Beatriz Nunes
B17: =IF(BASE!B4="","",BASE!B4) -> 2026/2027 | C17: =IF(BASE!C7="","",BASE!C7) -> 8.º A | D17: =IF(BASE!F9="","",BASE!F9) -> Ciências | E17: 1.º Período | F17: 1 | G17: =IF(BASE!$C$8="","",BASE!$C$8) -> Ana Silva | O17: =IF($G17="","",IF(AND(NOT(OR(IF($H17="","",$H17)<>"",IF($I17="","",$I17)<>"",IF($J17="","",$J17)<>"",IF($K17="","",$K17)<>"",IF($L17="","",$L17)<>"",IF($M17="","",$M17)<>"")),IF($N17="","",$N17)=""),"— Ainda sem critérios preenchidos. —",_xlfn.TEXTJOIN(" ",TRUE(),$Q17,$T17,$W17,$AA17,IF(IF($N17="","",$N17)<>"",$AB17&" "&IF($N17="","",$N17),"")))) -> — Ainda sem critérios preenchidos. — | Q17: =IF(OR(IF($H17="","",$H17)<>"",IF($I17="","",$I17)<>"",IF($J17="","",$J17)<>"",IF($K17="","",$K17)<>"",IF($L17="","",$L17)<>"",IF($M17="","",$M17)<>""),INDEX(DADOS!$C:$C,(15+(MATCH(IF($H17="","(sem aproveitamento)",$H17),DADOS!$I$6:$I$11,0)-1)*3+MOD(ROW()+1,3))),"") | R17: =IF(((LEN(_xlfn.TEXTJOIN(", ",TRUE(),IF(AND(IF($I17="","",$I17)<>"",NOT(IF($I17="","",$I17)="Reduzido")),INDEX(DADOS!$C:$C,(36+MATCH(IF($I17="","",$I17),DADOS!$C$6:$C$9,0)-1)),""),IF(AND(IF($J17="","",$J17)<>"",NOT(IF($J17="","",$J17)="Reduzida")),INDEX(DADOS!$C:$C,(42+MATCH(IF($J17="","",$J17),DADOS!$D$6:$D$9,0)-1)),""),IF(AND(IF($K17="","",$K17)<>"",NOT(IF($K17="","",$K17)="A melhorar")),INDEX(DADOS!$C:$C,(48+MATCH(IF($K17="","",$K17),DADOS!$E$6:$E$9,0)-1)),"")))-LEN(SUBSTITUTE(_xlfn.TEXTJOIN(", ",TRUE(),IF(AND(IF($I17="","",$I17)<>"",NOT(IF($I17="","",$I17)="Reduzido")),INDEX(DADOS!$C:$C,(36+MATCH(IF($I17="","",$I17),DADOS!$C$6:$C$9,0)-1)),""),IF(AND(IF($J17="","",$J17)<>"",NOT(IF($J17="","",$J17)="Reduzida")),INDEX(DADOS!$C:$C,(42+MATCH(IF($J17="","",$J17),DADOS!$D$6:$D$9,0)-1)),""),IF(AND(IF($K17="","",$K17)<>"",NOT(IF($K17="","",$K17)="A melhorar")),INDEX(DADOS!$C:$C,(48+MATCH(IF($K17="","",$K17),DADOS!$E$6:$E$9,0)-1)),"")),", ","")))/2)=0,_xlfn.TEXTJOIN(", ",TRUE(),IF(AND(IF($I17="","",$I17)<>"",NOT(IF($I17="","",$I17)="Reduzido")),INDEX(DADOS!$C:$C,(36+MATCH(IF($I17="","",$I17),DADOS!$C$6:$C$9,0)-1)),""),IF(AND(IF($J17="","",$J17)<>"",NOT(IF($J17="","",$J17)="Reduzida")),INDEX(DADOS!$C:$C,(42+MATCH(IF($J17="","",$J17),DADOS!$D$6:$D$9,0)-1)),""),IF(AND(IF($K17="","",$K17)<>"",NOT(IF($K17="","",$K17)="A melhorar")),INDEX(DADOS!$C:$C,(48+MATCH(IF($K17="","",$K17),DADOS!$E$6:$E$9,0)-1)),"")),SUBSTITUTE(_xlfn.TEXTJOIN(", ",TRUE(),IF(AND(IF($I17="","",$I17)<>"",NOT(IF($I17="","",$I17)="Reduzido")),INDEX(DADOS!$C:$C,(36+MATCH(IF($I17="","",$I17),DADOS!$C$6:$C$9,0)-1)),""),IF(AND(IF($J17="","",$J17)<>"",NOT(IF($J17="","",$J17)="Reduzida")),INDEX(DADOS!$C:$C,(42+MATCH(IF($J17="","",$J17),DADOS!$D$6:$D$9,0)-1)),""),IF(AND(IF($K17="","",$K17)<>"",NOT(IF($K17="","",$K17)="A melhorar")),INDEX(DADOS!$C:$C,(48+MATCH(IF($K17="","",$K17),DADOS!$E$6:$E$9,0)-1)),"")),", "," e ",((LEN(_xlfn.TEXTJOIN(", ",TRUE(),IF(AND(IF($I17="","",$I17)<>"",NOT(IF($I17="","",$I17)="Reduzido")),INDEX(DADOS!$C:$C,(36+MATCH(IF($I17="","",$I17),DADOS!$C$6:$C$9,0)-1)),""),IF(AND(IF($J17="","",$J17)<>"",NOT(IF($J17="","",$J17)="Reduzida")),INDEX(DADOS!$C:$C,(42+MATCH(IF($J17="","",$J17),DADOS!$D$6:$D$9,0)-1)),""),IF(AND(IF($K17="","",$K17)<>"",NOT(IF($K17="","",$K17)="A melhorar")),INDEX(DADOS!$C:$C,(48+MATCH(IF($K17="","",$K17),DADOS!$E$6:$E$9,0)-1)),"")))-LEN(SUBSTITUTE(_xlfn.TEXTJOIN(", ",TRUE(),IF(AND(IF($I17="","",$I17)<>"",NOT(IF($I17="","",$I17)="Reduzido")),INDEX(DADOS!$C:$C,(36+MATCH(IF($I17="","",$I17),DADOS!$C$6:$C$9,0)-1)),""),IF(AND(IF($J17="","",$J17)<>"",NOT(IF($J17="","",$J17)="Reduzida")),INDEX(DADOS!$C:$C,(42+MATCH(IF($J17="","",$J17),DADOS!$D$6:$D$9,0)-1)),""),IF(AND(IF($K17="","",$K17)<>"",NOT(IF($K17="","",$K17)="A melhorar")),INDEX(DADOS!$C:$C,(48+MATCH(IF($K17="","",$K17),DADOS!$E$6:$E$9,0)-1)),"")),", ","")))/2))) | S17: =IF(((LEN(_xlfn.TEXTJOIN(", ",TRUE(),IF(AND(IF($I17="","",$I17)<>"",IF($I17="","",$I17)="Reduzido"),INDEX(DADOS!$C:$C,(36+MATCH(IF($I17="","",$I17),DADOS!$C$6:$C$9,0)-1)),""),IF(AND(IF($J17="","",$J17)<>"",IF($J17="","",$J17)="Reduzida"),INDEX(DADOS!$C:$C,(42+MATCH(IF($J17="","",$J17),DADOS!$D$6:$D$9,0)-1)),""),IF(AND(IF($K17="","",$K17)<>"",IF($K17="","",$K17)="A melhorar"),INDEX(DADOS!$C:$C,(48+MATCH(IF($K17="","",$K17),DADOS!$E$6:$E$9,0)-1)),"")))-LEN(SUBSTITUTE(_xlfn.TEXTJOIN(", ",TRUE(),IF(AND(IF($I17="","",$I17)<>"",IF($I17="","",$I17)="Reduzido"),INDEX(DADOS!$C:$C,(36+MATCH(IF($I17="","",$I17),DADOS!$C$6:$C$9,0)-1)),""),IF(AND(IF($J17="","",$J17)<>"",IF($J17="","",$J17)="Reduzida"),INDEX(DADOS!$C:$C,(42+MATCH(IF($J17="","",$J17),DADOS!$D$6:$D$9,0)-1)),""),IF(AND(IF($K17="","",$K17)<>"",IF($K17="","",$K17)="A melhorar"),INDEX(DADOS!$C:$C,(48+MATCH(IF($K17="","",$K17),DADOS!$E$6:$E$9,0)-1)),"")),", ","")))/2)=0,_xlfn.TEXTJOIN(", ",TRUE(),IF(AND(IF($I17="","",$I17)<>"",IF($I17="","",$I17)="Reduzido"),INDEX(DADOS!$C:$C,(36+MATCH(IF($I17="","",$I17),DADOS!$C$6:$C$9,0)-1)),""),IF(AND(IF($J17="","",$J17)<>"",IF($J17="","",$J17)="Reduzida"),INDEX(DADOS!$C:$C,(42+MATCH(IF($J17="","",$J17),DADOS!$D$6:$D$9,0)-1)),""),IF(AND(IF($K17="","",$K17)<>"",IF($K17="","",$K17)="A melhorar"),INDEX(DADOS!$C:$C,(48+MATCH(IF($K17="","",$K17),DADOS!$E$6:$E$9,0)-1)),"")),SUBSTITUTE(_xlfn.TEXTJOIN(", ",TRUE(),IF(AND(IF($I17="","",$I17)<>"",IF($I17="","",$I17)="Reduzido"),INDEX(DADOS!$C:$C,(36+MATCH(IF($I17="","",$I17),DADOS!$C$6:$C$9,0)-1)),""),IF(AND(IF($J17="","",$J17)<>"",IF($J17="","",$J17)="Reduzida"),INDEX(DADOS!$C:$C,(42+MATCH(IF($J17="","",$J17),DADOS!$D$6:$D$9,0)-1)),""),IF(AND(IF($K17="","",$K17)<>"",IF($K17="","",$K17)="A melhorar"),INDEX(DADOS!$C:$C,(48+MATCH(IF($K17="","",$K17),DADOS!$E$6:$E$9,0)-1)),"")),", "," e ",((LEN(_xlfn.TEXTJOIN(", ",TRUE(),IF(AND(IF($I17="","",$I17)<>"",IF($I17="","",$I17)="Reduzido"),INDEX(DADOS!$C:$C,(36+MATCH(IF($I17="","",$I17),DADOS!$C$6:$C$9,0)-1)),""),IF(AND(IF($J17="","",$J17)<>"",IF($J17="","",$J17)="Reduzida"),INDEX(DADOS!$C:$C,(42+MATCH(IF($J17="","",$J17),DADOS!$D$6:$D$9,0)-1)),""),IF(AND(IF($K17="","",$K17)<>"",IF($K17="","",$K17)="A melhorar"),INDEX(DADOS!$C:$C,(48+MATCH(IF($K17="","",$K17),DADOS!$E$6:$E$9,0)-1)),"")))-LEN(SUBSTITUTE(_xlfn.TEXTJOIN(", ",TRUE(),IF(AND(IF($I17="","",$I17)<>"",IF($I17="","",$I17)="Reduzido"),INDEX(DADOS!$C:$C,(36+MATCH(IF($I17="","",$I17),DADOS!$C$6:$C$9,0)-1)),""),IF(AND(IF($J17="","",$J17)<>"",IF($J17="","",$J17)="Reduzida"),INDEX(DADOS!$C:$C,(42+MATCH(IF($J17="","",$J17),DADOS!$D$6:$D$9,0)-1)),""),IF(AND(IF($K17="","",$K17)<>"",IF($K17="","",$K17)="A melhorar"),INDEX(DADOS!$C:$C,(48+MATCH(IF($K17="","",$K17),DADOS!$E$6:$E$9,0)-1)),"")),", ","")))/2))) | T17: =IF(AND($R17="",$S17=""),"",IF($S17="",INDEX(DADOS!$B:$B,(MOD(ROW()+3,3)+67))&$R17&INDEX(DADOS!$C:$C,(MOD(ROW()+3,3)+67)),IF($R17="",INDEX(DADOS!$B:$B,(MOD(ROW()+3,3)+72))&$S17&INDEX(DADOS!$C:$C,(MOD(ROW()+3,3)+72)),INDEX(DADOS!$B:$B,(MOD(ROW()+3,3)+77))&$R17&INDEX(DADOS!$C:$C,(MOD(ROW()+3,3)+77))&$S17&INDEX(DADOS!$D:$D,(MOD(ROW()+3,3)+77))))) | U17: =IF(((LEN(_xlfn.TEXTJOIN(", ",TRUE(),IF(AND(IF($L17="","",$L17)<>"",NOT(IF($L17="","",$L17)="Regrediu")),INDEX(DADOS!$C:$C,(54+MATCH(IF($L17="","",$L17),DADOS!$F$6:$F$9,0)-1)),""),IF(AND(IF($M17="","",$M17)<>"",NOT(IF($M17="","",$M17)="Irregular")),INDEX(DADOS!$C:$C,(60+MATCH(IF($M17="","",$M17),DADOS!$G$6:$G$9,0)-1)),"")))-LEN(SUBSTITUTE(_xlfn.TEXTJOIN(", ",TRUE(),IF(AND(IF($L17="","",$L17)<>"",NOT(IF($L17="","",$L17)="Regrediu")),INDEX(DADOS!$C:$C,(54+MATCH(IF($L17="","",$L17),DADOS!$F$6:$F$9,0)-1)),""),IF(AND(IF($M17="","",$M17)<>"",NOT(IF($M17="","",$M17)="Irregular")),INDEX(DADOS!$C:$C,(60+MATCH(IF($M17="","",$M17),DADOS!$G$6:$G$9,0)-1)),"")),", ","")))/2)=0,_xlfn.TEXTJOIN(", ",TRUE(),IF(AND(IF($L17="","",$L17)<>"",NOT(IF($L17="","",$L17)="Regrediu")),INDEX(DADOS!$C:$C,(54+MATCH(IF($L17="","",$L17),DADOS!$F$6:$F$9,0)-1)),""),IF(AND(IF($M17="","",$M17)<>"",NOT(IF($M17="","",$M17)="Irregular")),INDEX(DADOS!$C:$C,(60+MATCH(IF($M17="","",$M17),DADOS!$G$6:$G$9,0)-1)),"")),SUBSTITUTE(_xlfn.TEXTJOIN(", ",TRUE(),IF(AND(IF($L17="","",$L17)<>"",NOT(IF($L17="","",$L17)="Regrediu")),INDEX(DADOS!$C:$C,(54+MATCH(IF($L17="","",$L17),DADOS!$F$6:$F$9,0)-1)),""),IF(AND(IF($M17="","",$M17)<>"",NOT(IF($M17="","",$M17)="Irregular")),INDEX(DADOS!$C:$C,(60+MATCH(IF($M17="","",$M17),DADOS!$G$6:$G$9,0)-1)),"")),", "," e ",((LEN(_xlfn.TEXTJOIN(", ",TRUE(),IF(AND(IF($L17="","",$L17)<>"",NOT(IF($L17="","",$L17)="Regrediu")),INDEX(DADOS!$C:$C,(54+MATCH(IF($L17="","",$L17),DADOS!$F$6:$F$9,0)-1)),""),IF(AND(IF($M17="","",$M17)<>"",NOT(IF($M17="","",$M17)="Irregular")),INDEX(DADOS!$C:$C,(60+MATCH(IF($M17="","",$M17),DADOS!$G$6:$G$9,0)-1)),"")))-LEN(SUBSTITUTE(_xlfn.TEXTJOIN(", ",TRUE(),IF(AND(IF($L17="","",$L17)<>"",NOT(IF($L17="","",$L17)="Regrediu")),INDEX(DADOS!$C:$C,(54+MATCH(IF($L17="","",$L17),DADOS!$F$6:$F$9,0)-1)),""),IF(AND(IF($M17="","",$M17)<>"",NOT(IF($M17="","",$M17)="Irregular")),INDEX(DADOS!$C:$C,(60+MATCH(IF($M17="","",$M17),DADOS!$G$6:$G$9,0)-1)),"")),", ","")))/2))) | V17: =IF(((LEN(_xlfn.TEXTJOIN(", ",TRUE(),IF(AND(IF($L17="","",$L17)<>"",IF($L17="","",$L17)="Regrediu"),INDEX(DADOS!$C:$C,(54+MATCH(IF($L17="","",$L17),DADOS!$F$6:$F$9,0)-1)),""),IF(AND(IF($M17="","",$M17)<>"",IF($M17="","",$M17)="Irregular"),INDEX(DADOS!$C:$C,(60+MATCH(IF($M17="","",$M17),DADOS!$G$6:$G$9,0)-1)),"")))-LEN(SUBSTITUTE(_xlfn.TEXTJOIN(", ",TRUE(),IF(AND(IF($L17="","",$L17)<>"",IF($L17="","",$L17)="Regrediu"),INDEX(DADOS!$C:$C,(54+MATCH(IF($L17="","",$L17),DADOS!$F$6:$F$9,0)-1)),""),IF(AND(IF($M17="","",$M17)<>"",IF($M17="","",$M17)="Irregular"),INDEX(DADOS!$C:$C,(60+MATCH(IF($M17="","",$M17),DADOS!$G$6:$G$9,0)-1)),"")),", ","")))/2)=0,_xlfn.TEXTJOIN(", ",TRUE(),IF(AND(IF($L17="","",$L17)<>"",IF($L17="","",$L17)="Regrediu"),INDEX(DADOS!$C:$C,(54+MATCH(IF($L17="","",$L17),DADOS!$F$6:$F$9,0)-1)),""),IF(AND(IF($M17="","",$M17)<>"",IF($M17="","",$M17)="Irregular"),INDEX(DADOS!$C:$C,(60+MATCH(IF($M17="","",$M17),DADOS!$G$6:$G$9,0)-1)),"")),SUBSTITUTE(_xlfn.TEXTJOIN(", ",TRUE(),IF(AND(IF($L17="","",$L17)<>"",IF($L17="","",$L17)="Regrediu"),INDEX(DADOS!$C:$C,(54+MATCH(IF($L17="","",$L17),DADOS!$F$6:$F$9,0)-1)),""),IF(AND(IF($M17="","",$M17)<>"",IF($M17="","",$M17)="Irregular"),INDEX(DADOS!$C:$C,(60+MATCH(IF($M17="","",$M17),DADOS!$G$6:$G$9,0)-1)),"")),", "," e ",((LEN(_xlfn.TEXTJOIN(", ",TRUE(),IF(AND(IF($L17="","",$L17)<>"",IF($L17="","",$L17)="Regrediu"),INDEX(DADOS!$C:$C,(54+MATCH(IF($L17="","",$L17),DADOS!$F$6:$F$9,0)-1)),""),IF(AND(IF($M17="","",$M17)<>"",IF($M17="","",$M17)="Irregular"),INDEX(DADOS!$C:$C,(60+MATCH(IF($M17="","",$M17),DADOS!$G$6:$G$9,0)-1)),"")))-LEN(SUBSTITUTE(_xlfn.TEXTJOIN(", ",TRUE(),IF(AND(IF($L17="","",$L17)<>"",IF($L17="","",$L17)="Regrediu"),INDEX(DADOS!$C:$C,(54+MATCH(IF($L17="","",$L17),DADOS!$F$6:$F$9,0)-1)),""),IF(AND(IF($M17="","",$M17)<>"",IF($M17="","",$M17)="Irregular"),INDEX(DADOS!$C:$C,(60+MATCH(IF($M17="","",$M17),DADOS!$G$6:$G$9,0)-1)),"")),", ","")))/2))) | W17: =IF(AND($U17="",$V17=""),"",IF($V17="",INDEX(DADOS!$B:$B,(MOD(ROW()+7,3)+83))&$U17&INDEX(DADOS!$C:$C,(MOD(ROW()+7,3)+83)),IF($U17="",INDEX(DADOS!$B:$B,(MOD(ROW()+7,3)+88))&$V17&INDEX(DADOS!$C:$C,(MOD(ROW()+7,3)+88)),INDEX(DADOS!$B:$B,(MOD(ROW()+7,3)+93))&$U17&INDEX(DADOS!$C:$C,(MOD(ROW()+7,3)+93))&$V17&INDEX(DADOS!$D:$D,(MOD(ROW()+7,3)+93))))) | X17: =--(OR(IF($H17="","",$H17)="Insuficiente",IF($H17="","",$H17)="Suficiente"))+--(IF($I17="","",$I17)="Reduzido")+--(IF($J17="","",$J17)="Reduzida")+--(IF($K17="","",$K17)="A melhorar")+--(IF($L17="","",$L17)="Regrediu")+--(IF($M17="","",$M17)="Irregular") -> 0 | Y17: =IF(OR(IF($H17="","",$H17)="Insuficiente",IF($H17="","",$H17)="Suficiente"),1,IF(IF($I17="","",$I17)="Reduzido",2,IF(IF($J17="","",$J17)="Reduzida",3,IF(IF($K17="","",$K17)="A melhorar",4,IF(IF($L17="","",$L17)="Regrediu",5,IF(IF($M17="","",$M17)="Irregular",6,0)))))) -> 0 | Z17: =IF(((LEN(_xlfn.TEXTJOIN(", ",TRUE(),IF(OR(IF($H17="","",$H17)="Insuficiente",IF($H17="","",$H17)="Suficiente"),"o aproveitamento",""),IF(IF($I17="","",$I17)="Reduzido","o empenho",""),IF(IF($J17="","",$J17)="Reduzida","a participação",""),IF(IF($K17="","",$K17)="A melhorar","o comportamento",""),IF(IF($L17="","",$L17)="Regrediu","a evolução",""),IF(IF($M17="","",$M17)="Irregular","a assiduidade","")))-LEN(SUBSTITUTE(_xlfn.TEXTJOIN(", ",TRUE(),IF(OR(IF($H17="","",$H17)="Insuficiente",IF($H17="","",$H17)="Suficiente"),"o aproveitamento",""),IF(IF($I17="","",$I17)="Reduzido","o empenho",""),IF(IF($J17="","",$J17)="Reduzida","a participação",""),IF(IF($K17="","",$K17)="A melhorar","o comportamento",""),IF(IF($L17="","",$L17)="Regrediu","a evolução",""),IF(IF($M17="","",$M17)="Irregular","a assiduidade","")),", ","")))/2)=0,_xlfn.TEXTJOIN(", ",TRUE(),IF(OR(IF($H17="","",$H17)="Insuficiente",IF($H17="","",$H17)="Suficiente"),"o aproveitamento",""),IF(IF($I17="","",$I17)="Reduzido","o empenho",""),IF(IF($J17="","",$J17)="Reduzida","a participação",""),IF(IF($K17="","",$K17)="A melhorar","o comportamento",""),IF(IF($L17="","",$L17)="Regrediu","a evolução",""),IF(IF($M17="","",$M17)="Irregular","a assiduidade","")),SUBSTITUTE(_xlfn.TEXTJOIN(", ",TRUE(),IF(OR(IF($H17="","",$H17)="Insuficiente",IF($H17="","",$H17)="Suficiente"),"o aproveitamento",""),IF(IF($I17="","",$I17)="Reduzido","o empenho",""),IF(IF($J17="","",$J17)="Reduzida","a participação",""),IF(IF($K17="","",$K17)="A melhorar","o comportamento",""),IF(IF($L17="","",$L17)="Regrediu","a evolução",""),IF(IF($M17="","",$M17)="Irregular","a assiduidade","")),", "," e ",((LEN(_xlfn.TEXTJOIN(", ",TRUE(),IF(OR(IF($H17="","",$H17)="Insuficiente",IF($H17="","",$H17)="Suficiente"),"o aproveitamento",""),IF(IF($I17="","",$I17)="Reduzido","o empenho",""),IF(IF($J17="","",$J17)="Reduzida","a participação",""),IF(IF($K17="","",$K17)="A melhorar","o comportamento",""),IF(IF($L17="","",$L17)="Regrediu","a evolução",""),IF(IF($M17="","",$M17)="Irregular","a assiduidade","")))-LEN(SUBSTITUTE(_xlfn.TEXTJOIN(", ",TRUE(),IF(OR(IF($H17="","",$H17)="Insuficiente",IF($H17="","",$H17)="Suficiente"),"o aproveitamento",""),IF(IF($I17="","",$I17)="Reduzido","o empenho",""),IF(IF($J17="","",$J17)="Reduzida","a participação",""),IF(IF($K17="","",$K17)="A melhorar","o comportamento",""),IF(IF($L17="","",$L17)="Regrediu","a evolução",""),IF(IF($M17="","",$M17)="Irregular","a assiduidade","")),", ","")))/2))) | AA17: =IF(OR(IF($H17="","",$H17)<>"",IF($I17="","",$I17)<>"",IF($J17="","",$J17)<>"",IF($K17="","",$K17)<>"",IF($L17="","",$L17)<>"",IF($M17="","",$M17)<>""),IF($X17=0,INDEX(DADOS!$B:$B,(MOD(ROW()+17+0,5)+99)),IF($X17=1,CHOOSE($Y17,INDEX(DADOS!$B:$B,(MOD(ROW()+17+0,3)+106)),INDEX(DADOS!$C:$C,(MOD(ROW()+17+0,3)+106)),INDEX(DADOS!$D:$D,(MOD(ROW()+17+0,3)+106)),INDEX(DADOS!$E:$E,(MOD(ROW()+17+0,3)+106)),INDEX(DADOS!$F:$F,(MOD(ROW()+17+0,3)+106)),INDEX(DADOS!$G:$G,(MOD(ROW()+17+0,3)+106))),INDEX(DADOS!$B:$B,(MOD(ROW()+17,3)+111))&$Z17&INDEX(DADOS!$C:$C,(MOD(ROW()+17,3)+111)))),"") | AB17: =INDEX(DADOS!$B:$B,(MOD(ROW()+19,5)+116)) -> De salientar também: | AC17: =SUBTOTAL(103,$G$8:G17) -> 10 | AD17: =IF($G17="","",C17&"|"&D17&"|"&E17&"|"&$G17) -> 8.º A|Ciências|1.º Período|Ana Silva
B18: =IF(BASE!B4="","",BASE!B4) -> 2026/2027 | C18: =IF(BASE!C7="","",BASE!C7) -> 8.º A | D18: =IF(BASE!F9="","",BASE!F9) -> Ciências | E18: 1.º Período | F18: 2 | G18: =IF(BASE!$C$9="","",BASE!$C$9) -> João Costa | H18: Bom | I18: Bom | J18: Boa | K18: Bom | L18: Manteve | M18: Satisfatória | O18: =IF($G18="","",IF(AND(NOT(OR(IF($H18="","",$H18)<>"",IF($I18="","",$I18)<>"",IF($J18="","",$J18)<>"",IF($K18="","",$K18)<>"",IF($L18="","",$L18)<>"",IF($M18="","",$M18)<>"")),IF($N18="","",$N18)=""),"— Ainda sem critérios preenchidos. —",_xlfn.TEXTJOIN(" ",TRUE(),$Q18,$T18,$W18,$AA18,IF(IF($N18="","",$N18)<>"",$AB18&" "&IF($N18="","",$N18),"")))) -> Ao longo do período, o aproveitamento revelado foi bom, sustentado por um trabalho regular. Ao longo do período, revelou um empenho consistente, uma participação ativa e um comportamento correto, mantendo uma atitude positiva nas atividades. De referir ainda uma evolução estável e uma assiduidade satisfatória. Deve continuar a manter esta atitude. | Q18: =IF(OR(IF($H18="","",$H18)<>"",IF($I18="","",$I18)<>"",IF($J18="","",$J18)<>"",IF($K18="","",$K18)<>"",IF($L18="","",$L18)<>"",IF($M18="","",$M18)<>""),INDEX(DADOS!$C:$C,(15+(MATCH(IF($H18="","(sem aproveitamento)",$H18),DADOS!$I$6:$I$11,0)-1)*3+MOD(ROW()+1,3))),"") -> Ao longo do período, o aproveitamento revelado foi bom, sustentado por um trabalho regular. | R18: =IF(((LEN(_xlfn.TEXTJOIN(", ",TRUE(),IF(AND(IF($I18="","",$I18)<>"",NOT(IF($I18="","",$I18)="Reduzido")),INDEX(DADOS!$C:$C,(36+MATCH(IF($I18="","",$I18),DADOS!$C$6:$C$9,0)-1)),""),IF(AND(IF($J18="","",$J18)<>"",NOT(IF($J18="","",$J18)="Reduzida")),INDEX(DADOS!$C:$C,(42+MATCH(IF($J18="","",$J18),DADOS!$D$6:$D$9,0)-1)),""),IF(AND(IF($K18="","",$K18)<>"",NOT(IF($K18="","",$K18)="A melhorar")),INDEX(DADOS!$C:$C,(48+MATCH(IF($K18="","",$K18),DADOS!$E$6:$E$9,0)-1)),"")))-LEN(SUBSTITUTE(_xlfn.TEXTJOIN(", ",TRUE(),IF(AND(IF($I18="","",$I18)<>"",NOT(IF($I18="","",$I18)="Reduzido")),INDEX(DADOS!$C:$C,(36+MATCH(IF($I18="","",$I18),DADOS!$C$6:$C$9,0)-1)),""),IF(AND(IF($J18="","",$J18)<>"",NOT(IF($J18="","",$J18)="Reduzida")),INDEX(DADOS!$C:$C,(42+MATCH(IF($J18="","",$J18),DADOS!$D$6:$D$9,0)-1)),""),IF(AND(IF($K18="","",$K18)<>"",NOT(IF($K18="","",$K18)="A melhorar")),INDEX(DADOS!$C:$C,(48+MATCH(IF($K18="","",$K18),DADOS!$E$6:$E$9,0)-1)),"")),", ","")))/2)=0,_xlfn.TEXTJOIN(", ",TRUE(),IF(AND(IF($I18="","",$I18)<>"",NOT(IF($I18="","",$I18)="Reduzido")),INDEX(DADOS!$C:$C,(36+MATCH(IF($I18="","",$I18),DADOS!$C$6:$C$9,0)-1)),""),IF(AND(IF($J18="","",$J18)<>"",NOT(IF($J18="","",$J18)="Reduzida")),INDEX(DADOS!$C:$C,(42+MATCH(IF($J18="","",$J18),DADOS!$D$6:$D$9,0)-1)),""),IF(AND(IF($K18="","",$K18)<>"",NOT(IF($K18="","",$K18)="A melhorar")),INDEX(DADOS!$C:$C,(48+MATCH(IF($K18="","",$K18),DADOS!$E$6:$E$9,0)-1)),"")),SUBSTITUTE(_xlfn.TEXTJOIN(", ",TRUE(),IF(AND(IF($I18="","",$I18)<>"",NOT(IF($I18="","",$I18)="Reduzido")),INDEX(DADOS!$C:$C,(36+MATCH(IF($I18="","",$I18),DADOS!$C$6:$C$9,0)-1)),""),IF(AND(IF($J18="","",$J18)<>"",NOT(IF($J18="","",$J18)="Reduzida")),INDEX(DADOS!$C:$C,(42+MATCH(IF($J18="","",$J18),DADOS!$D$6:$D$9,0)-1)),""),IF(AND(IF($K18="","",$K18)<>"",NOT(IF($K18="","",$K18)="A melhorar")),INDEX(DADOS!$C:$C,(48+MATCH(IF($K18="","",$K18),DADOS!$E$6:$E$9,0)-1)),"")),", "," e ",((LEN(_xlfn.TEXTJOIN(", ",TRUE(),IF(AND(IF($I18="","",$I18)<>"",NOT(IF($I18="","",$I18)="Reduzido")),INDEX(DADOS!$C:$C,(36+MATCH(IF($I18="","",$I18),DADOS!$C$6:$C$9,0)-1)),""),IF(AND(IF($J18="","",$J18)<>"",NOT(IF($J18="","",$J18)="Reduzida")),INDEX(DADOS!$C:$C,(42+MATCH(IF($J18="","",$J18),DADOS!$D$6:$D$9,0)-1)),""),IF(AND(IF($K18="","",$K18)<>"",NOT(IF($K18="","",$K18)="A melhorar")),INDEX(DADOS!$C:$C,(48+MATCH(IF($K18="","",$K18),DADOS!$E$6:$E$9,0)-1)),"")))-LEN(SUBSTITUTE(_xlfn.TEXTJOIN(", ",TRUE(),IF(AND(IF($I18="","",$I18)<>"",NOT(IF($I18="","",$I18)="Reduzido")),INDEX(DADOS!$C:$C,(36+MATCH(IF($I18="","",$I18),DADOS!$C$6:$C$9,0)-1)),""),IF(AND(IF($J18="","",$J18)<>"",NOT(IF($J18="","",$J18)="Reduzida")),INDEX(DADOS!$C:$C,(42+MATCH(IF($J18="","",$J18),DADOS!$D$6:$D$9,0)-1)),""),IF(AND(IF($K18="","",$K18)<>"",NOT(IF($K18="","",$K18)="A melhorar")),INDEX(DADOS!$C:$C,(48+MATCH(IF($K18="","",$K18),DADOS!$E$6:$E$9,0)-1)),"")),", ","")))/2))) -> um empenho consistente, uma participação ativa e um comportamento correto | S18: =IF(((LEN(_xlfn.TEXTJOIN(", ",TRUE(),IF(AND(IF($I18="","",$I18)<>"",IF($I18="","",$I18)="Reduzido"),INDEX(DADOS!$C:$C,(36+MATCH(IF($I18="","",$I18),DADOS!$C$6:$C$9,0)-1)),""),IF(AND(IF($J18="","",$J18)<>"",IF($J18="","",$J18)="Reduzida"),INDEX(DADOS!$C:$C,(42+MATCH(IF($J18="","",$J18),DADOS!$D$6:$D$9,0)-1)),""),IF(AND(IF($K18="","",$K18)<>"",IF($K18="","",$K18)="A melhorar"),INDEX(DADOS!$C:$C,(48+MATCH(IF($K18="","",$K18),DADOS!$E$6:$E$9,0)-1)),"")))-LEN(SUBSTITUTE(_xlfn.TEXTJOIN(", ",TRUE(),IF(AND(IF($I18="","",$I18)<>"",IF($I18="","",$I18)="Reduzido"),INDEX(DADOS!$C:$C,(36+MATCH(IF($I18="","",$I18),DADOS!$C$6:$C$9,0)-1)),""),IF(AND(IF($J18="","",$J18)<>"",IF($J18="","",$J18)="Reduzida"),INDEX(DADOS!$C:$C,(42+MATCH(IF($J18="","",$J18),DADOS!$D$6:$D$9,0)-1)),""),IF(AND(IF($K18="","",$K18)<>"",IF($K18="","",$K18)="A melhorar"),INDEX(DADOS!$C:$C,(48+MATCH(IF($K18="","",$K18),DADOS!$E$6:$E$9,0)-1)),"")),", ","")))/2)=0,_xlfn.TEXTJOIN(", ",TRUE(),IF(AND(IF($I18="","",$I18)<>"",IF($I18="","",$I18)="Reduzido"),INDEX(DADOS!$C:$C,(36+MATCH(IF($I18="","",$I18),DADOS!$C$6:$C$9,0)-1)),""),IF(AND(IF($J18="","",$J18)<>"",IF($J18="","",$J18)="Reduzida"),INDEX(DADOS!$C:$C,(42+MATCH(IF($J18="","",$J18),DADOS!$D$6:$D$9,0)-1)),""),IF(AND(IF($K18="","",$K18)<>"",IF($K18="","",$K18)="A melhorar"),INDEX(DADOS!$C:$C,(48+MATCH(IF($K18="","",$K18),DADOS!$E$6:$E$9,0)-1)),"")),SUBSTITUTE(_xlfn.TEXTJOIN(", ",TRUE(),IF(AND(IF($I18="","",$I18)<>"",IF($I18="","",$I18)="Reduzido"),INDEX(DADOS!$C:$C,(36+MATCH(IF($I18="","",$I18),DADOS!$C$6:$C$9,0)-1)),""),IF(AND(IF($J18="","",$J18)<>"",IF($J18="","",$J18)="Reduzida"),INDEX(DADOS!$C:$C,(42+MATCH(IF($J18="","",$J18),DADOS!$D$6:$D$9,0)-1)),""),IF(AND(IF($K18="","",$K18)<>"",IF($K18="","",$K18)="A melhorar"),INDEX(DADOS!$C:$C,(48+MATCH(IF($K18="","",$K18),DADOS!$E$6:$E$9,0)-1)),"")),", "," e ",((LEN(_xlfn.TEXTJOIN(", ",TRUE(),IF(AND(IF($I18="","",$I18)<>"",IF($I18="","",$I18)="Reduzido"),INDEX(DADOS!$C:$C,(36+MATCH(IF($I18="","",$I18),DADOS!$C$6:$C$9,0)-1)),""),IF(AND(IF($J18="","",$J18)<>"",IF($J18="","",$J18)="Reduzida"),INDEX(DADOS!$C:$C,(42+MATCH(IF($J18="","",$J18),DADOS!$D$6:$D$9,0)-1)),""),IF(AND(IF($K18="","",$K18)<>"",IF($K18="","",$K18)="A melhorar"),INDEX(DADOS!$C:$C,(48+MATCH(IF($K18="","",$K18),DADOS!$E$6:$E$9,0)-1)),"")))-LEN(SUBSTITUTE(_xlfn.TEXTJOIN(", ",TRUE(),IF(AND(IF($I18="","",$I18)<>"",IF($I18="","",$I18)="Reduzido"),INDEX(DADOS!$C:$C,(36+MATCH(IF($I18="","",$I18),DADOS!$C$6:$C$9,0)-1)),""),IF(AND(IF($J18="","",$J18)<>"",IF($J18="","",$J18)="Reduzida"),INDEX(DADOS!$C:$C,(42+MATCH(IF($J18="","",$J18),DADOS!$D$6:$D$9,0)-1)),""),IF(AND(IF($K18="","",$K18)<>"",IF($K18="","",$K18)="A melhorar"),INDEX(DADOS!$C:$C,(48+MATCH(IF($K18="","",$K18),DADOS!$E$6:$E$9,0)-1)),"")),", ","")))/2))) | T18: =IF(AND($R18="",$S18=""),"",IF($S18="",INDEX(DADOS!$B:$B,(MOD(ROW()+3,3)+67))&$R18&INDEX(DADOS!$C:$C,(MOD(ROW()+3,3)+67)),IF($R18="",INDEX(DADOS!$B:$B,(MOD(ROW()+3,3)+72))&$S18&INDEX(DADOS!$C:$C,(MOD(ROW()+3,3)+72)),INDEX(DADOS!$B:$B,(MOD(ROW()+3,3)+77))&$R18&INDEX(DADOS!$C:$C,(MOD(ROW()+3,3)+77))&$S18&INDEX(DADOS!$D:$D,(MOD(ROW()+3,3)+77))))) -> Ao longo do período, revelou um empenho consistente, uma participação ativa e um comportamento correto, mantendo uma atitude positiva nas atividades. | U18: =IF(((LEN(_xlfn.TEXTJOIN(", ",TRUE(),IF(AND(IF($L18="","",$L18)<>"",NOT(IF($L18="","",$L18)="Regrediu")),INDEX(DADOS!$C:$C,(54+MATCH(IF($L18="","",$L18),DADOS!$F$6:$F$9,0)-1)),""),IF(AND(IF($M18="","",$M18)<>"",NOT(IF($M18="","",$M18)="Irregular")),INDEX(DADOS!$C:$C,(60+MATCH(IF($M18="","",$M18),DADOS!$G$6:$G$9,0)-1)),"")))-LEN(SUBSTITUTE(_xlfn.TEXTJOIN(", ",TRUE(),IF(AND(IF($L18="","",$L18)<>"",NOT(IF($L18="","",$L18)="Regrediu")),INDEX(DADOS!$C:$C,(54+MATCH(IF($L18="","",$L18),DADOS!$F$6:$F$9,0)-1)),""),IF(AND(IF($M18="","",$M18)<>"",NOT(IF($M18="","",$M18)="Irregular")),INDEX(DADOS!$C:$C,(60+MATCH(IF($M18="","",$M18),DADOS!$G$6:$G$9,0)-1)),"")),", ","")))/2)=0,_xlfn.TEXTJOIN(", ",TRUE(),IF(AND(IF($L18="","",$L18)<>"",NOT(IF($L18="","",$L18)="Regrediu")),INDEX(DADOS!$C:$C,(54+MATCH(IF($L18="","",$L18),DADOS!$F$6:$F$9,0)-1)),""),IF(AND(IF($M18="","",$M18)<>"",NOT(IF($M18="","",$M18)="Irregular")),INDEX(DADOS!$C:$C,(60+MATCH(IF($M18="","",$M18),DADOS!$G$6:$G$9,0)-1)),"")),SUBSTITUTE(_xlfn.TEXTJOIN(", ",TRUE(),IF(AND(IF($L18="","",$L18)<>"",NOT(IF($L18="","",$L18)="Regrediu")),INDEX(DADOS!$C:$C,(54+MATCH(IF($L18="","",$L18),DADOS!$F$6:$F$9,0)-1)),""),IF(AND(IF($M18="","",$M18)<>"",NOT(IF($M18="","",$M18)="Irregular")),INDEX(DADOS!$C:$C,(60+MATCH(IF($M18="","",$M18),DADOS!$G$6:$G$9,0)-1)),"")),", "," e ",((LEN(_xlfn.TEXTJOIN(", ",TRUE(),IF(AND(IF($L18="","",$L18)<>"",NOT(IF($L18="","",$L18)="Regrediu")),INDEX(DADOS!$C:$C,(54+MATCH(IF($L18="","",$L18),DADOS!$F$6:$F$9,0)-1)),""),IF(AND(IF($M18="","",$M18)<>"",NOT(IF($M18="","",$M18)="Irregular")),INDEX(DADOS!$C:$C,(60+MATCH(IF($M18="","",$M18),DADOS!$G$6:$G$9,0)-1)),"")))-LEN(SUBSTITUTE(_xlfn.TEXTJOIN(", ",TRUE(),IF(AND(IF($L18="","",$L18)<>"",NOT(IF($L18="","",$L18)="Regrediu")),INDEX(DADOS!$C:$C,(54+MATCH(IF($L18="","",$L18),DADOS!$F$6:$F$9,0)-1)),""),IF(AND(IF($M18="","",$M18)<>"",NOT(IF($M18="","",$M18)="Irregular")),INDEX(DADOS!$C:$C,(60+MATCH(IF($M18="","",$M18),DADOS!$G$6:$G$9,0)-1)),"")),", ","")))/2))) -> uma evolução estável e uma assiduidade satisfatória | V18: =IF(((LEN(_xlfn.TEXTJOIN(", ",TRUE(),IF(AND(IF($L18="","",$L18)<>"",IF($L18="","",$L18)="Regrediu"),INDEX(DADOS!$C:$C,(54+MATCH(IF($L18="","",$L18),DADOS!$F$6:$F$9,0)-1)),""),IF(AND(IF($M18="","",$M18)<>"",IF($M18="","",$M18)="Irregular"),INDEX(DADOS!$C:$C,(60+MATCH(IF($M18="","",$M18),DADOS!$G$6:$G$9,0)-1)),"")))-LEN(SUBSTITUTE(_xlfn.TEXTJOIN(", ",TRUE(),IF(AND(IF($L18="","",$L18)<>"",IF($L18="","",$L18)="Regrediu"),INDEX(DADOS!$C:$C,(54+MATCH(IF($L18="","",$L18),DADOS!$F$6:$F$9,0)-1)),""),IF(AND(IF($M18="","",$M18)<>"",IF($M18="","",$M18)="Irregular"),INDEX(DADOS!$C:$C,(60+MATCH(IF($M18="","",$M18),DADOS!$G$6:$G$9,0)-1)),"")),", ","")))/2)=0,_xlfn.TEXTJOIN(", ",TRUE(),IF(AND(IF($L18="","",$L18)<>"",IF($L18="","",$L18)="Regrediu"),INDEX(DADOS!$C:$C,(54+MATCH(IF($L18="","",$L18),DADOS!$F$6:$F$9,0)-1)),""),IF(AND(IF($M18="","",$M18)<>"",IF($M18="","",$M18)="Irregular"),INDEX(DADOS!$C:$C,(60+MATCH(IF($M18="","",$M18),DADOS!$G$6:$G$9,0)-1)),"")),SUBSTITUTE(_xlfn.TEXTJOIN(", ",TRUE(),IF(AND(IF($L18="","",$L18)<>"",IF($L18="","",$L18)="Regrediu"),INDEX(DADOS!$C:$C,(54+MATCH(IF($L18="","",$L18),DADOS!$F$6:$F$9,0)-1)),""),IF(AND(IF($M18="","",$M18)<>"",IF($M18="","",$M18)="Irregular"),INDEX(DADOS!$C:$C,(60+MATCH(IF($M18="","",$M18),DADOS!$G$6:$G$9,0)-1)),"")),", "," e ",((LEN(_xlfn.TEXTJOIN(", ",TRUE(),IF(AND(IF($L18="","",$L18)<>"",IF($L18="","",$L18)="Regrediu"),INDEX(DADOS!$C:$C,(54+MATCH(IF($L18="","",$L18),DADOS!$F$6:$F$9,0)-1)),""),IF(AND(IF($M18="","",$M18)<>"",IF($M18="","",$M18)="Irregular"),INDEX(DADOS!$C:$C,(60+MATCH(IF($M18="","",$M18),DADOS!$G$6:$G$9,0)-1)),"")))-LEN(SUBSTITUTE(_xlfn.TEXTJOIN(", ",TRUE(),IF(AND(IF($L18="","",$L18)<>"",IF($L18="","",$L18)="Regrediu"),INDEX(DADOS!$C:$C,(54+MATCH(IF($L18="","",$L18),DADOS!$F$6:$F$9,0)-1)),""),IF(AND(IF($M18="","",$M18)<>"",IF($M18="","",$M18)="Irregular"),INDEX(DADOS!$C:$C,(60+MATCH(IF($M18="","",$M18),DADOS!$G$6:$G$9,0)-1)),"")),", ","")))/2))) | W18: =IF(AND($U18="",$V18=""),"",IF($V18="",INDEX(DADOS!$B:$B,(MOD(ROW()+7,3)+83))&$U18&INDEX(DADOS!$C:$C,(MOD(ROW()+7,3)+83)),IF($U18="",INDEX(DADOS!$B:$B,(MOD(ROW()+7,3)+88))&$V18&INDEX(DADOS!$C:$C,(MOD(ROW()+7,3)+88)),INDEX(DADOS!$B:$B,(MOD(ROW()+7,3)+93))&$U18&INDEX(DADOS!$C:$C,(MOD(ROW()+7,3)+93))&$V18&INDEX(DADOS!$D:$D,(MOD(ROW()+7,3)+93))))) -> De referir ainda uma evolução estável e uma assiduidade satisfatória. | X18: =--(OR(IF($H18="","",$H18)="Insuficiente",IF($H18="","",$H18)="Suficiente"))+--(IF($I18="","",$I18)="Reduzido")+--(IF($J18="","",$J18)="Reduzida")+--(IF($K18="","",$K18)="A melhorar")+--(IF($L18="","",$L18)="Regrediu")+--(IF($M18="","",$M18)="Irregular") -> 0 | Y18: =IF(OR(IF($H18="","",$H18)="Insuficiente",IF($H18="","",$H18)="Suficiente"),1,IF(IF($I18="","",$I18)="Reduzido",2,IF(IF($J18="","",$J18)="Reduzida",3,IF(IF($K18="","",$K18)="A melhorar",4,IF(IF($L18="","",$L18)="Regrediu",5,IF(IF($M18="","",$M18)="Irregular",6,0)))))) -> 0 | Z18: =IF(((LEN(_xlfn.TEXTJOIN(", ",TRUE(),IF(OR(IF($H18="","",$H18)="Insuficiente",IF($H18="","",$H18)="Suficiente"),"o aproveitamento",""),IF(IF($I18="","",$I18)="Reduzido","o empenho",""),IF(IF($J18="","",$J18)="Reduzida","a participação",""),IF(IF($K18="","",$K18)="A melhorar","o comportamento",""),IF(IF($L18="","",$L18)="Regrediu","a evolução",""),IF(IF($M18="","",$M18)="Irregular","a assiduidade","")))-LEN(SUBSTITUTE(_xlfn.TEXTJOIN(", ",TRUE(),IF(OR(IF($H18="","",$H18)="Insuficiente",IF($H18="","",$H18)="Suficiente"),"o aproveitamento",""),IF(IF($I18="","",$I18)="Reduzido","o empenho",""),IF(IF($J18="","",$J18)="Reduzida","a participação",""),IF(IF($K18="","",$K18)="A melhorar","o comportamento",""),IF(IF($L18="","",$L18)="Regrediu","a evolução",""),IF(IF($M18="","",$M18)="Irregular","a assiduidade","")),", ","")))/2)=0,_xlfn.TEXTJOIN(", ",TRUE(),IF(OR(IF($H18="","",$H18)="Insuficiente",IF($H18="","",$H18)="Suficiente"),"o aproveitamento",""),IF(IF($I18="","",$I18)="Reduzido","o empenho",""),IF(IF($J18="","",$J18)="Reduzida","a participação",""),IF(IF($K18="","",$K18)="A melhorar","o comportamento",""),IF(IF($L18="","",$L18)="Regrediu","a evolução",""),IF(IF($M18="","",$M18)="Irregular","a assiduidade","")),SUBSTITUTE(_xlfn.TEXTJOIN(", ",TRUE(),IF(OR(IF($H18="","",$H18)="Insuficiente",IF($H18="","",$H18)="Suficiente"),"o aproveitamento",""),IF(IF($I18="","",$I18)="Reduzido","o empenho",""),IF(IF($J18="","",$J18)="Reduzida","a participação",""),IF(IF($K18="","",$K18)="A melhorar","o comportamento",""),IF(IF($L18="","",$L18)="Regrediu","a evolução",""),IF(IF($M18="","",$M18)="Irregular","a assiduidade","")),", "," e ",((LEN(_xlfn.TEXTJOIN(", ",TRUE(),IF(OR(IF($H18="","",$H18)="Insuficiente",IF($H18="","",$H18)="Suficiente"),"o aproveitamento",""),IF(IF($I18="","",$I18)="Reduzido","o empenho",""),IF(IF($J18="","",$J18)="Reduzida","a participação",""),IF(IF($K18="","",$K18)="A melhorar","o comportamento",""),IF(IF($L18="","",$L18)="Regrediu","a evolução",""),IF(IF($M18="","",$M18)="Irregular","a assiduidade","")))-LEN(SUBSTITUTE(_xlfn.TEXTJOIN(", ",TRUE(),IF(OR(IF($H18="","",$H18)="Insuficiente",IF($H18="","",$H18)="Suficiente"),"o aproveitamento",""),IF(IF($I18="","",$I18)="Reduzido","o empenho",""),IF(IF($J18="","",$J18)="Reduzida","a participação",""),IF(IF($K18="","",$K18)="A melhorar","o comportamento",""),IF(IF($L18="","",$L18)="Regrediu","a evolução",""),IF(IF($M18="","",$M18)="Irregular","a assiduidade","")),", ","")))/2))) | AA18: =IF(OR(IF($H18="","",$H18)<>"",IF($I18="","",$I18)<>"",IF($J18="","",$J18)<>"",IF($K18="","",$K18)<>"",IF($L18="","",$L18)<>"",IF($M18="","",$M18)<>""),IF($X18=0,INDEX(DADOS!$B:$B,(MOD(ROW()+17+0,5)+99)),IF($X18=1,CHOOSE($Y18,INDEX(DADOS!$B:$B,(MOD(ROW()+17+0,3)+106)),INDEX(DADOS!$C:$C,(MOD(ROW()+17+0,3)+106)),INDEX(DADOS!$D:$D,(MOD(ROW()+17+0,3)+106)),INDEX(DADOS!$E:$E,(MOD(ROW()+17+0,3)+106)),INDEX(DADOS!$F:$F,(MOD(ROW()+17+0,3)+106)),INDEX(DADOS!$G:$G,(MOD(ROW()+17+0,3)+106))),INDEX(DADOS!$B:$B,(MOD(ROW()+17,3)+111))&$Z18&INDEX(DADOS!$C:$C,(MOD(ROW()+17,3)+111)))),"") -> Deve continuar a manter esta atitude. | AB18: =INDEX(DADOS!$B:$B,(MOD(ROW()+19,5)+116)) -> Regista-se ainda: | AC18: =SUBTOTAL(103,$G$8:G18) -> 11 | AD18: =IF($G18="","",C18&"|"&D18&"|"&E18&"|"&$G18) -> 8.º A|Ciências|1.º Período|João Costa
B19: =IF(BASE!B4="","",BASE!B4) -> 2026/2027 | C19: =IF(BASE!C7="","",BASE!C7) -> 8.º A | D19: =IF(BASE!F9="","",BASE!F9) -> Ciências | E19: 1.º Período | F19: 3 | G19: =IF(BASE!$C$10="","",BASE!$C$10) -> Beatriz Nunes | O19: =IF($G19="","",IF(AND(NOT(OR(IF($H19="","",$H19)<>"",IF($I19="","",$I19)<>"",IF($J19="","",$J19)<>"",IF($K19="","",$K19)<>"",IF($L19="","",$L19)<>"",IF($M19="","",$M19)<>"")),IF($N19="","",$N19)=""),"— Ainda sem critérios preenchidos. —",_xlfn.TEXTJOIN(" ",TRUE(),$Q19,$T19,$W19,$AA19,IF(IF($N19="","",$N19)<>"",$AB19&" "&IF($N19="","",$N19),"")))) -> — Ainda sem critérios preenchidos. — | Q19: =IF(OR(IF($H19="","",$H19)<>"",IF($I19="","",$I19)<>"",IF($J19="","",$J19)<>"",IF($K19="","",$K19)<>"",IF($L19="","",$L19)<>"",IF($M19="","",$M19)<>""),INDEX(DADOS!$C:$C,(15+(MATCH(IF($H19="","(sem aproveitamento)",$H19),DADOS!$I$6:$I$11,0)-1)*3+MOD(ROW()+1,3))),"") | R19: =IF(((LEN(_xlfn.TEXTJOIN(", ",TRUE(),IF(AND(IF($I19="","",$I19)<>"",NOT(IF($I19="","",$I19)="Reduzido")),INDEX(DADOS!$C:$C,(36+MATCH(IF($I19="","",$I19),DADOS!$C$6:$C$9,0)-1)),""),IF(AND(IF($J19="","",$J19)<>"",NOT(IF($J19="","",$J19)="Reduzida")),INDEX(DADOS!$C:$C,(42+MATCH(IF($J19="","",$J19),DADOS!$D$6:$D$9,0)-1)),""),IF(AND(IF($K19="","",$K19)<>"",NOT(IF($K19="","",$K19)="A melhorar")),INDEX(DADOS!$C:$C,(48+MATCH(IF($K19="","",$K19),DADOS!$E$6:$E$9,0)-1)),"")))-LEN(SUBSTITUTE(_xlfn.TEXTJOIN(", ",TRUE(),IF(AND(IF($I19="","",$I19)<>"",NOT(IF($I19="","",$I19)="Reduzido")),INDEX(DADOS!$C:$C,(36+MATCH(IF($I19="","",$I19),DADOS!$C$6:$C$9,0)-1)),""),IF(AND(IF($J19="","",$J19)<>"",NOT(IF($J19="","",$J19)="Reduzida")),INDEX(DADOS!$C:$C,(42+MATCH(IF($J19="","",$J19),DADOS!$D$6:$D$9,0)-1)),""),IF(AND(IF($K19="","",$K19)<>"",NOT(IF($K19="","",$K19)="A melhorar")),INDEX(DADOS!$C:$C,(48+MATCH(IF($K19="","",$K19),DADOS!$E$6:$E$9,0)-1)),"")),", ","")))/2)=0,_xlfn.TEXTJOIN(", ",TRUE(),IF(AND(IF($I19="","",$I19)<>"",NOT(IF($I19="","",$I19)="Reduzido")),INDEX(DADOS!$C:$C,(36+MATCH(IF($I19="","",$I19),DADOS!$C$6:$C$9,0)-1)),""),IF(AND(IF($J19="","",$J19)<>"",NOT(IF($J19="","",$J19)="Reduzida")),INDEX(DADOS!$C:$C,(42+MATCH(IF($J19="","",$J19),DADOS!$D$6:$D$9,0)-1)),""),IF(AND(IF($K19="","",$K19)<>"",NOT(IF($K19="","",$K19)="A melhorar")),INDEX(DADOS!$C:$C,(48+MATCH(IF($K19="","",$K19),DADOS!$E$6:$E$9,0)-1)),"")),SUBSTITUTE(_xlfn.TEXTJOIN(", ",TRUE(),IF(AND(IF($I19="","",$I19)<>"",NOT(IF($I19="","",$I19)="Reduzido")),INDEX(DADOS!$C:$C,(36+MATCH(IF($I19="","",$I19),DADOS!$C$6:$C$9,0)-1)),""),IF(AND(IF($J19="","",$J19)<>"",NOT(IF($J19="","",$J19)="Reduzida")),INDEX(DADOS!$C:$C,(42+MATCH(IF($J19="","",$J19),DADOS!$D$6:$D$9,0)-1)),""),IF(AND(IF($K19="","",$K19)<>"",NOT(IF($K19="","",$K19)="A melhorar")),INDEX(DADOS!$C:$C,(48+MATCH(IF($K19="","",$K19),DADOS!$E$6:$E$9,0)-1)),"")),", "," e ",((LEN(_xlfn.TEXTJOIN(", ",TRUE(),IF(AND(IF($I19="","",$I19)<>"",NOT(IF($I19="","",$I19)="Reduzido")),INDEX(DADOS!$C:$C,(36+MATCH(IF($I19="","",$I19),DADOS!$C$6:$C$9,0)-1)),""),IF(AND(IF($J19="","",$J19)<>"",NOT(IF($J19="","",$J19)="Reduzida")),INDEX(DADOS!$C:$C,(42+MATCH(IF($J19="","",$J19),DADOS!$D$6:$D$9,0)-1)),""),IF(AND(IF($K19="","",$K19)<>"",NOT(IF($K19="","",$K19)="A melhorar")),INDEX(DADOS!$C:$C,(48+MATCH(IF($K19="","",$K19),DADOS!$E$6:$E$9,0)-1)),"")))-LEN(SUBSTITUTE(_xlfn.TEXTJOIN(", ",TRUE(),IF(AND(IF($I19="","",$I19)<>"",NOT(IF($I19="","",$I19)="Reduzido")),INDEX(DADOS!$C:$C,(36+MATCH(IF($I19="","",$I19),DADOS!$C$6:$C$9,0)-1)),""),IF(AND(IF($J19="","",$J19)<>"",NOT(IF($J19="","",$J19)="Reduzida")),INDEX(DADOS!$C:$C,(42+MATCH(IF($J19="","",$J19),DADOS!$D$6:$D$9,0)-1)),""),IF(AND(IF($K19="","",$K19)<>"",NOT(IF($K19="","",$K19)="A melhorar")),INDEX(DADOS!$C:$C,(48+MATCH(IF($K19="","",$K19),DADOS!$E$6:$E$9,0)-1)),"")),", ","")))/2))) | S19: =IF(((LEN(_xlfn.TEXTJOIN(", ",TRUE(),IF(AND(IF($I19="","",$I19)<>"",IF($I19="","",$I19)="Reduzido"),INDEX(DADOS!$C:$C,(36+MATCH(IF($I19="","",$I19),DADOS!$C$6:$C$9,0)-1)),""),IF(AND(IF($J19="","",$J19)<>"",IF($J19="","",$J19)="Reduzida"),INDEX(DADOS!$C:$C,(42+MATCH(IF($J19="","",$J19),DADOS!$D$6:$D$9,0)-1)),""),IF(AND(IF($K19="","",$K19)<>"",IF($K19="","",$K19)="A melhorar"),INDEX(DADOS!$C:$C,(48+MATCH(IF($K19="","",$K19),DADOS!$E$6:$E$9,0)-1)),"")))-LEN(SUBSTITUTE(_xlfn.TEXTJOIN(", ",TRUE(),IF(AND(IF($I19="","",$I19)<>"",IF($I19="","",$I19)="Reduzido"),INDEX(DADOS!$C:$C,(36+MATCH(IF($I19="","",$I19),DADOS!$C$6:$C$9,0)-1)),""),IF(AND(IF($J19="","",$J19)<>"",IF($J19="","",$J19)="Reduzida"),INDEX(DADOS!$C:$C,(42+MATCH(IF($J19="","",$J19),DADOS!$D$6:$D$9,0)-1)),""),IF(AND(IF($K19="","",$K19)<>"",IF($K19="","",$K19)="A melhorar"),INDEX(DADOS!$C:$C,(48+MATCH(IF($K19="","",$K19),DADOS!$E$6:$E$9,0)-1)),"")),", ","")))/2)=0,_xlfn.TEXTJOIN(", ",TRUE(),IF(AND(IF($I19="","",$I19)<>"",IF($I19="","",$I19)="Reduzido"),INDEX(DADOS!$C:$C,(36+MATCH(IF($I19="","",$I19),DADOS!$C$6:$C$9,0)-1)),""),IF(AND(IF($J19="","",$J19)<>"",IF($J19="","",$J19)="Reduzida"),INDEX(DADOS!$C:$C,(42+MATCH(IF($J19="","",$J19),DADOS!$D$6:$D$9,0)-1)),""),IF(AND(IF($K19="","",$K19)<>"",IF($K19="","",$K19)="A melhorar"),INDEX(DADOS!$C:$C,(48+MATCH(IF($K19="","",$K19),DADOS!$E$6:$E$9,0)-1)),"")),SUBSTITUTE(_xlfn.TEXTJOIN(", ",TRUE(),IF(AND(IF($I19="","",$I19)<>"",IF($I19="","",$I19)="Reduzido"),INDEX(DADOS!$C:$C,(36+MATCH(IF($I19="","",$I19),DADOS!$C$6:$C$9,0)-1)),""),IF(AND(IF($J19="","",$J19)<>"",IF($J19="","",$J19)="Reduzida"),INDEX(DADOS!$C:$C,(42+MATCH(IF($J19="","",$J19),DADOS!$D$6:$D$9,0)-1)),""),IF(AND(IF($K19="","",$K19)<>"",IF($K19="","",$K19)="A melhorar"),INDEX(DADOS!$C:$C,(48+MATCH(IF($K19="","",$K19),DADOS!$E$6:$E$9,0)-1)),"")),", "," e ",((LEN(_xlfn.TEXTJOIN(", ",TRUE(),IF(AND(IF($I19="","",$I19)<>"",IF($I19="","",$I19)="Reduzido"),INDEX(DADOS!$C:$C,(36+MATCH(IF($I19="","",$I19),DADOS!$C$6:$C$9,0)-1)),""),IF(AND(IF($J19="","",$J19)<>"",IF($J19="","",$J19)="Reduzida"),INDEX(DADOS!$C:$C,(42+MATCH(IF($J19="","",$J19),DADOS!$D$6:$D$9,0)-1)),""),IF(AND(IF($K19="","",$K19)<>"",IF($K19="","",$K19)="A melhorar"),INDEX(DADOS!$C:$C,(48+MATCH(IF($K19="","",$K19),DADOS!$E$6:$E$9,0)-1)),"")))-LEN(SUBSTITUTE(_xlfn.TEXTJOIN(", ",TRUE(),IF(AND(IF($I19="","",$I19)<>"",IF($I19="","",$I19)="Reduzido"),INDEX(DADOS!$C:$C,(36+MATCH(IF($I19="","",$I19),DADOS!$C$6:$C$9,0)-1)),""),IF(AND(IF($J19="","",$J19)<>"",IF($J19="","",$J19)="Reduzida"),INDEX(DADOS!$C:$C,(42+MATCH(IF($J19="","",$J19),DADOS!$D$6:$D$9,0)-1)),""),IF(AND(IF($K19="","",$K19)<>"",IF($K19="","",$K19)="A melhorar"),INDEX(DADOS!$C:$C,(48+MATCH(IF($K19="","",$K19),DADOS!$E$6:$E$9,0)-1)),"")),", ","")))/2))) | T19: =IF(AND($R19="",$S19=""),"",IF($S19="",INDEX(DADOS!$B:$B,(MOD(ROW()+3,3)+67))&$R19&INDEX(DADOS!$C:$C,(MOD(ROW()+3,3)+67)),IF($R19="",INDEX(DADOS!$B:$B,(MOD(ROW()+3,3)+72))&$S19&INDEX(DADOS!$C:$C,(MOD(ROW()+3,3)+72)),INDEX(DADOS!$B:$B,(MOD(ROW()+3,3)+77))&$R19&INDEX(DADOS!$C:$C,(MOD(ROW()+3,3)+77))&$S19&INDEX(DADOS!$D:$D,(MOD(ROW()+3,3)+77))))) | U19: =IF(((LEN(_xlfn.TEXTJOIN(", ",TRUE(),IF(AND(IF($L19="","",$L19)<>"",NOT(IF($L19="","",$L19)="Regrediu")),INDEX(DADOS!$C:$C,(54+MATCH(IF($L19="","",$L19),DADOS!$F$6:$F$9,0)-1)),""),IF(AND(IF($M19="","",$M19)<>"",NOT(IF($M19="","",$M19)="Irregular")),INDEX(DADOS!$C:$C,(60+MATCH(IF($M19="","",$M19),DADOS!$G$6:$G$9,0)-1)),"")))-LEN(SUBSTITUTE(_xlfn.TEXTJOIN(", ",TRUE(),IF(AND(IF($L19="","",$L19)<>"",NOT(IF($L19="","",$L19)="Regrediu")),INDEX(DADOS!$C:$C,(54+MATCH(IF($L19="","",$L19),DADOS!$F$6:$F$9,0)-1)),""),IF(AND(IF($M19="","",$M19)<>"",NOT(IF($M19="","",$M19)="Irregular")),INDEX(DADOS!$C:$C,(60+MATCH(IF($M19="","",$M19),DADOS!$G$6:$G$9,0)-1)),"")),", ","")))/2)=0,_xlfn.TEXTJOIN(", ",TRUE(),IF(AND(IF($L19="","",$L19)<>"",NOT(IF($L19="","",$L19)="Regrediu")),INDEX(DADOS!$C:$C,(54+MATCH(IF($L19="","",$L19),DADOS!$F$6:$F$9,0)-1)),""),IF(AND(IF($M19="","",$M19)<>"",NOT(IF($M19="","",$M19)="Irregular")),INDEX(DADOS!$C:$C,(60+MATCH(IF($M19="","",$M19),DADOS!$G$6:$G$9,0)-1)),"")),SUBSTITUTE(_xlfn.TEXTJOIN(", ",TRUE(),IF(AND(IF($L19="","",$L19)<>"",NOT(IF($L19="","",$L19)="Regrediu")),INDEX(DADOS!$C:$C,(54+MATCH(IF($L19="","",$L19),DADOS!$F$6:$F$9,0)-1)),""),IF(AND(IF($M19="","",$M19)<>"",NOT(IF($M19="","",$M19)="Irregular")),INDEX(DADOS!$C:$C,(60+MATCH(IF($M19="","",$M19),DADOS!$G$6:$G$9,0)-1)),"")),", "," e ",((LEN(_xlfn.TEXTJOIN(", ",TRUE(),IF(AND(IF($L19="","",$L19)<>"",NOT(IF($L19="","",$L19)="Regrediu")),INDEX(DADOS!$C:$C,(54+MATCH(IF($L19="","",$L19),DADOS!$F$6:$F$9,0)-1)),""),IF(AND(IF($M19="","",$M19)<>"",NOT(IF($M19="","",$M19)="Irregular")),INDEX(DADOS!$C:$C,(60+MATCH(IF($M19="","",$M19),DADOS!$G$6:$G$9,0)-1)),"")))-LEN(SUBSTITUTE(_xlfn.TEXTJOIN(", ",TRUE(),IF(AND(IF($L19="","",$L19)<>"",NOT(IF($L19="","",$L19)="Regrediu")),INDEX(DADOS!$C:$C,(54+MATCH(IF($L19="","",$L19),DADOS!$F$6:$F$9,0)-1)),""),IF(AND(IF($M19="","",$M19)<>"",NOT(IF($M19="","",$M19)="Irregular")),INDEX(DADOS!$C:$C,(60+MATCH(IF($M19="","",$M19),DADOS!$G$6:$G$9,0)-1)),"")),", ","")))/2))) | V19: =IF(((LEN(_xlfn.TEXTJOIN(", ",TRUE(),IF(AND(IF($L19="","",$L19)<>"",IF($L19="","",$L19)="Regrediu"),INDEX(DADOS!$C:$C,(54+MATCH(IF($L19="","",$L19),DADOS!$F$6:$F$9,0)-1)),""),IF(AND(IF($M19="","",$M19)<>"",IF($M19="","",$M19)="Irregular"),INDEX(DADOS!$C:$C,(60+MATCH(IF($M19="","",$M19),DADOS!$G$6:$G$9,0)-1)),"")))-LEN(SUBSTITUTE(_xlfn.TEXTJOIN(", ",TRUE(),IF(AND(IF($L19="","",$L19)<>"",IF($L19="","",$L19)="Regrediu"),INDEX(DADOS!$C:$C,(54+MATCH(IF($L19="","",$L19),DADOS!$F$6:$F$9,0)-1)),""),IF(AND(IF($M19="","",$M19)<>"",IF($M19="","",$M19)="Irregular"),INDEX(DADOS!$C:$C,(60+MATCH(IF($M19="","",$M19),DADOS!$G$6:$G$9,0)-1)),"")),", ","")))/2)=0,_xlfn.TEXTJOIN(", ",TRUE(),IF(AND(IF($L19="","",$L19)<>"",IF($L19="","",$L19)="Regrediu"),INDEX(DADOS!$C:$C,(54+MATCH(IF($L19="","",$L19),DADOS!$F$6:$F$9,0)-1)),""),IF(AND(IF($M19="","",$M19)<>"",IF($M19="","",$M19)="Irregular"),INDEX(DADOS!$C:$C,(60+MATCH(IF($M19="","",$M19),DADOS!$G$6:$G$9,0)-1)),"")),SUBSTITUTE(_xlfn.TEXTJOIN(", ",TRUE(),IF(AND(IF($L19="","",$L19)<>"",IF($L19="","",$L19)="Regrediu"),INDEX(DADOS!$C:$C,(54+MATCH(IF($L19="","",$L19),DADOS!$F$6:$F$9,0)-1)),""),IF(AND(IF($M19="","",$M19)<>"",IF($M19="","",$M19)="Irregular"),INDEX(DADOS!$C:$C,(60+MATCH(IF($M19="","",$M19),DADOS!$G$6:$G$9,0)-1)),"")),", "," e ",((LEN(_xlfn.TEXTJOIN(", ",TRUE(),IF(AND(IF($L19="","",$L19)<>"",IF($L19="","",$L19)="Regrediu"),INDEX(DADOS!$C:$C,(54+MATCH(IF($L19="","",$L19),DADOS!$F$6:$F$9,0)-1)),""),IF(AND(IF($M19="","",$M19)<>"",IF($M19="","",$M19)="Irregular"),INDEX(DADOS!$C:$C,(60+MATCH(IF($M19="","",$M19),DADOS!$G$6:$G$9,0)-1)),"")))-LEN(SUBSTITUTE(_xlfn.TEXTJOIN(", ",TRUE(),IF(AND(IF($L19="","",$L19)<>"",IF($L19="","",$L19)="Regrediu"),INDEX(DADOS!$C:$C,(54+MATCH(IF($L19="","",$L19),DADOS!$F$6:$F$9,0)-1)),""),IF(AND(IF($M19="","",$M19)<>"",IF($M19="","",$M19)="Irregular"),INDEX(DADOS!$C:$C,(60+MATCH(IF($M19="","",$M19),DADOS!$G$6:$G$9,0)-1)),"")),", ","")))/2))) | W19: =IF(AND($U19="",$V19=""),"",IF($V19="",INDEX(DADOS!$B:$B,(MOD(ROW()+7,3)+83))&$U19&INDEX(DADOS!$C:$C,(MOD(ROW()+7,3)+83)),IF($U19="",INDEX(DADOS!$B:$B,(MOD(ROW()+7,3)+88))&$V19&INDEX(DADOS!$C:$C,(MOD(ROW()+7,3)+88)),INDEX(DADOS!$B:$B,(MOD(ROW()+7,3)+93))&$U19&INDEX(DADOS!$C:$C,(MOD(ROW()+7,3)+93))&$V19&INDEX(DADOS!$D:$D,(MOD(ROW()+7,3)+93))))) | X19: =--(OR(IF($H19="","",$H19)="Insuficiente",IF($H19="","",$H19)="Suficiente"))+--(IF($I19="","",$I19)="Reduzido")+--(IF($J19="","",$J19)="Reduzida")+--(IF($K19="","",$K19)="A melhorar")+--(IF($L19="","",$L19)="Regrediu")+--(IF($M19="","",$M19)="Irregular") -> 0 | Y19: =IF(OR(IF($H19="","",$H19)="Insuficiente",IF($H19="","",$H19)="Suficiente"),1,IF(IF($I19="","",$I19)="Reduzido",2,IF(IF($J19="","",$J19)="Reduzida",3,IF(IF($K19="","",$K19)="A melhorar",4,IF(IF($L19="","",$L19)="Regrediu",5,IF(IF($M19="","",$M19)="Irregular",6,0)))))) -> 0 | Z19: =IF(((LEN(_xlfn.TEXTJOIN(", ",TRUE(),IF(OR(IF($H19="","",$H19)="Insuficiente",IF($H19="","",$H19)="Suficiente"),"o aproveitamento",""),IF(IF($I19="","",$I19)="Reduzido","o empenho",""),IF(IF($J19="","",$J19)="Reduzida","a participação",""),IF(IF($K19="","",$K19)="A melhorar","o comportamento",""),IF(IF($L19="","",$L19)="Regrediu","a evolução",""),IF(IF($M19="","",$M19)="Irregular","a assiduidade","")))-LEN(SUBSTITUTE(_xlfn.TEXTJOIN(", ",TRUE(),IF(OR(IF($H19="","",$H19)="Insuficiente",IF($H19="","",$H19)="Suficiente"),"o aproveitamento",""),IF(IF($I19="","",$I19)="Reduzido","o empenho",""),IF(IF($J19="","",$J19)="Reduzida","a participação",""),IF(IF($K19="","",$K19)="A melhorar","o comportamento",""),IF(IF($L19="","",$L19)="Regrediu","a evolução",""),IF(IF($M19="","",$M19)="Irregular","a assiduidade","")),", ","")))/2)=0,_xlfn.TEXTJOIN(", ",TRUE(),IF(OR(IF($H19="","",$H19)="Insuficiente",IF($H19="","",$H19)="Suficiente"),"o aproveitamento",""),IF(IF($I19="","",$I19)="Reduzido","o empenho",""),IF(IF($J19="","",$J19)="Reduzida","a participação",""),IF(IF($K19="","",$K19)="A melhorar","o comportamento",""),IF(IF($L19="","",$L19)="Regrediu","a evolução",""),IF(IF($M19="","",$M19)="Irregular","a assiduidade","")),SUBSTITUTE(_xlfn.TEXTJOIN(", ",TRUE(),IF(OR(IF($H19="","",$H19)="Insuficiente",IF($H19="","",$H19)="Suficiente"),"o aproveitamento",""),IF(IF($I19="","",$I19)="Reduzido","o empenho",""),IF(IF($J19="","",$J19)="Reduzida","a participação",""),IF(IF($K19="","",$K19)="A melhorar","o comportamento",""),IF(IF($L19="","",$L19)="Regrediu","a evolução",""),IF(IF($M19="","",$M19)="Irregular","a assiduidade","")),", "," e ",((LEN(_xlfn.TEXTJOIN(", ",TRUE(),IF(OR(IF($H19="","",$H19)="Insuficiente",IF($H19="","",$H19)="Suficiente"),"o aproveitamento",""),IF(IF($I19="","",$I19)="Reduzido","o empenho",""),IF(IF($J19="","",$J19)="Reduzida","a participação",""),IF(IF($K19="","",$K19)="A melhorar","o comportamento",""),IF(IF($L19="","",$L19)="Regrediu","a evolução",""),IF(IF($M19="","",$M19)="Irregular","a assiduidade","")))-LEN(SUBSTITUTE(_xlfn.TEXTJOIN(", ",TRUE(),IF(OR(IF($H19="","",$H19)="Insuficiente",IF($H19="","",$H19)="Suficiente"),"o aproveitamento",""),IF(IF($I19="","",$I19)="Reduzido","o empenho",""),IF(IF($J19="","",$J19)="Reduzida","a participação",""),IF(IF($K19="","",$K19)="A melhorar","o comportamento",""),IF(IF($L19="","",$L19)="Regrediu","a evolução",""),IF(IF($M19="","",$M19)="Irregular","a assiduidade","")),", ","")))/2))) | AA19: =IF(OR(IF($H19="","",$H19)<>"",IF($I19="","",$I19)<>"",IF($J19="","",$J19)<>"",IF($K19="","",$K19)<>"",IF($L19="","",$L19)<>"",IF($M19="","",$M19)<>""),IF($X19=0,INDEX(DADOS!$B:$B,(MOD(ROW()+17+0,5)+99)),IF($X19=1,CHOOSE($Y19,INDEX(DADOS!$B:$B,(MOD(ROW()+17+0,3)+106)),INDEX(DADOS!$C:$C,(MOD(ROW()+17+0,3)+106)),INDEX(DADOS!$D:$D,(MOD(ROW()+17+0,3)+106)),INDEX(DADOS!$E:$E,(MOD(ROW()+17+0,3)+106)),INDEX(DADOS!$F:$F,(MOD(ROW()+17+0,3)+106)),INDEX(DADOS!$G:$G,(MOD(ROW()+17+0,3)+106))),INDEX(DADOS!$B:$B,(MOD(ROW()+17,3)+111))&$Z19&INDEX(DADOS!$C:$C,(MOD(ROW()+17,3)+111)))),"") | AB19: =INDEX(DADOS!$B:$B,(MOD(ROW()+19,5)+116)) -> É ainda de referir: | AC19: =SUBTOTAL(103,$G$8:G19) -> 12 | AD19: =IF($G19="","",C19&"|"&D19&"|"&E19&"|"&$G19) -> 8.º A|Ciências|1.º Período|Beatriz Nunes
B20: =IF(BASE!B4="","",BASE!B4) -> 2026/2027 | C20: =IF(BASE!C7="","",BASE!C7) -> 8.º A | D20: =IF(BASE!F9="","",BASE!F9) -> Ciências | E20: 2.º Período | F20: 1 | G20: =IF(BASE!$C$8="","",BASE!$C$8) -> Ana Silva | O20: =IF($G20="","",IF(AND(NOT(OR(IF($H20="","",$H20)<>"",IF($I20="","",$I20)<>"",IF($J20="","",$J20)<>"",IF($K20="","",$K20)<>"",IF($L20="","",$L20)<>"",IF($M20="","",$M20)<>"")),IF($N20="","",$N20)=""),"— Ainda sem critérios preenchidos. —",_xlfn.TEXTJOIN(" ",TRUE(),$Q20,$T20,$W20,$AA20,IF(IF($N20="","",$N20)<>"",$AB20&" "&IF($N20="","",$N20),"")))) -> — Ainda sem critérios preenchidos. — | Q20: =IF(OR(IF($H20="","",$H20)<>"",IF($I20="","",$I20)<>"",IF($J20="","",$J20)<>"",IF($K20="","",$K20)<>"",IF($L20="","",$L20)<>"",IF($M20="","",$M20)<>""),INDEX(DADOS!$C:$C,(15+(MATCH(IF($H20="","(sem aproveitamento)",$H20),DADOS!$I$6:$I$11,0)-1)*3+MOD(ROW()+1,3))),"") | R20: =IF(((LEN(_xlfn.TEXTJOIN(", ",TRUE(),IF(AND(IF($I20="","",$I20)<>"",NOT(IF($I20="","",$I20)="Reduzido")),INDEX(DADOS!$C:$C,(36+MATCH(IF($I20="","",$I20),DADOS!$C$6:$C$9,0)-1)),""),IF(AND(IF($J20="","",$J20)<>"",NOT(IF($J20="","",$J20)="Reduzida")),INDEX(DADOS!$C:$C,(42+MATCH(IF($J20="","",$J20),DADOS!$D$6:$D$9,0)-1)),""),IF(AND(IF($K20="","",$K20)<>"",NOT(IF($K20="","",$K20)="A melhorar")),INDEX(DADOS!$C:$C,(48+MATCH(IF($K20="","",$K20),DADOS!$E$6:$E$9,0)-1)),"")))-LEN(SUBSTITUTE(_xlfn.TEXTJOIN(", ",TRUE(),IF(AND(IF($I20="","",$I20)<>"",NOT(IF($I20="","",$I20)="Reduzido")),INDEX(DADOS!$C:$C,(36+MATCH(IF($I20="","",$I20),DADOS!$C$6:$C$9,0)-1)),""),IF(AND(IF($J20="","",$J20)<>"",NOT(IF($J20="","",$J20)="Reduzida")),INDEX(DADOS!$C:$C,(42+MATCH(IF($J20="","",$J20),DADOS!$D$6:$D$9,0)-1)),""),IF(AND(IF($K20="","",$K20)<>"",NOT(IF($K20="","",$K20)="A melhorar")),INDEX(DADOS!$C:$C,(48+MATCH(IF($K20="","",$K20),DADOS!$E$6:$E$9,0)-1)),"")),", ","")))/2)=0,_xlfn.TEXTJOIN(", ",TRUE(),IF(AND(IF($I20="","",$I20)<>"",NOT(IF($I20="","",$I20)="Reduzido")),INDEX(DADOS!$C:$C,(36+MATCH(IF($I20="","",$I20),DADOS!$C$6:$C$9,0)-1)),""),IF(AND(IF($J20="","",$J20)<>"",NOT(IF($J20="","",$J20)="Reduzida")),INDEX(DADOS!$C:$C,(42+MATCH(IF($J20="","",$J20),DADOS!$D$6:$D$9,0)-1)),""),IF(AND(IF($K20="","",$K20)<>"",NOT(IF($K20="","",$K20)="A melhorar")),INDEX(DADOS!$C:$C,(48+MATCH(IF($K20="","",$K20),DADOS!$E$6:$E$9,0)-1)),"")),SUBSTITUTE(_xlfn.TEXTJOIN(", ",TRUE(),IF(AND(IF($I20="","",$I20)<>"",NOT(IF($I20="","",$I20)="Reduzido")),INDEX(DADOS!$C:$C,(36+MATCH(IF($I20="","",$I20),DADOS!$C$6:$C$9,0)-1)),""),IF(AND(IF($J20="","",$J20)<>"",NOT(IF($J20="","",$J20)="Reduzida")),INDEX(DADOS!$C:$C,(42+MATCH(IF($J20="","",$J20),DADOS!$D$6:$D$9,0)-1)),""),IF(AND(IF($K20="","",$K20)<>"",NOT(IF($K20="","",$K20)="A melhorar")),INDEX(DADOS!$C:$C,(48+MATCH(IF($K20="","",$K20),DADOS!$E$6:$E$9,0)-1)),"")),", "," e ",((LEN(_xlfn.TEXTJOIN(", ",TRUE(),IF(AND(IF($I20="","",$I20)<>"",NOT(IF($I20="","",$I20)="Reduzido")),INDEX(DADOS!$C:$C,(36+MATCH(IF($I20="","",$I20),DADOS!$C$6:$C$9,0)-1)),""),IF(AND(IF($J20="","",$J20)<>"",NOT(IF($J20="","",$J20)="Reduzida")),INDEX(DADOS!$C:$C,(42+MATCH(IF($J20="","",$J20),DADOS!$D$6:$D$9,0)-1)),""),IF(AND(IF($K20="","",$K20)<>"",NOT(IF($K20="","",$K20)="A melhorar")),INDEX(DADOS!$C:$C,(48+MATCH(IF($K20="","",$K20),DADOS!$E$6:$E$9,0)-1)),"")))-LEN(SUBSTITUTE(_xlfn.TEXTJOIN(", ",TRUE(),IF(AND(IF($I20="","",$I20)<>"",NOT(IF($I20="","",$I20)="Reduzido")),INDEX(DADOS!$C:$C,(36+MATCH(IF($I20="","",$I20),DADOS!$C$6:$C$9,0)-1)),""),IF(AND(IF($J20="","",$J20)<>"",NOT(IF($J20="","",$J20)="Reduzida")),INDEX(DADOS!$C:$C,(42+MATCH(IF($J20="","",$J20),DADOS!$D$6:$D$9,0)-1)),""),IF(AND(IF($K20="","",$K20)<>"",NOT(IF($K20="","",$K20)="A melhorar")),INDEX(DADOS!$C:$C,(48+MATCH(IF($K20="","",$K20),DADOS!$E$6:$E$9,0)-1)),"")),", ","")))/2))) | S20: =IF(((LEN(_xlfn.TEXTJOIN(", ",TRUE(),IF(AND(IF($I20="","",$I20)<>"",IF($I20="","",$I20)="Reduzido"),INDEX(DADOS!$C:$C,(36+MATCH(IF($I20="","",$I20),DADOS!$C$6:$C$9,0)-1)),""),IF(AND(IF($J20="","",$J20)<>"",IF($J20="","",$J20)="Reduzida"),INDEX(DADOS!$C:$C,(42+MATCH(IF($J20="","",$J20),DADOS!$D$6:$D$9,0)-1)),""),IF(AND(IF($K20="","",$K20)<>"",IF($K20="","",$K20)="A melhorar"),INDEX(DADOS!$C:$C,(48+MATCH(IF($K20="","",$K20),DADOS!$E$6:$E$9,0)-1)),"")))-LEN(SUBSTITUTE(_xlfn.TEXTJOIN(", ",TRUE(),IF(AND(IF($I20="","",$I20)<>"",IF($I20="","",$I20)="Reduzido"),INDEX(DADOS!$C:$C,(36+MATCH(IF($I20="","",$I20),DADOS!$C$6:$C$9,0)-1)),""),IF(AND(IF($J20="","",$J20)<>"",IF($J20="","",$J20)="Reduzida"),INDEX(DADOS!$C:$C,(42+MATCH(IF($J20="","",$J20),DADOS!$D$6:$D$9,0)-1)),""),IF(AND(IF($K20="","",$K20)<>"",IF($K20="","",$K20)="A melhorar"),INDEX(DADOS!$C:$C,(48+MATCH(IF($K20="","",$K20),DADOS!$E$6:$E$9,0)-1)),"")),", ","")))/2)=0,_xlfn.TEXTJOIN(", ",TRUE(),IF(AND(IF($I20="","",$I20)<>"",IF($I20="","",$I20)="Reduzido"),INDEX(DADOS!$C:$C,(36+MATCH(IF($I20="","",$I20),DADOS!$C$6:$C$9,0)-1)),""),IF(AND(IF($J20="","",$J20)<>"",IF($J20="","",$J20)="Reduzida"),INDEX(DADOS!$C:$C,(42+MATCH(IF($J20="","",$J20),DADOS!$D$6:$D$9,0)-1)),""),IF(AND(IF($K20="","",$K20)<>"",IF($K20="","",$K20)="A melhorar"),INDEX(DADOS!$C:$C,(48+MATCH(IF($K20="","",$K20),DADOS!$E$6:$E$9,0)-1)),"")),SUBSTITUTE(_xlfn.TEXTJOIN(", ",TRUE(),IF(AND(IF($I20="","",$I20)<>"",IF($I20="","",$I20)="Reduzido"),INDEX(DADOS!$C:$C,(36+MATCH(IF($I20="","",$I20),DADOS!$C$6:$C$9,0)-1)),""),IF(AND(IF($J20="","",$J20)<>"",IF($J20="","",$J20)="Reduzida"),INDEX(DADOS!$C:$C,(42+MATCH(IF($J20="","",$J20),DADOS!$D$6:$D$9,0)-1)),""),IF(AND(IF($K20="","",$K20)<>"",IF($K20="","",$K20)="A melhorar"),INDEX(DADOS!$C:$C,(48+MATCH(IF($K20="","",$K20),DADOS!$E$6:$E$9,0)-1)),"")),", "," e ",((LEN(_xlfn.TEXTJOIN(", ",TRUE(),IF(AND(IF($I20="","",$I20)<>"",IF($I20="","",$I20)="Reduzido"),INDEX(DADOS!$C:$C,(36+MATCH(IF($I20="","",$I20),DADOS!$C$6:$C$9,0)-1)),""),IF(AND(IF($J20="","",$J20)<>"",IF($J20="","",$J20)="Reduzida"),INDEX(DADOS!$C:$C,(42+MATCH(IF($J20="","",$J20),DADOS!$D$6:$D$9,0)-1)),""),IF(AND(IF($K20="","",$K20)<>"",IF($K20="","",$K20)="A melhorar"),INDEX(DADOS!$C:$C,(48+MATCH(IF($K20="","",$K20),DADOS!$E$6:$E$9,0)-1)),"")))-LEN(SUBSTITUTE(_xlfn.TEXTJOIN(", ",TRUE(),IF(AND(IF($I20="","",$I20)<>"",IF($I20="","",$I20)="Reduzido"),INDEX(DADOS!$C:$C,(36+MATCH(IF($I20="","",$I20),DADOS!$C$6:$C$9,0)-1)),""),IF(AND(IF($J20="","",$J20)<>"",IF($J20="","",$J20)="Reduzida"),INDEX(DADOS!$C:$C,(42+MATCH(IF($J20="","",$J20),DADOS!$D$6:$D$9,0)-1)),""),IF(AND(IF($K20="","",$K20)<>"",IF($K20="","",$K20)="A melhorar"),INDEX(DADOS!$C:$C,(48+MATCH(IF($K20="","",$K20),DADOS!$E$6:$E$9,0)-1)),"")),", ","")))/2))) | T20: =IF(AND($R20="",$S20=""),"",IF($S20="",INDEX(DADOS!$B:$B,(MOD(ROW()+3,3)+67))&$R20&INDEX(DADOS!$C:$C,(MOD(ROW()+3,3)+67)),IF($R20="",INDEX(DADOS!$B:$B,(MOD(ROW()+3,3)+72))&$S20&INDEX(DADOS!$C:$C,(MOD(ROW()+3,3)+72)),INDEX(DADOS!$B:$B,(MOD(ROW()+3,3)+77))&$R20&INDEX(DADOS!$C:$C,(MOD(ROW()+3,3)+77))&$S20&INDEX(DADOS!$D:$D,(MOD(ROW()+3,3)+77))))) | U20: =IF(((LEN(_xlfn.TEXTJOIN(", ",TRUE(),IF(AND(IF($L20="","",$L20)<>"",NOT(IF($L20="","",$L20)="Regrediu")),INDEX(DADOS!$C:$C,(54+MATCH(IF($L20="","",$L20),DADOS!$F$6:$F$9,0)-1)),""),IF(AND(IF($M20="","",$M20)<>"",NOT(IF($M20="","",$M20)="Irregular")),INDEX(DADOS!$C:$C,(60+MATCH(IF($M20="","",$M20),DADOS!$G$6:$G$9,0)-1)),"")))-LEN(SUBSTITUTE(_xlfn.TEXTJOIN(", ",TRUE(),IF(AND(IF($L20="","",$L20)<>"",NOT(IF($L20="","",$L20)="Regrediu")),INDEX(DADOS!$C:$C,(54+MATCH(IF($L20="","",$L20),DADOS!$F$6:$F$9,0)-1)),""),IF(AND(IF($M20="","",$M20)<>"",NOT(IF($M20="","",$M20)="Irregular")),INDEX(DADOS!$C:$C,(60+MATCH(IF($M20="","",$M20),DADOS!$G$6:$G$9,0)-1)),"")),", ","")))/2)=0,_xlfn.TEXTJOIN(", ",TRUE(),IF(AND(IF($L20="","",$L20)<>"",NOT(IF($L20="","",$L20)="Regrediu")),INDEX(DADOS!$C:$C,(54+MATCH(IF($L20="","",$L20),DADOS!$F$6:$F$9,0)-1)),""),IF(AND(IF($M20="","",$M20)<>"",NOT(IF($M20="","",$M20)="Irregular")),INDEX(DADOS!$C:$C,(60+MATCH(IF($M20="","",$M20),DADOS!$G$6:$G$9,0)-1)),"")),SUBSTITUTE(_xlfn.TEXTJOIN(", ",TRUE(),IF(AND(IF($L20="","",$L20)<>"",NOT(IF($L20="","",$L20)="Regrediu")),INDEX(DADOS!$C:$C,(54+MATCH(IF($L20="","",$L20),DADOS!$F$6:$F$9,0)-1)),""),IF(AND(IF($M20="","",$M20)<>"",NOT(IF($M20="","",$M20)="Irregular")),INDEX(DADOS!$C:$C,(60+MATCH(IF($M20="","",$M20),DADOS!$G$6:$G$9,0)-1)),"")),", "," e ",((LEN(_xlfn.TEXTJOIN(", ",TRUE(),IF(AND(IF($L20="","",$L20)<>"",NOT(IF($L20="","",$L20)="Regrediu")),INDEX(DADOS!$C:$C,(54+MATCH(IF($L20="","",$L20),DADOS!$F$6:$F$9,0)-1)),""),IF(AND(IF($M20="","",$M20)<>"",NOT(IF($M20="","",$M20)="Irregular")),INDEX(DADOS!$C:$C,(60+MATCH(IF($M20="","",$M20),DADOS!$G$6:$G$9,0)-1)),"")))-LEN(SUBSTITUTE(_xlfn.TEXTJOIN(", ",TRUE(),IF(AND(IF($L20="","",$L20)<>"",NOT(IF($L20="","",$L20)="Regrediu")),INDEX(DADOS!$C:$C,(54+MATCH(IF($L20="","",$L20),DADOS!$F$6:$F$9,0)-1)),""),IF(AND(IF($M20="","",$M20)<>"",NOT(IF($M20="","",$M20)="Irregular")),INDEX(DADOS!$C:$C,(60+MATCH(IF($M20="","",$M20),DADOS!$G$6:$G$9,0)-1)),"")),", ","")))/2))) | V20: =IF(((LEN(_xlfn.TEXTJOIN(", ",TRUE(),IF(AND(IF($L20="","",$L20)<>"",IF($L20="","",$L20)="Regrediu"),INDEX(DADOS!$C:$C,(54+MATCH(IF($L20="","",$L20),DADOS!$F$6:$F$9,0)-1)),""),IF(AND(IF($M20="","",$M20)<>"",IF($M20="","",$M20)="Irregular"),INDEX(DADOS!$C:$C,(60+MATCH(IF($M20="","",$M20),DADOS!$G$6:$G$9,0)-1)),"")))-LEN(SUBSTITUTE(_xlfn.TEXTJOIN(", ",TRUE(),IF(AND(IF($L20="","",$L20)<>"",IF($L20="","",$L20)="Regrediu"),INDEX(DADOS!$C:$C,(54+MATCH(IF($L20="","",$L20),DADOS!$F$6:$F$9,0)-1)),""),IF(AND(IF($M20="","",$M20)<>"",IF($M20="","",$M20)="Irregular"),INDEX(DADOS!$C:$C,(60+MATCH(IF($M20="","",$M20),DADOS!$G$6:$G$9,0)-1)),"")),", ","")))/2)=0,_xlfn.TEXTJOIN(", ",TRUE(),IF(AND(IF($L20="","",$L20)<>"",IF($L20="","",$L20)="Regrediu"),INDEX(DADOS!$C:$C,(54+MATCH(IF($L20="","",$L20),DADOS!$F$6:$F$9,0)-1)),""),IF(AND(IF($M20="","",$M20)<>"",IF($M20="","",$M20)="Irregular"),INDEX(DADOS!$C:$C,(60+MATCH(IF($M20="","",$M20),DADOS!$G$6:$G$9,0)-1)),"")),SUBSTITUTE(_xlfn.TEXTJOIN(", ",TRUE(),IF(AND(IF($L20="","",$L20)<>"",IF($L20="","",$L20)="Regrediu"),INDEX(DADOS!$C:$C,(54+MATCH(IF($L20="","",$L20),DADOS!$F$6:$F$9,0)-1)),""),IF(AND(IF($M20="","",$M20)<>"",IF($M20="","",$M20)="Irregular"),INDEX(DADOS!$C:$C,(60+MATCH(IF($M20="","",$M20),DADOS!$G$6:$G$9,0)-1)),"")),", "," e ",((LEN(_xlfn.TEXTJOIN(", ",TRUE(),IF(AND(IF($L20="","",$L20)<>"",IF($L20="","",$L20)="Regrediu"),INDEX(DADOS!$C:$C,(54+MATCH(IF($L20="","",$L20),DADOS!$F$6:$F$9,0)-1)),""),IF(AND(IF($M20="","",$M20)<>"",IF($M20="","",$M20)="Irregular"),INDEX(DADOS!$C:$C,(60+MATCH(IF($M20="","",$M20),DADOS!$G$6:$G$9,0)-1)),"")))-LEN(SUBSTITUTE(_xlfn.TEXTJOIN(", ",TRUE(),IF(AND(IF($L20="","",$L20)<>"",IF($L20="","",$L20)="Regrediu"),INDEX(DADOS!$C:$C,(54+MATCH(IF($L20="","",$L20),DADOS!$F$6:$F$9,0)-1)),""),IF(AND(IF($M20="","",$M20)<>"",IF($M20="","",$M20)="Irregular"),INDEX(DADOS!$C:$C,(60+MATCH(IF($M20="","",$M20),DADOS!$G$6:$G$9,0)-1)),"")),", ","")))/2))) | W20: =IF(AND($U20="",$V20=""),"",IF($V20="",INDEX(DADOS!$B:$B,(MOD(ROW()+7,3)+83))&$U20&INDEX(DADOS!$C:$C,(MOD(ROW()+7,3)+83)),IF($U20="",INDEX(DADOS!$B:$B,(MOD(ROW()+7,3)+88))&$V20&INDEX(DADOS!$C:$C,(MOD(ROW()+7,3)+88)),INDEX(DADOS!$B:$B,(MOD(ROW()+7,3)+93))&$U20&INDEX(DADOS!$C:$C,(MOD(ROW()+7,3)+93))&$V20&INDEX(DADOS!$D:$D,(MOD(ROW()+7,3)+93))))) | X20: =--(OR(IF($H20="","",$H20)="Insuficiente",IF($H20="","",$H20)="Suficiente"))+--(IF($I20="","",$I20)="Reduzido")+--(IF($J20="","",$J20)="Reduzida")+--(IF($K20="","",$K20)="A melhorar")+--(IF($L20="","",$L20)="Regrediu")+--(IF($M20="","",$M20)="Irregular") -> 0 | Y20: =IF(OR(IF($H20="","",$H20)="Insuficiente",IF($H20="","",$H20)="Suficiente"),1,IF(IF($I20="","",$I20)="Reduzido",2,IF(IF($J20="","",$J20)="Reduzida",3,IF(IF($K20="","",$K20)="A melhorar",4,IF(IF($L20="","",$L20)="Regrediu",5,IF(IF($M20="","",$M20)="Irregular",6,0)))))) -> 0 | Z20: =IF(((LEN(_xlfn.TEXTJOIN(", ",TRUE(),IF(OR(IF($H20="","",$H20)="Insuficiente",IF($H20="","",$H20)="Suficiente"),"o aproveitamento",""),IF(IF($I20="","",$I20)="Reduzido","o empenho",""),IF(IF($J20="","",$J20)="Reduzida","a participação",""),IF(IF($K20="","",$K20)="A melhorar","o comportamento",""),IF(IF($L20="","",$L20)="Regrediu","a evolução",""),IF(IF($M20="","",$M20)="Irregular","a assiduidade","")))-LEN(SUBSTITUTE(_xlfn.TEXTJOIN(", ",TRUE(),IF(OR(IF($H20="","",$H20)="Insuficiente",IF($H20="","",$H20)="Suficiente"),"o aproveitamento",""),IF(IF($I20="","",$I20)="Reduzido","o empenho",""),IF(IF($J20="","",$J20)="Reduzida","a participação",""),IF(IF($K20="","",$K20)="A melhorar","o comportamento",""),IF(IF($L20="","",$L20)="Regrediu","a evolução",""),IF(IF($M20="","",$M20)="Irregular","a assiduidade","")),", ","")))/2)=0,_xlfn.TEXTJOIN(", ",TRUE(),IF(OR(IF($H20="","",$H20)="Insuficiente",IF($H20="","",$H20)="Suficiente"),"o aproveitamento",""),IF(IF($I20="","",$I20)="Reduzido","o empenho",""),IF(IF($J20="","",$J20)="Reduzida","a participação",""),IF(IF($K20="","",$K20)="A melhorar","o comportamento",""),IF(IF($L20="","",$L20)="Regrediu","a evolução",""),IF(IF($M20="","",$M20)="Irregular","a assiduidade","")),SUBSTITUTE(_xlfn.TEXTJOIN(", ",TRUE(),IF(OR(IF($H20="","",$H20)="Insuficiente",IF($H20="","",$H20)="Suficiente"),"o aproveitamento",""),IF(IF($I20="","",$I20)="Reduzido","o empenho",""),IF(IF($J20="","",$J20)="Reduzida","a participação",""),IF(IF($K20="","",$K20)="A melhorar","o comportamento",""),IF(IF($L20="","",$L20)="Regrediu","a evolução",""),IF(IF($M20="","",$M20)="Irregular","a assiduidade","")),", "," e ",((LEN(_xlfn.TEXTJOIN(", ",TRUE(),IF(OR(IF($H20="","",$H20)="Insuficiente",IF($H20="","",$H20)="Suficiente"),"o aproveitamento",""),IF(IF($I20="","",$I20)="Reduzido","o empenho",""),IF(IF($J20="","",$J20)="Reduzida","a participação",""),IF(IF($K20="","",$K20)="A melhorar","o comportamento",""),IF(IF($L20="","",$L20)="Regrediu","a evolução",""),IF(IF($M20="","",$M20)="Irregular","a assiduidade","")))-LEN(SUBSTITUTE(_xlfn.TEXTJOIN(", ",TRUE(),IF(OR(IF($H20="","",$H20)="Insuficiente",IF($H20="","",$H20)="Suficiente"),"o aproveitamento",""),IF(IF($I20="","",$I20)="Reduzido","o empenho",""),IF(IF($J20="","",$J20)="Reduzida","a participação",""),IF(IF($K20="","",$K20)="A melhorar","o comportamento",""),IF(IF($L20="","",$L20)="Regrediu","a evolução",""),IF(IF($M20="","",$M20)="Irregular","a assiduidade","")),", ","")))/2))) | AA20: =IF(OR(IF($H20="","",$H20)<>"",IF($I20="","",$I20)<>"",IF($J20="","",$J20)<>"",IF($K20="","",$K20)<>"",IF($L20="","",$L20)<>"",IF($M20="","",$M20)<>""),IF($X20=0,INDEX(DADOS!$B:$B,(MOD(ROW()+17+0,5)+99)),IF($X20=1,CHOOSE($Y20,INDEX(DADOS!$B:$B,(MOD(ROW()+17+0,3)+106)),INDEX(DADOS!$C:$C,(MOD(ROW()+17+0,3)+106)),INDEX(DADOS!$D:$D,(MOD(ROW()+17+0,3)+106)),INDEX(DADOS!$E:$E,(MOD(ROW()+17+0,3)+106)),INDEX(DADOS!$F:$F,(MOD(ROW()+17+0,3)+106)),INDEX(DADOS!$G:$G,(MOD(ROW()+17+0,3)+106))),INDEX(DADOS!$B:$B,(MOD(ROW()+17,3)+111))&$Z20&INDEX(DADOS!$C:$C,(MOD(ROW()+17,3)+111)))),"") | AB20: =INDEX(DADOS!$B:$B,(MOD(ROW()+19,5)+116)) -> Destaca-se igualmente: | AC20: =SUBTOTAL(103,$G$8:G20) -> 13 | AD20: =IF($G20="","",C20&"|"&D20&"|"&E20&"|"&$G20) -> 8.º A|Ciências|2.º Período|Ana Silva
