Workbook

Sheet INÍCIO
B2: PROFKIT
B3: Apreciações
B4: =BASE!B4 -> 2026/2027
B5: Menos tarefas. Mais tempo para ensinar.
B11: 1 | C11: Configure as turmas
B12: 2 | C12: Preencha os critérios
B13: 3 | C13: Copie a apreciação
B15: Configure uma vez. Utilize durante todo o ano.

Sheet BASE
A1: BASE
A2: Prepare o seu ano — configure uma vez, use o ano inteiro. Em cada turma, escreva o nome e cole os alunos; associe as disciplinas/UFCD ao lado. Para adicionar alguém, escreva sempre na turma certa, na próxima linha livre desse bloco.
A4: ANO LETIVO | B4: 2026/2027
A6: TURMA 1
A7: Nome | C7: 8.º A | E7: Disciplinas/UFCD
B8: 1 | C8: Ana Silva | F8: Matemática
B9: 2 | C9: João Costa | F9: Ciências
B10: 3 | C10: Beatriz Nunes
A12: TURMA 2
A13: Nome | C13: 8.º B | E13: Disciplinas/UFCD
B14: 1 | C14: Eduardo Lima | F14: Português
B15: 2 | C15: Filipa Sousa
B16: 3 | C16: Gonçalo Mota
A18: TURMA 3
A19: Nome | C19: 10.º RB | E19: Disciplinas/UFCD
B20: 1 | C20: Hugo Marques | F20: Serviço de Vinhos
B21: 2 | C21: Rita Antunes | F21: Serviço de Bar
B22: 3 | C22: Tomás Oliveira

Sheet APRECIAÇÕES
B1: APRECIAÇÕES
B3: ESCOLHA O QUE VAI TRABALHAR · 1. Escolha a turma → 2. Escolha a disciplina/UFCD → 3. Escolha o momento (setinhas roxas nos cabeçalhos abaixo)
B5: =IF(SUBTOTAL(103,$G$8:$G$61)=0,"Nenhum aluno visível — verifica os filtros de Turma/Disciplina/Momento acima.","A trabalhar: "&INDEX($C$8:$C$61,IFERROR(MATCH(1,$AC$8:$AC$61,0),0))&" · "&INDEX($D$8:$D$61,IFERROR(MATCH(1,$AC$8:$AC$61,0),0))&" · "&INDEX($E$8:$E$61,IFERROR(MATCH(1,$AC$8:$AC$61,0),0))) -> A trabalhar: 8.º A · Matemática · 1.º Período
F6: IDENTIFICAÇÃO | H6: AVALIAÇÃO | N6: RESULTADO
B7: Ano | C7: TURMA ▼ | D7: DISCIPLINA/UFCD ▼ | E7: MOMENTO ▼ | F7: N.º | G7: Aluno | H7: Aproveitamento | I7: Empenho | J7: Participação | K7: Comportamento | L7: Evolução | M7: Assiduidade | N7: Nota pessoal | O7: Apreciação | Q7: f_intro | R7: lista_pos2 | S7: lista_prob2 | T7: f_grupo2 | U7: lista_pos3 | V7: lista_prob3 | W7: f_grupo3 | X7: n_melhorar | Y7: idx_melhorar | Z7: lista_melhorar | AA7: f_concl | AB7: conector | AC7: visrank | AD7: chave_evolucao
B8: =IF(BASE!B4="","",BASE!B4) -> 2026/2027 | C8: =IF(BASE!C7="","",BASE!C7) -> 8.º A | D8: =IF(BASE!F8="","",BASE!F8) -> Matemática | E8: 1.º Período | F8: 1 | G8: =IF(BASE!$C$8="","",BASE!$C$8) -> Ana Silva | H8: Bom | I8: Muito Bom | J8: Boa | K8: Muito Bom | L8: Melhorou | M8: Boa | O8: =IF($G8="","",IF(AND(NOT(OR(IF($H8="","",$H8)<>"",IF($I8="","",$I8)<>"",IF($J8="","",$J8)<>"",IF($K8="","",$K8)<>"",IF($L8="","",$L8)<>"",IF($M8="","",$M8)<>"")),IF($N8="","",$N8)=""),"— Ainda sem critérios preenchidos. —",_xlfn.TEXTJOIN(" ",TRUE(),$Q8,$T8,$W8,$AA8,IF(IF($N8="","",$N8)<>"",$AB8&" "&IF($N8="","",$N8),"")))) -> O aluno apresentou um bom aproveitamento ao longo do período, com resultados globalmente positivos. Destacou-se ainda por revelar um empenho muito elevado, uma participação ativa e um comportamento exemplar ao longo do período. Ao longo do período, registou uma evolução favorável e uma assiduidade regular. Deve continuar a manter esta atitude. | Q8: =IF(OR(IF($H8="","",$H8)<>"",IF($I8="","",$I8)<>"",IF($J8="","",$J8)<>"",IF($K8="","",$K8)<>"",IF($L8="","",$L8)<>"",IF($M8="","",$M8)<>""),INDEX(DADOS!$C:$C,(15+(MATCH(IF($H8="","(sem aproveitamento)",$H8),DADOS!$I$6:$I$11,0)-1)*3+MOD(ROW()+1,3))),"") -> O aluno apresentou um bom aproveitamento ao longo do período, com resultados globalmente positivos. | R8: =IF(((LEN(_xlfn.TEXTJOIN(", ",TRUE(),IF(AND(IF($I8="","",$I8)<>"",NOT(IF($I8="","",$I8)="Reduzido")),INDEX(DADOS!$C:$C,(36+MATCH(IF($I8="","",$I8),DADOS!$C$6:$C$9,0)-1)),""),IF(AND(IF($J8="","",$J8)<>"",NOT(IF($J8="","",$J8)="Reduzida")),INDEX(DADOS!$C:$C,(42+MATCH(IF($J8="","",$J8),DADOS!$D$6:$D$9,0)-1)),""),IF(AND(IF($K8="","",$K8)<>"",NOT(IF($K8="","",$K8)="A melhorar")),INDEX(DADOS!$C:$C,(48+MATCH(IF($K8="","",$K8),DADOS!$E$6:$E$9,0)-1)),"")))-LEN(SUBSTITUTE(_xlfn.TEXTJOIN(", ",TRUE(),IF(AND(IF($I8="","",$I8)<>"",NOT(IF($I8="","",$I8)="Reduzido")),INDEX(DADOS!$C:$C,(36+MATCH(IF($I8="","",$I8),DADOS!$C$6:$C$9,0)-1)),""),IF(AND(IF($J8="","",$J8)<>"",NOT(IF($J8="","",$J8)="Reduzida")),INDEX(DADOS!$C:$C,(42+MATCH(IF($J8="","",$J8),DADOS!$D$6:$D$9,0)-1)),""),IF(AND(IF($K8="","",$K8)<>"",NOT(IF($K8="","",$K8)="A melhorar")),INDEX(DADOS!$C:$C,(48+MATCH(IF($K8="","",$K8),DADOS!$E$6:$E$9,0)-1)),"")),", ","")))/2)=0,_xlfn.TEXTJOIN(", ",TRUE(),IF(AND(IF($I8="","",$I8)<>"",NOT(IF($I8="","",$I8)="Reduzido")),INDEX(DADOS!$C:$C,(36+MATCH(IF($I8="","",$I8),DADOS!$C$6:$C$9,0)-1)),""),IF(AND(IF($J8="","",$J8)<>"",NOT(IF($J8="","",$J8)="Reduzida")),INDEX(DADOS!$C:$C,(42+MATCH(IF($J8="","",$J8),DADOS!$D$6:$D$9,0)-1)),""),IF(AND(IF($K8="","",$K8)<>"",NOT(IF($K8="","",$K8)="A melhorar")),INDEX(DADOS!$C:$C,(48+MATCH(IF($K8="","",$K8),DADOS!$E$6:$E$9,0)-1)),"")),SUBSTITUTE(_xlfn.TEXTJOIN(", ",TRUE(),IF(AND(IF($I8="","",$I8)<>"",NOT(IF($I8="","",$I8)="Reduzido")),INDEX(DADOS!$C:$C,(36+MATCH(IF($I8="","",$I8),DADOS!$C$6:$C$9,0)-1)),""),IF(AND(IF($J8="","",$J8)<>"",NOT(IF($J8="","",$J8)="Reduzida")),INDEX(DADOS!$C:$C,(42+MATCH(IF($J8="","",$J8),DADOS!$D$6:$D$9,0)-1)),""),IF(AND(IF($K8="","",$K8)<>"",NOT(IF($K8="","",$K8)="A melhorar")),INDEX(DADOS!$C:$C,(48+MATCH(IF($K8="","",$K8),DADOS!$E$6:$E$9,0)-1)),"")),", "," e ",((LEN(_xlfn.TEXTJOIN(", ",TRUE(),IF(AND(IF($I8="","",$I8)<>"",NOT(IF($I8="","",$I8)="Reduzido")),INDEX(DADOS!$C:$C,(36+MATCH(IF($I8="","",$I8),DADOS!$C$6:$C$9,0)-1)),""),IF(AND(IF($J8="","",$J8)<>"",NOT(IF($J8="","",$J8)="Reduzida")),INDEX(DADOS!$C:$C,(42+MATCH(IF($J8="","",$J8),DADOS!$D$6:$D$9,0)-1)),""),IF(AND(IF($K8="","",$K8)<>"",NOT(IF($K8="","",$K8)="A melhorar")),INDEX(DADOS!$C:$C,(48+MATCH(IF($K8="","",$K8),DADOS!$E$6:$E$9,0)-1)),"")))-LEN(SUBSTITUTE(_xlfn.TEXTJOIN(", ",TRUE(),IF(AND(IF($I8="","",$I8)<>"",NOT(IF($I8="","",$I8)="Reduzido")),INDEX(DADOS!$C:$C,(36+MATCH(IF($I8="","",$I8),DADOS!$C$6:$C$9,0)-1)),""),IF(AND(IF($J8="","",$J8)<>"",NOT(IF($J8="","",$J8)="Reduzida")),INDEX(DADOS!$C:$C,(42+MATCH(IF($J8="","",$J8),DADOS!$D$6:$D$9,0)-1)),""),IF(AND(IF($K8="","",$K8)<>"",NOT(IF($K8="","",$K8)="A melhorar")),INDEX(DADOS!$C:$C,(48+MATCH(IF($K8="","",$K8),DADOS!$E$6:$E$9,0)-1)),"")),", ","")))/2))) -> um empenho muito elevado, uma participação ativa e um comportamento exemplar | S8: =IF(((LEN(_xlfn.TEXTJOIN(", ",TRUE(),IF(AND(IF($I8="","",$I8)<>"",IF($I8="","",$I8)="Reduzido"),INDEX(DADOS!$C:$C,(36+MATCH(IF($I8="","",$I8),DADOS!$C$6:$C$9,0)-1)),""),IF(AND(IF($J8="","",$J8)<>"",IF($J8="","",$J8)="Reduzida"),INDEX(DADOS!$C:$C,(42+MATCH(IF($J8="","",$J8),DADOS!$D$6:$D$9,0)-1)),""),IF(AND(IF($K8="","",$K8)<>"",IF($K8="","",$K8)="A melhorar"),INDEX(DADOS!$C:$C,(48+MATCH(IF($K8="","",$K8),DADOS!$E$6:$E$9,0)-1)),"")))-LEN(SUBSTITUTE(_xlfn.TEXTJOIN(", ",TRUE(),IF(AND(IF($I8="","",$I8)<>"",IF($I8="","",$I8)="Reduzido"),INDEX(DADOS!$C:$C,(36+MATCH(IF($I8="","",$I8),DADOS!$C$6:$C$9,0)-1)),""),IF(AND(IF($J8="","",$J8)<>"",IF($J8="","",$J8)="Reduzida"),INDEX(DADOS!$C:$C,(42+MATCH(IF($J8="","",$J8),DADOS!$D$6:$D$9,0)-1)),""),IF(AND(IF($K8="","",$K8)<>"",IF($K8="","",$K8)="A melhorar"),INDEX(DADOS!$C:$C,(48+MATCH(IF($K8="","",$K8),DADOS!$E$6:$E$9,0)-1)),"")),", ","")))/2)=0,_xlfn.TEXTJOIN(", ",TRUE(),IF(AND(IF($I8="","",$I8)<>"",IF($I8="","",$I8)="Reduzido"),INDEX(DADOS!$C:$C,(36+MATCH(IF($I8="","",$I8),DADOS!$C$6:$C$9,0)-1)),""),IF(AND(IF($J8="","",$J8)<>"",IF($J8="","",$J8)="Reduzida"),INDEX(DADOS!$C:$C,(42+MATCH(IF($J8="","",$J8),DADOS!$D$6:$D$9,0)-1)),""),IF(AND(IF($K8="","",$K8)<>"",IF($K8="","",$K8)="A melhorar"),INDEX(DADOS!$C:$C,(48+MATCH(IF($K8="","",$K8),DADOS!$E$6:$E$9,0)-1)),"")),SUBSTITUTE(_xlfn.TEXTJOIN(", ",TRUE(),IF(AND(IF($I8="","",$I8)<>"",IF($I8="","",$I8)="Reduzido"),INDEX(DADOS!$C:$C,(36+MATCH(IF($I8="","",$I8),DADOS!$C$6:$C$9,0)-1)),""),IF(AND(IF($J8="","",$J8)<>"",IF($J8="","",$J8)="Reduzida"),INDEX(DADOS!$C:$C,(42+MATCH(IF($J8="","",$J8),DADOS!$D$6:$D$9,0)-1)),""),IF(AND(IF($K8="","",$K8)<>"",IF($K8="","",$K8)="A melhorar"),INDEX(DADOS!$C:$C,(48+MATCH(IF($K8="","",$K8),DADOS!$E$6:$E$9,0)-1)),"")),", "," e ",((LEN(_xlfn.TEXTJOIN(", ",TRUE(),IF(AND(IF($I8="","",$I8)<>"",IF($I8="","",$I8)="Reduzido"),INDEX(DADOS!$C:$C,(36+MATCH(IF($I8="","",$I8),DADOS!$C$6:$C$9,0)-1)),""),IF(AND(IF($J8="","",$J8)<>"",IF($J8="","",$J8)="Reduzida"),INDEX(DADOS!$C:$C,(42+MATCH(IF($J8="","",$J8),DADOS!$D$6:$D$9,0)-1)),""),IF(AND(IF($K8="","",$K8)<>"",IF($K8="","",$K8)="A melhorar"),INDEX(DADOS!$C:$C,(48+MATCH(IF($K8="","",$K8),DADOS!$E$6:$E$9,0)-1)),"")))-LEN(SUBSTITUTE(_xlfn.TEXTJOIN(", ",TRUE(),IF(AND(IF($I8="","",$I8)<>"",IF($I8="","",$I8)="Reduzido"),INDEX(DADOS!$C:$C,(36+MATCH(IF($I8="","",$I8),DADOS!$C$6:$C$9,0)-1)),""),IF(AND(IF($J8="","",$J8)<>"",IF($J8="","",$J8)="Reduzida"),INDEX(DADOS!$C:$C,(42+MATCH(IF($J8="","",$J8),DADOS!$D$6:$D$9,0)-1)),""),IF(AND(IF($K8="","",$K8)<>"",IF($K8="","",$K8)="A melhorar"),INDEX(DADOS!$C:$C,(48+MATCH(IF($K8="","",$K8),DADOS!$E$6:$E$9,0)-1)),"")),", ","")))/2))) | T8: =IF(AND($R8="",$S8=""),"",IF($S8="",INDEX(DADOS!$B:$B,(MOD(ROW()+3,3)+67))&$R8&INDEX(DADOS!$C:$C,(MOD(ROW()+3,3)+67)),IF($R8="",INDEX(DADOS!$B:$B,(MOD(ROW()+3,3)+72))&$S8&INDEX(DADOS!$C:$C,(MOD(ROW()+3,3)+72)),INDEX(DADOS!$B:$B,(MOD(ROW()+3,3)+77))&$R8&INDEX(DADOS!$C:$C,(MOD(ROW()+3,3)+77))&$S8&INDEX(DADOS!$D:$D,(MOD(ROW()+3,3)+77))))) -> Destacou-se ainda por revelar um empenho muito elevado, uma participação ativa e um comportamento exemplar ao longo do período. | U8: =IF(((LEN(_xlfn.TEXTJOIN(", ",TRUE(),IF(AND(IF($L8="","",$L8)<>"",NOT(IF($L8="","",$L8)="Regrediu")),INDEX(DADOS!$C:$C,(54+MATCH(IF($L8="","",$L8),DADOS!$F$6:$F$9,0)-1)),""),IF(AND(IF($M8="","",$M8)<>"",NOT(IF($M8="","",$M8)="Irregular")),INDEX(DADOS!$C:$C,(60+MATCH(IF($M8="","",$M8),DADOS!$G$6:$G$9,0)-1)),"")))-LEN(SUBSTITUTE(_xlfn.TEXTJOIN(", ",TRUE(),IF(AND(IF($L8="","",$L8)<>"",NOT(IF($L8="","",$L8)="Regrediu")),INDEX(DADOS!$C:$C,(54+MATCH(IF($L8="","",$L8),DADOS!$F$6:$F$9,0)-1)),""),IF(AND(IF($M8="","",$M8)<>"",NOT(IF($M8="","",$M8)="Irregular")),INDEX(DADOS!$C:$C,(60+MATCH(IF($M8="","",$M8),DADOS!$G$6:$G$9,0)-1)),"")),", ","")))/2)=0,_xlfn.TEXTJOIN(", ",TRUE(),IF(AND(IF($L8="","",$L8)<>"",NOT(IF($L8="","",$L8)="Regrediu")),INDEX(DADOS!$C:$C,(54+MATCH(IF($L8="","",$L8),DADOS!$F$6:$F$9,0)-1)),""),IF(AND(IF($M8="","",$M8)<>"",NOT(IF($M8="","",$M8)="Irregular")),INDEX(DADOS!$C:$C,(60+MATCH(IF($M8="","",$M8),DADOS!$G$6:$G$9,0)-1)),"")),SUBSTITUTE(_xlfn.TEXTJOIN(", ",TRUE(),IF(AND(IF($L8="","",$L8)<>"",NOT(IF($L8="","",$L8)="Regrediu")),INDEX(DADOS!$C:$C,(54+MATCH(IF($L8="","",$L8),DADOS!$F$6:$F$9,0)-1)),""),IF(AND(IF($M8="","",$M8)<>"",NOT(IF($M8="","",$M8)="Irregular")),INDEX(DADOS!$C:$C,(60+MATCH(IF($M8="","",$M8),DADOS!$G$6:$G$9,0)-1)),"")),", "," e ",((LEN(_xlfn.TEXTJOIN(", ",TRUE(),IF(AND(IF($L8="","",$L8)<>"",NOT(IF($L8="","",$L8)="Regrediu")),INDEX(DADOS!$C:$C,(54+MATCH(IF($L8="","",$L8),DADOS!$F$6:$F$9,0)-1)),""),IF(AND(IF($M8="","",$M8)<>"",NOT(IF($M8="","",$M8)="Irregular")),INDEX(DADOS!$C:$C,(60+MATCH(IF($M8="","",$M8),DADOS!$G$6:$G$9,0)-1)),"")))-LEN(SUBSTITUTE(_xlfn.TEXTJOIN(", ",TRUE(),IF(AND(IF($L8="","",$L8)<>"",NOT(IF($L8="","",$L8)="Regrediu")),INDEX(DADOS!$C:$C,(54+MATCH(IF($L8="","",$L8),DADOS!$F$6:$F$9,0)-1)),""),IF(AND(IF($M8="","",$M8)<>"",NOT(IF($M8="","",$M8)="Irregular")),INDEX(DADOS!$C:$C,(60+MATCH(IF($M8="","",$M8),DADOS!$G$6:$G$9,0)-1)),"")),", ","")))/2))) -> uma evolução favorável e uma assiduidade regular | V8: =IF(((LEN(_xlfn.TEXTJOIN(", ",TRUE(),IF(AND(IF($L8="","",$L8)<>"",IF($L8="","",$L8)="Regrediu"),INDEX(DADOS!$C:$C,(54+MATCH(IF($L8="","",$L8),DADOS!$F$6:$F$9,0)-1)),""),IF(AND(IF($M8="","",$M8)<>"",IF($M8="","",$M8)="Irregular"),INDEX(DADOS!$C:$C,(60+MATCH(IF($M8="","",$M8),DADOS!$G$6:$G$9,0)-1)),"")))-LEN(SUBSTITUTE(_xlfn.TEXTJOIN(", ",TRUE(),IF(AND(IF($L8="","",$L8)<>"",IF($L8="","",$L8)="Regrediu"),INDEX(DADOS!$C:$C,(54+MATCH(IF($L8="","",$L8),DADOS!$F$6:$F$9,0)-1)),""),IF(AND(IF($M8="","",$M8)<>"",IF($M8="","",$M8)="Irregular"),INDEX(DADOS!$C:$C,(60+MATCH(IF($M8="","",$M8),DADOS!$G$6:$G$9,0)-1)),"")),", ","")))/2)=0,_xlfn.TEXTJOIN(", ",TRUE(),IF(AND(IF($L8="","",$L8)<>"",IF($L8="","",$L8)="Regrediu"),INDEX(DADOS!$C:$C,(54+MATCH(IF($L8="","",$L8),DADOS!$F$6:$F$9,0)-1)),""),IF(AND(IF($M8="","",$M8)<>"",IF($M8="","",$M8)="Irregular"),INDEX(DADOS!$C:$C,(60+MATCH(IF($M8="","",$M8),DADOS!$G$6:$G$9,0)-1)),"")),SUBSTITUTE(_xlfn.TEXTJOIN(", ",TRUE(),IF(AND(IF($L8="","",$L8)<>"",IF($L8="","",$L8)="Regrediu"),INDEX(DADOS!$C:$C,(54+MATCH(IF($L8="","",$L8),DADOS!$F$6:$F$9,0)-1)),""),IF(AND(IF($M8="","",$M8)<>"",IF($M8="","",$M8)="Irregular"),INDEX(DADOS!$C:$C,(60+MATCH(IF($M8="","",$M8),DADOS!$G$6:$G$9,0)-1)),"")),", "," e ",((LEN(_xlfn.TEXTJOIN(", ",TRUE(),IF(AND(IF($L8="","",$L8)<>"",IF($L8="","",$L8)="Regrediu"),INDEX(DADOS!$C:$C,(54+MATCH(IF($L8="","",$L8),DADOS!$F$6:$F$9,0)-1)),""),IF(AND(IF($M8="","",$M8)<>"",IF($M8="","",$M8)="Irregular"),INDEX(DADOS!$C:$C,(60+MATCH(IF($M8="","",$M8),DADOS!$G$6:$G$9,0)-1)),"")))-LEN(SUBSTITUTE(_xlfn.TEXTJOIN(", ",TRUE(),IF(AND(IF($L8="","",$L8)<>"",IF($L8="","",$L8)="Regrediu"),INDEX(DADOS!$C:$C,(54+MATCH(IF($L8="","",$L8),DADOS!$F$6:$F$9,0)-1)),""),IF(AND(IF($M8="","",$M8)<>"",IF($M8="","",$M8)="Irregular"),INDEX(DADOS!$C:$C,(60+MATCH(IF($M8="","",$M8),DADOS!$G$6:$G$9,0)-1)),"")),", ","")))/2))) | W8: =IF(AND($U8="",$V8=""),"",IF($V8="",INDEX(DADOS!$B:$B,(MOD(ROW()+7,3)+83))&$U8&INDEX(DADOS!$C:$C,(MOD(ROW()+7,3)+83)),IF($U8="",INDEX(DADOS!$B:$B,(MOD(ROW()+7,3)+88))&$V8&INDEX(DADOS!$C:$C,(MOD(ROW()+7,3)+88)),INDEX(DADOS!$B:$B,(MOD(ROW()+7,3)+93))&$U8&INDEX(DADOS!$C:$C,(MOD(ROW()+7,3)+93))&$V8&INDEX(DADOS!$D:$D,(MOD(ROW()+7,3)+93))))) -> Ao longo do período, registou uma evolução favorável e uma assiduidade regular. | X8: =--(OR(IF($H8="","",$H8)="Insuficiente",IF($H8="","",$H8)="Suficiente"))+--(IF($I8="","",$I8)="Reduzido")+--(IF($J8="","",$J8)="Reduzida")+--(IF($K8="","",$K8)="A melhorar")+--(IF($L8="","",$L8)="Regrediu")+--(IF($M8="","",$M8)="Irregular") -> 0 | Y8: =IF(OR(IF($H8="","",$H8)="Insuficiente",IF($H8="","",$H8)="Suficiente"),1,IF(IF($I8="","",$I8)="Reduzido",2,IF(IF($J8="","",$J8)="Reduzida",3,IF(IF($K8="","",$K8)="A melhorar",4,IF(IF($L8="","",$L8)="Regrediu",5,IF(IF($M8="","",$M8)="Irregular",6,0)))))) -> 0 | Z8: =IF(((LEN(_xlfn.TEXTJOIN(", ",TRUE(),IF(OR(IF($H8="","",$H8)="Insuficiente",IF($H8="","",$H8)="Suficiente"),"o aproveitamento",""),IF(IF($I8="","",$I8)="Reduzido","o empenho",""),IF(IF($J8="","",$J8)="Reduzida","a participação",""),IF(IF($K8="","",$K8)="A melhorar","o comportamento",""),IF(IF($L8="","",$L8)="Regrediu","a evolução",""),IF(IF($M8="","",$M8)="Irregular","a assiduidade","")))-LEN(SUBSTITUTE(_xlfn.TEXTJOIN(", ",TRUE(),IF(OR(IF($H8="","",$H8)="Insuficiente",IF($H8="","",$H8)="Suficiente"),"o aproveitamento",""),IF(IF($I8="","",$I8)="Reduzido","o empenho",""),IF(IF($J8="","",$J8)="Reduzida","a participação",""),IF(IF($K8="","",$K8)="A melhorar","o comportamento",""),IF(IF($L8="","",$L8)="Regrediu","a evolução",""),IF(IF($M8="","",$M8)="Irregular","a assiduidade","")),", ","")))/2)=0,_xlfn.TEXTJOIN(", ",TRUE(),IF(OR(IF($H8="","",$H8)="Insuficiente",IF($H8="","",$H8)="Suficiente"),"o aproveitamento",""),IF(IF($I8="","",$I8)="Reduzido","o empenho",""),IF(IF($J8="","",$J8)="Reduzida","a participação",""),IF(IF($K8="","",$K8)="A melhorar","o comportamento",""),IF(IF($L8="","",$L8)="Regrediu","a evolução",""),IF(IF($M8="","",$M8)="Irregular","a assiduidade","")),SUBSTITUTE(_xlfn.TEXTJOIN(", ",TRUE(),IF(OR(IF($H8="","",$H8)="Insuficiente",IF($H8="","",$H8)="Suficiente"),"o aproveitamento",""),IF(IF($I8="","",$I8)="Reduzido","o empenho",""),IF(IF($J8="","",$J8)="Reduzida","a participação",""),IF(IF($K8="","",$K8)="A melhorar","o comportamento",""),IF(IF($L8="","",$L8)="Regrediu","a evolução",""),IF(IF($M8="","",$M8)="Irregular","a assiduidade","")),", "," e ",((LEN(_xlfn.TEXTJOIN(", ",TRUE(),IF(OR(IF($H8="","",$H8)="Insuficiente",IF($H8="","",$H8)="Suficiente"),"o aproveitamento",""),IF(IF($I8="","",$I8)="Reduzido","o empenho",""),IF(IF($J8="","",$J8)="Reduzida","a participação",""),IF(IF($K8="","",$K8)="A melhorar","o comportamento",""),IF(IF($L8="","",$L8)="Regrediu","a evolução",""),IF(IF($M8="","",$M8)="Irregular","a assiduidade","")))-LEN(SUBSTITUTE(_xlfn.TEXTJOIN(", ",TRUE(),IF(OR(IF($H8="","",$H8)="Insuficiente",IF($H8="","",$H8)="Suficiente"),"o aproveitamento",""),IF(IF($I8="","",$I8)="Reduzido","o empenho",""),IF(IF($J8="","",$J8)="Reduzida","a participação",""),IF(IF($K8="","",$K8)="A melhorar","o comportamento",""),IF(IF($L8="","",$L8)="Regrediu","a evolução",""),IF(IF($M8="","",$M8)="Irregular","a assiduidade","")),", ","")))/2))) | AA8: =IF(OR(IF($H8="","",$H8)<>"",IF($I8="","",$I8)<>"",IF($J8="","",$J8)<>"",IF($K8="","",$K8)<>"",IF($L8="","",$L8)<>"",IF($M8="","",$M8)<>""),IF($X8=0,INDEX(DADOS!$B:$B,(MOD(ROW()+17+0,5)+99)),IF($X8=1,CHOOSE($Y8,INDEX(DADOS!$B:$B,(MOD(ROW()+17+0,3)+106)),INDEX(DADOS!$C:$C,(MOD(ROW()+17+0,3)+106)),INDEX(DADOS!$D:$D,(MOD(ROW()+17+0,3)+106)),INDEX(DADOS!$E:$E,(MOD(ROW()+17+0,3)+106)),INDEX(DADOS!$F:$F,(MOD(ROW()+17+0,3)+106)),INDEX(DADOS!$G:$G,(MOD(ROW()+17+0,3)+106))),INDEX(DADOS!$B:$B,(MOD(ROW()+17,3)+111))&$Z8&INDEX(DADOS!$C:$C,(MOD(ROW()+17,3)+111)))),"") -> Deve continuar a manter esta atitude. | AB8: =INDEX(DADOS!$B:$B,(MOD(ROW()+19,5)+116)) -> Regista-se ainda: | AC8: =SUBTOTAL(103,$G$8:G8) -> 1 | AD8: =IF($G8="","",C8&"|"&D8&"|"&E8&"|"&$G8) -> 8.º A|Matemática|1.º Período|Ana Silva
B9: =IF(BASE!B4="","",BASE!B4) -> 2026/2027 | C9: =IF(BASE!C7="","",BASE!C7) -> 8.º A | D9: =IF(BASE!F8="","",BASE!F8) -> Matemática | E9: 1.º Período | F9: 2 | G9: =IF(BASE!$C$9="","",BASE!$C$9) -> João Costa | I9: Suficiente | J9: Suficiente | K9: Adequado | O9: =IF($G9="","",IF(AND(NOT(OR(IF($H9="","",$H9)<>"",IF($I9="","",$I9)<>"",IF($J9="","",$J9)<>"",IF($K9="","",$K9)<>"",IF($L9="","",$L9)<>"",IF($M9="","",$M9)<>"")),IF($N9="","",$N9)=""),"— Ainda sem critérios preenchidos. —",_xlfn.TEXTJOIN(" ",TRUE(),$Q9,$T9,$W9,$AA9,IF(IF($N9="","",$N9)<>"",$AB9&" "&IF($N9="","",$N9),"")))) -> Regista-se o desempenho do aluno ao longo do período, de acordo com os critérios avaliados. Ao longo do período, revelou um empenho suficiente, uma participação satisfatória e um comportamento adequado, mantendo uma atitude positiva nas atividades. Deverá continuar a investir da mesma forma, consolidando as aprendizagens já adquiridas. | Q9: =IF(OR(IF($H9="","",$H9)<>"",IF($I9="","",$I9)<>"",IF($J9="","",$J9)<>"",IF($K9="","",$K9)<>"",IF($L9="","",$L9)<>"",IF($M9="","",$M9)<>""),INDEX(DADOS!$C:$C,(15+(MATCH(IF($H9="","(sem aproveitamento)",$H9),DADOS!$I$6:$I$11,0)-1)*3+MOD(ROW()+1,3))),"") -> Regista-se o desempenho do aluno ao longo do período, de acordo com os critérios avaliados. | R9: =IF(((LEN(_xlfn.TEXTJOIN(", ",TRUE(),IF(AND(IF($I9="","",$I9)<>"",NOT(IF($I9="","",$I9)="Reduzido")),INDEX(DADOS!$C:$C,(36+MATCH(IF($I9="","",$I9),DADOS!$C$6:$C$9,0)-1)),""),IF(AND(IF($J9="","",$J9)<>"",NOT(IF($J9="","",$J9)="Reduzida")),INDEX(DADOS!$C:$C,(42+MATCH(IF($J9="","",$J9),DADOS!$D$6:$D$9,0)-1)),""),IF(AND(IF($K9="","",$K9)<>"",NOT(IF($K9="","",$K9)="A melhorar")),INDEX(DADOS!$C:$C,(48+MATCH(IF($K9="","",$K9),DADOS!$E$6:$E$9,0)-1)),"")))-LEN(SUBSTITUTE(_xlfn.TEXTJOIN(", ",TRUE(),IF(AND(IF($I9="","",$I9)<>"",NOT(IF($I9="","",$I9)="Reduzido")),INDEX(DADOS!$C:$C,(36+MATCH(IF($I9="","",$I9),DADOS!$C$6:$C$9,0)-1)),""),IF(AND(IF($J9="","",$J9)<>"",NOT(IF($J9="","",$J9)="Reduzida")),INDEX(DADOS!$C:$C,(42+MATCH(IF($J9="","",$J9),DADOS!$D$6:$D$9,0)-1)),""),IF(AND(IF($K9="","",$K9)<>"",NOT(IF($K9="","",$K9)="A melhorar")),INDEX(DADOS!$C:$C,(48+MATCH(IF($K9="","",$K9),DADOS!$E$6:$E$9,0)-1)),"")),", ","")))/2)=0,_xlfn.TEXTJOIN(", ",TRUE(),IF(AND(IF($I9="","",$I9)<>"",NOT(IF($I9="","",$I9)="Reduzido")),INDEX(DADOS!$C:$C,(36+MATCH(IF($I9="","",$I9),DADOS!$C$6:$C$9,0)-1)),""),IF(AND(IF($J9="","",$J9)<>"",NOT(IF($J9="","",$J9)="Reduzida")),INDEX(DADOS!$C:$C,(42+MATCH(IF($J9="","",$J9),DADOS!$D$6:$D$9,0)-1)),""),IF(AND(IF($K9="","",$K9)<>"",NOT(IF($K9="","",$K9)="A melhorar")),INDEX(DADOS!$C:$C,(48+MATCH(IF($K9="","",$K9),DADOS!$E$6:$E$9,0)-1)),"")),SUBSTITUTE(_xlfn.TEXTJOIN(", ",TRUE(),IF(AND(IF($I9="","",$I9)<>"",NOT(IF($I9="","",$I9)="Reduzido")),INDEX(DADOS!$C:$C,(36+MATCH(IF($I9="","",$I9),DADOS!$C$6:$C$9,0)-1)),""),IF(AND(IF($J9="","",$J9)<>"",NOT(IF($J9="","",$J9)="Reduzida")),INDEX(DADOS!$C:$C,(42+MATCH(IF($J9="","",$J9),DADOS!$D$6:$D$9,0)-1)),""),IF(AND(IF($K9="","",$K9)<>"",NOT(IF($K9="","",$K9)="A melhorar")),INDEX(DADOS!$C:$C,(48+MATCH(IF($K9="","",$K9),DADOS!$E$6:$E$9,0)-1)),"")),", "," e ",((LEN(_xlfn.TEXTJOIN(", ",TRUE(),IF(AND(IF($I9="","",$I9)<>"",NOT(IF($I9="","",$I9)="Reduzido")),INDEX(DADOS!$C:$C,(36+MATCH(IF($I9="","",$I9),DADOS!$C$6:$C$9,0)-1)),""),IF(AND(IF($J9="","",$J9)<>"",NOT(IF($J9="","",$J9)="Reduzida")),INDEX(DADOS!$C:$C,(42+MATCH(IF($J9="","",$J9),DADOS!$D$6:$D$9,0)-1)),""),IF(AND(IF($K9="","",$K9)<>"",NOT(IF($K9="","",$K9)="A melhorar")),INDEX(DADOS!$C:$C,(48+MATCH(IF($K9="","",$K9),DADOS!$E$6:$E$9,0)-1)),"")))-LEN(SUBSTITUTE(_xlfn.TEXTJOIN(", ",TRUE(),IF(AND(IF($I9="","",$I9)<>"",NOT(IF($I9="","",$I9)="Reduzido")),INDEX(DADOS!$C:$C,(36+MATCH(IF($I9="","",$I9),DADOS!$C$6:$C$9,0)-1)),""),IF(AND(IF($J9="","",$J9)<>"",NOT(IF($J9="","",$J9)="Reduzida")),INDEX(DADOS!$C:$C,(42+MATCH(IF($J9="","",$J9),DADOS!$D$6:$D$9,0)-1)),""),IF(AND(IF($K9="","",$K9)<>"",NOT(IF($K9="","",$K9)="A melhorar")),INDEX(DADOS!$C:$C,(48+MATCH(IF($K9="","",$K9),DADOS!$E$6:$E$9,0)-1)),"")),", ","")))/2))) -> um empenho suficiente, uma participação satisfatória e um comportamento adequado | S9: =IF(((LEN(_xlfn.TEXTJOIN(", ",TRUE(),IF(AND(IF($I9="","",$I9)<>"",IF($I9="","",$I9)="Reduzido"),INDEX(DADOS!$C:$C,(36+MATCH(IF($I9="","",$I9),DADOS!$C$6:$C$9,0)-1)),""),IF(AND(IF($J9="","",$J9)<>"",IF($J9="","",$J9)="Reduzida"),INDEX(DADOS!$C:$C,(42+MATCH(IF($J9="","",$J9),DADOS!$D$6:$D$9,0)-1)),""),IF(AND(IF($K9="","",$K9)<>"",IF($K9="","",$K9)="A melhorar"),INDEX(DADOS!$C:$C,(48+MATCH(IF($K9="","",$K9),DADOS!$E$6:$E$9,0)-1)),"")))-LEN(SUBSTITUTE(_xlfn.TEXTJOIN(", ",TRUE(),IF(AND(IF($I9="","",$I9)<>"",IF($I9="","",$I9)="Reduzido"),INDEX(DADOS!$C:$C,(36+MATCH(IF($I9="","",$I9),DADOS!$C$6:$C$9,0)-1)),""),IF(AND(IF($J9="","",$J9)<>"",IF($J9="","",$J9)="Reduzida"),INDEX(DADOS!$C:$C,(42+MATCH(IF($J9="","",$J9),DADOS!$D$6:$D$9,0)-1)),""),IF(AND(IF($K9="","",$K9)<>"",IF($K9="","",$K9)="A melhorar"),INDEX(DADOS!$C:$C,(48+MATCH(IF($K9="","",$K9),DADOS!$E$6:$E$9,0)-1)),"")),", ","")))/2)=0,_xlfn.TEXTJOIN(", ",TRUE(),IF(AND(IF($I9="","",$I9)<>"",IF($I9="","",$I9)="Reduzido"),INDEX(DADOS!$C:$C,(36+MATCH(IF($I9="","",$I9),DADOS!$C$6:$C$9,0)-1)),""),IF(AND(IF($J9="","",$J9)<>"",IF($J9="","",$J9)="Reduzida"),INDEX(DADOS!$C:$C,(42+MATCH(IF($J9="","",$J9),DADOS!$D$6:$D$9,0)-1)),""),IF(AND(IF($K9="","",$K9)<>"",IF($K9="","",$K9)="A melhorar"),INDEX(DADOS!$C:$C,(48+MATCH(IF($K9="","",$K9),DADOS!$E$6:$E$9,0)-1)),"")),SUBSTITUTE(_xlfn.TEXTJOIN(", ",TRUE(),IF(AND(IF($I9="","",$I9)<>"",IF($I9="","",$I9)="Reduzido"),INDEX(DADOS!$C:$C,(36+MATCH(IF($I9="","",$I9),DADOS!$C$6:$C$9,0)-1)),""),IF(AND(IF($J9="","",$J9)<>"",IF($J9="","",$J9)="Reduzida"),INDEX(DADOS!$C:$C,(42+MATCH(IF($J9="","",$J9),DADOS!$D$6:$D$9,0)-1)),""),IF(AND(IF($K9="","",$K9)<>"",IF($K9="","",$K9)="A melhorar"),INDEX(DADOS!$C:$C,(48+MATCH(IF($K9="","",$K9),DADOS!$E$6:$E$9,0)-1)),"")),", "," e ",((LEN(_xlfn.TEXTJOIN(", ",TRUE(),IF(AND(IF($I9="","",$I9)<>"",IF($I9="","",$I9)="Reduzido"),INDEX(DADOS!$C:$C,(36+MATCH(IF($I9="","",$I9),DADOS!$C$6:$C$9,0)-1)),""),IF(AND(IF($J9="","",$J9)<>"",IF($J9="","",$J9)="Reduzida"),INDEX(DADOS!$C:$C,(42+MATCH(IF($J9="","",$J9),DADOS!$D$6:$D$9,0)-1)),""),IF(AND(IF($K9="","",$K9)<>"",IF($K9="","",$K9)="A melhorar"),INDEX(DADOS!$C:$C,(48+MATCH(IF($K9="","",$K9),DADOS!$E$6:$E$9,0)-1)),"")))-LEN(SUBSTITUTE(_xlfn.TEXTJOIN(", ",TRUE(),IF(AND(IF($I9="","",$I9)<>"",IF($I9="","",$I9)="Reduzido"),INDEX(DADOS!$C:$C,(36+MATCH(IF($I9="","",$I9),DADOS!$C$6:$C$9,0)-1)),""),IF(AND(IF($J9="","",$J9)<>"",IF($J9="","",$J9)="Reduzida"),INDEX(DADOS!$C:$C,(42+MATCH(IF($J9="","",$J9),DADOS!$D$6:$D$9,0)-1)),""),IF(AND(IF($K9="","",$K9)<>"",IF($K9="","",$K9)="A melhorar"),INDEX(DADOS!$C:$C,(48+MATCH(IF($K9="","",$K9),DADOS!$E$6:$E$9,0)-1)),"")),", ","")))/2))) | T9: =IF(AND($R9="",$S9=""),"",IF($S9="",INDEX(DADOS!$B:$B,(MOD(ROW()+3,3)+67))&$R9&INDEX(DADOS!$C:$C,(MOD(ROW()+3,3)+67)),IF($R9="",INDEX(DADOS!$B:$B,(MOD(ROW()+3,3)+72))&$S9&INDEX(DADOS!$C:$C,(MOD(ROW()+3,3)+72)),INDEX(DADOS!$B:$B,(MOD(ROW()+3,3)+77))&$R9&INDEX(DADOS!$C:$C,(MOD(ROW()+3,3)+77))&$S9&INDEX(DADOS!$D:$D,(MOD(ROW()+3,3)+77))))) -> Ao longo do período, revelou um empenho suficiente, uma participação satisfatória e um comportamento adequado, mantendo uma atitude positiva nas atividades. | U9: =IF(((LEN(_xlfn.TEXTJOIN(", ",TRUE(),IF(AND(IF($L9="","",$L9)<>"",NOT(IF($L9="","",$L9)="Regrediu")),INDEX(DADOS!$C:$C,(54+MATCH(IF($L9="","",$L9),DADOS!$F$6:$F$9,0)-1)),""),IF(AND(IF($M9="","",$M9)<>"",NOT(IF($M9="","",$M9)="Irregular")),INDEX(DADOS!$C:$C,(60+MATCH(IF($M9="","",$M9),DADOS!$G$6:$G$9,0)-1)),"")))-LEN(SUBSTITUTE(_xlfn.TEXTJOIN(", ",TRUE(),IF(AND(IF($L9="","",$L9)<>"",NOT(IF($L9="","",$L9)="Regrediu")),INDEX(DADOS!$C:$C,(54+MATCH(IF($L9="","",$L9),DADOS!$F$6:$F$9,0)-1)),""),IF(AND(IF($M9="","",$M9)<>"",NOT(IF($M9="","",$M9)="Irregular")),INDEX(DADOS!$C:$C,(60+MATCH(IF($M9="","",$M9),DADOS!$G$6:$G$9,0)-1)),"")),", ","")))/2)=0,_xlfn.TEXTJOIN(", ",TRUE(),IF(AND(IF($L9="","",$L9)<>"",NOT(IF($L9="","",$L9)="Regrediu")),INDEX(DADOS!$C:$C,(54+MATCH(IF($L9="","",$L9),DADOS!$F$6:$F$9,0)-1)),""),IF(AND(IF($M9="","",$M9)<>"",NOT(IF($M9="","",$M9)="Irregular")),INDEX(DADOS!$C:$C,(60+MATCH(IF($M9="","",$M9),DADOS!$G$6:$G$9,0)-1)),"")),SUBSTITUTE(_xlfn.TEXTJOIN(", ",TRUE(),IF(AND(IF($L9="","",$L9)<>"",NOT(IF($L9="","",$L9)="Regrediu")),INDEX(DADOS!$C:$C,(54+MATCH(IF($L9="","",$L9),DADOS!$F$6:$F$9,0)-1)),""),IF(AND(IF($M9="","",$M9)<>"",NOT(IF($M9="","",$M9)="Irregular")),INDEX(DADOS!$C:$C,(60+MATCH(IF($M9="","",$M9),DADOS!$G$6:$G$9,0)-1)),"")),", "," e ",((LEN(_xlfn.TEXTJOIN(", ",TRUE(),IF(AND(IF($L9="","",$L9)<>"",NOT(IF($L9="","",$L9)="Regrediu")),INDEX(DADOS!$C:$C,(54+MATCH(IF($L9="","",$L9),DADOS!$F$6:$F$9,0)-1)),""),IF(AND(IF($M9="","",$M9)<>"",NOT(IF($M9="","",$M9)="Irregular")),INDEX(DADOS!$C:$C,(60+MATCH(IF($M9="","",$M9),DADOS!$G$6:$G$9,0)-1)),"")))-LEN(SUBSTITUTE(_xlfn.TEXTJOIN(", ",TRUE(),IF(AND(IF($L9="","",$L9)<>"",NOT(IF($L9="","",$L9)="Regrediu")),INDEX(DADOS!$C:$C,(54+MATCH(IF($L9="","",$L9),DADOS!$F$6:$F$9,0)-1)),""),IF(AND(IF($M9="","",$M9)<>"",NOT(IF($M9="","",$M9)="Irregular")),INDEX(DADOS!$C:$C,(60+MATCH(IF($M9="","",$M9),DADOS!$G$6:$G$9,0)-1)),"")),", ","")))/2))) | V9: =IF(((LEN(_xlfn.TEXTJOIN(", ",TRUE(),IF(AND(IF($L9="","",$L9)<>"",IF($L9="","",$L9)="Regrediu"),INDEX(DADOS!$C:$C,(54+MATCH(IF($L9="","",$L9),DADOS!$F$6:$F$9,0)-1)),""),IF(AND(IF($M9="","",$M9)<>"",IF($M9="","",$M9)="Irregular"),INDEX(DADOS!$C:$C,(60+MATCH(IF($M9="","",$M9),DADOS!$G$6:$G$9,0)-1)),"")))-LEN(SUBSTITUTE(_xlfn.TEXTJOIN(", ",TRUE(),IF(AND(IF($L9="","",$L9)<>"",IF($L9="","",$L9)="Regrediu"),INDEX(DADOS!$C:$C,(54+MATCH(IF($L9="","",$L9),DADOS!$F$6:$F$9,0)-1)),""),IF(AND(IF($M9="","",$M9)<>"",IF($M9="","",$M9)="Irregular"),INDEX(DADOS!$C:$C,(60+MATCH(IF($M9="","",$M9),DADOS!$G$6:$G$9,0)-1)),"")),", ","")))/2)=0,_xlfn.TEXTJOIN(", ",TRUE(),IF(AND(IF($L9="","",$L9)<>"",IF($L9="","",$L9)="Regrediu"),INDEX(DADOS!$C:$C,(54+MATCH(IF($L9="","",$L9),DADOS!$F$6:$F$9,0)-1)),""),IF(AND(IF($M9="","",$M9)<>"",IF($M9="","",$M9)="Irregular"),INDEX(DADOS!$C:$C,(60+MATCH(IF($M9="","",$M9),DADOS!$G$6:$G$9,0)-1)),"")),SUBSTITUTE(_xlfn.TEXTJOIN(", ",TRUE(),IF(AND(IF($L9="","",$L9)<>"",IF($L9="","",$L9)="Regrediu"),INDEX(DADOS!$C:$C,(54+MATCH(IF($L9="","",$L9),DADOS!$F$6:$F$9,0)-1)),""),IF(AND(IF($M9="","",$M9)<>"",IF($M9="","",$M9)="Irregular"),INDEX(DADOS!$C:$C,(60+MATCH(IF($M9="","",$M9),DADOS!$G$6:$G$9,0)-1)),"")),", "," e ",((LEN(_xlfn.TEXTJOIN(", ",TRUE(),IF(AND(IF($L9="","",$L9)<>"",IF($L9="","",$L9)="Regrediu"),INDEX(DADOS!$C:$C,(54+MATCH(IF($L9="","",$L9),DADOS!$F$6:$F$9,0)-1)),""),IF(AND(IF($M9="","",$M9)<>"",IF($M9="","",$M9)="Irregular"),INDEX(DADOS!$C:$C,(60+MATCH(IF($M9="","",$M9),DADOS!$G$6:$G$9,0)-1)),"")))-LEN(SUBSTITUTE(_xlfn.TEXTJOIN(", ",TRUE(),IF(AND(IF($L9="","",$L9)<>"",IF($L9="","",$L9)="Regrediu"),INDEX(DADOS!$C:$C,(54+MATCH(IF($L9="","",$L9),DADOS!$F$6:$F$9,0)-1)),""),IF(AND(IF($M9="","",$M9)<>"",IF($M9="","",$M9)="Irregular"),INDEX(DADOS!$C:$C,(60+MATCH(IF($M9="","",$M9),DADOS!$G$6:$G$9,0)-1)),"")),", ","")))/2))) | W9: =IF(AND($U9="",$V9=""),"",IF($V9="",INDEX(DADOS!$B:$B,(MOD(ROW()+7,3)+83))&$U9&INDEX(DADOS!$C:$C,(MOD(ROW()+7,3)+83)),IF($U9="",INDEX(DADOS!$B:$B,(MOD(ROW()+7,3)+88))&$V9&INDEX(DADOS!$C:$C,(MOD(ROW()+7,3)+88)),INDEX(DADOS!$B:$B,(MOD(ROW()+7,3)+93))&$U9&INDEX(DADOS!$C:$C,(MOD(ROW()+7,3)+93))&$V9&INDEX(DADOS!$D:$D,(MOD(ROW()+7,3)+93))))) | X9: =--(OR(IF($H9="","",$H9)="Insuficiente",IF($H9="","",$H9)="Suficiente"))+--(IF($I9="","",$I9)="Reduzido")+--(IF($J9="","",$J9)="Reduzida")+--(IF($K9="","",$K9)="A melhorar")+--(IF($L9="","",$L9)="Regrediu")+--(IF($M9="","",$M9)="Irregular") -> 0 | Y9: =IF(OR(IF($H9="","",$H9)="Insuficiente",IF($H9="","",$H9)="Suficiente"),1,IF(IF($I9="","",$I9)="Reduzido",2,IF(IF($J9="","",$J9)="Reduzida",3,IF(IF($K9="","",$K9)="A melhorar",4,IF(IF($L9="","",$L9)="Regrediu",5,IF(IF($M9="","",$M9)="Irregular",6,0)))))) -> 0 | Z9: =IF(((LEN(_xlfn.TEXTJOIN(", ",TRUE(),IF(OR(IF($H9="","",$H9)="Insuficiente",IF($H9="","",$H9)="Suficiente"),"o aproveitamento",""),IF(IF($I9="","",$I9)="Reduzido","o empenho",""),IF(IF($J9="","",$J9)="Reduzida","a participação",""),IF(IF($K9="","",$K9)="A melhorar","o comportamento",""),IF(IF($L9="","",$L9)="Regrediu","a evolução",""),IF(IF($M9="","",$M9)="Irregular","a assiduidade","")))-LEN(SUBSTITUTE(_xlfn.TEXTJOIN(", ",TRUE(),IF(OR(IF($H9="","",$H9)="Insuficiente",IF($H9="","",$H9)="Suficiente"),"o aproveitamento",""),IF(IF($I9="","",$I9)="Reduzido","o empenho",""),IF(IF($J9="","",$J9)="Reduzida","a participação",""),IF(IF($K9="","",$K9)="A melhorar","o comportamento",""),IF(IF($L9="","",$L9)="Regrediu","a evolução",""),IF(IF($M9="","",$M9)="Irregular","a assiduidade","")),", ","")))/2)=0,_xlfn.TEXTJOIN(", ",TRUE(),IF(OR(IF($H9="","",$H9)="Insuficiente",IF($H9="","",$H9)="Suficiente"),"o aproveitamento",""),IF(IF($I9="","",$I9)="Reduzido","o empenho",""),IF(IF($J9="","",$J9)="Reduzida","a participação",""),IF(IF($K9="","",$K9)="A melhorar","o comportamento",""),IF(IF($L9="","",$L9)="Regrediu","a evolução",""),IF(IF($M9="","",$M9)="Irregular","a assiduidade","")),SUBSTITUTE(_xlfn.TEXTJOIN(", ",TRUE(),IF(OR(IF($H9="","",$H9)="Insuficiente",IF($H9="","",$H9)="Suficiente"),"o aproveitamento",""),IF(IF($I9="","",$I9)="Reduzido","o empenho",""),IF(IF($J9="","",$J9)="Reduzida","a participação",""),IF(IF($K9="","",$K9)="A melhorar","o comportamento",""),IF(IF($L9="","",$L9)="Regrediu","a evolução",""),IF(IF($M9="","",$M9)="Irregular","a assiduidade","")),", "," e ",((LEN(_xlfn.TEXTJOIN(", ",TRUE(),IF(OR(IF($H9="","",$H9)="Insuficiente",IF($H9="","",$H9)="Suficiente"),"o aproveitamento",""),IF(IF($I9="","",$I9)="Reduzido","o empenho",""),IF(IF($J9="","",$J9)="Reduzida","a participação",""),IF(IF($K9="","",$K9)="A melhorar","o comportamento",""),IF(IF($L9="","",$L9)="Regrediu","a evolução",""),IF(IF($M9="","",$M9)="Irregular","a assiduidade","")))-LEN(SUBSTITUTE(_xlfn.TEXTJOIN(", ",TRUE(),IF(OR(IF($H9="","",$H9)="Insuficiente",IF($H9="","",$H9)="Suficiente"),"o aproveitamento",""),IF(IF($I9="","",$I9)="Reduzido","o empenho",""),IF(IF($J9="","",$J9)="Reduzida","a participação",""),IF(IF($K9="","",$K9)="A melhorar","o comportamento",""),IF(IF($L9="","",$L9)="Regrediu","a evolução",""),IF(IF($M9="","",$M9)="Irregular","a assiduidade","")),", ","")))/2))) | AA9: =IF(OR(IF($H9="","",$H9)<>"",IF($I9="","",$I9)<>"",IF($J9="","",$J9)<>"",IF($K9="","",$K9)<>"",IF($L9="","",$L9)<>"",IF($M9="","",$M9)<>""),IF($X9=0,INDEX(DADOS!$B:$B,(MOD(ROW()+17+0,5)+99)),IF($X9=1,CHOOSE($Y9,INDEX(DADOS!$B:$B,(MOD(ROW()+17+0,3)+106)),INDEX(DADOS!$C:$C,(MOD(ROW()+17+0,3)+106)),INDEX(DADOS!$D:$D,(MOD(ROW()+17+0,3)+106)),INDEX(DADOS!$E:$E,(MOD(ROW()+17+0,3)+106)),INDEX(DADOS!$F:$F,(MOD(ROW()+17+0,3)+106)),INDEX(DADOS!$G:$G,(MOD(ROW()+17+0,3)+106))),INDEX(DADOS!$B:$B,(MOD(ROW()+17,3)+111))&$Z9&INDEX(DADOS!$C:$C,(MOD(ROW()+17,3)+111)))),"") -> Deverá continuar a investir da mesma forma, consolidando as aprendizagens já adquiridas. | AB9: =INDEX(DADOS!$B:$B,(MOD(ROW()+19,5)+116)) -> É ainda de referir: | AC9: =SUBTOTAL(103,$G$8:G9) -> 2 | AD9: =IF($G9="","",C9&"|"&D9&"|"&E9&"|"&$G9) -> 8.º A|Matemática|1.º Período|João Costa
B10: =IF(BASE!B4="","",BASE!B4) -> 2026/2027 | C10: =IF(BASE!C7="","",BASE!C7) -> 8.º A | D10: =IF(BASE!F8="","",BASE!F8) -> Matemática | E10: 1.º Período | F10: 3 | G10: =IF(BASE!$C$10="","",BASE!$C$10) -> Beatriz Nunes | N10: Revelou muito interesse pelas atividades práticas. | O10: =IF($G10="","",IF(AND(NOT(OR(IF($H10="","",$H10)<>"",IF($I10="","",$I10)<>"",IF($J10="","",$J10)<>"",IF($K10="","",$K10)<>"",IF($L10="","",$L10)<>"",IF($M10="","",$M10)<>"")),IF($N10="","",$N10)=""),"— Ainda sem critérios preenchidos. —",_xlfn.TEXTJOIN(" ",TRUE(),$Q10,$T10,$W10,$AA10,IF(IF($N10="","",$N10)<>"",$AB10&" "&IF($N10="","",$N10),"")))) -> Destaca-se igualmente: Revelou muito interesse pelas atividades práticas. | Q10: =IF(OR(IF($H10="","",$H10)<>"",IF($I10="","",$I10)<>"",IF($J10="","",$J10)<>"",IF($K10="","",$K10)<>"",IF($L10="","",$L10)<>"",IF($M10="","",$M10)<>""),INDEX(DADOS!$C:$C,(15+(MATCH(IF($H10="","(sem aproveitamento)",$H10),DADOS!$I$6:$I$11,0)-1)*3+MOD(ROW()+1,3))),"") | R10: =IF(((LEN(_xlfn.TEXTJOIN(", ",TRUE(),IF(AND(IF($I10="","",$I10)<>"",NOT(IF($I10="","",$I10)="Reduzido")),INDEX(DADOS!$C:$C,(36+MATCH(IF($I10="","",$I10),DADOS!$C$6:$C$9,0)-1)),""),IF(AND(IF($J10="","",$J10)<>"",NOT(IF($J10="","",$J10)="Reduzida")),INDEX(DADOS!$C:$C,(42+MATCH(IF($J10="","",$J10),DADOS!$D$6:$D$9,0)-1)),""),IF(AND(IF($K10="","",$K10)<>"",NOT(IF($K10="","",$K10)="A melhorar")),INDEX(DADOS!$C:$C,(48+MATCH(IF($K10="","",$K10),DADOS!$E$6:$E$9,0)-1)),"")))-LEN(SUBSTITUTE(_xlfn.TEXTJOIN(", ",TRUE(),IF(AND(IF($I10="","",$I10)<>"",NOT(IF($I10="","",$I10)="Reduzido")),INDEX(DADOS!$C:$C,(36+MATCH(IF($I10="","",$I10),DADOS!$C$6:$C$9,0)-1)),""),IF(AND(IF($J10="","",$J10)<>"",NOT(IF($J10="","",$J10)="Reduzida")),INDEX(DADOS!$C:$C,(42+MATCH(IF($J10="","",$J10),DADOS!$D$6:$D$9,0)-1)),""),IF(AND(IF($K10="","",$K10)<>"",NOT(IF($K10="","",$K10)="A melhorar")),INDEX(DADOS!$C:$C,(48+MATCH(IF($K10="","",$K10),DADOS!$E$6:$E$9,0)-1)),"")),", ","")))/2)=0,_xlfn.TEXTJOIN(", ",TRUE(),IF(AND(IF($I10="","",$I10)<>"",NOT(IF($I10="","",$I10)="Reduzido")),INDEX(DADOS!$C:$C,(36+MATCH(IF($I10="","",$I10),DADOS!$C$6:$C$9,0)-1)),""),IF(AND(IF($J10="","",$J10)<>"",NOT(IF($J10="","",$J10)="Reduzida")),INDEX(DADOS!$C:$C,(42+MATCH(IF($J10="","",$J10),DADOS!$D$6:$D$9,0)-1)),""),IF(AND(IF($K10="","",$K10)<>"",NOT(IF($K10="","",$K10)="A melhorar")),INDEX(DADOS!$C:$C,(48+MATCH(IF($K10="","",$K10),DADOS!$E$6:$E$9,0)-1)),"")),SUBSTITUTE(_xlfn.TEXTJOIN(", ",TRUE(),IF(AND(IF($I10="","",$I10)<>"",NOT(IF($I10="","",$I10)="Reduzido")),INDEX(DADOS!$C:$C,(36+MATCH(IF($I10="","",$I10),DADOS!$C$6:$C$9,0)-1)),""),IF(AND(IF($J10="","",$J10)<>"",NOT(IF($J10="","",$J10)="Reduzida")),INDEX(DADOS!$C:$C,(42+MATCH(IF($J10="","",$J10),DADOS!$D$6:$D$9,0)-1)),""),IF(AND(IF($K10="","",$K10)<>"",NOT(IF($K10="","",$K10)="A melhorar")),INDEX(DADOS!$C:$C,(48+MATCH(IF($K10="","",$K10),DADOS!$E$6:$E$9,0)-1)),"")),", "," e ",((LEN(_xlfn.TEXTJOIN(", ",TRUE(),IF(AND(IF($I10="","",$I10)<>"",NOT(IF($I10="","",$I10)="Reduzido")),INDEX(DADOS!$C:$C,(36+MATCH(IF($I10="","",$I10),DADOS!$C$6:$C$9,0)-1)),""),IF(AND(IF($J10="","",$J10)<>"",NOT(IF($J10="","",$J10)="Reduzida")),INDEX(DADOS!$C:$C,(42+MATCH(IF($J10="","",$J10),DADOS!$D$6:$D$9,0)-1)),""),IF(AND(IF($K10="","",$K10)<>"",NOT(IF($K10="","",$K10)="A melhorar")),INDEX(DADOS!$C:$C,(48+MATCH(IF($K10="","",$K10),DADOS!$E$6:$E$9,0)-1)),"")))-LEN(SUBSTITUTE(_xlfn.TEXTJOIN(", ",TRUE(),IF(AND(IF($I10="","",$I10)<>"",NOT(IF($I10="","",$I10)="Reduzido")),INDEX(DADOS!$C:$C,(36+MATCH(IF($I10="","",$I10),DADOS!$C$6:$C$9,0)-1)),""),IF(AND(IF($J10="","",$J10)<>"",NOT(IF($J10="","",$J10)="Reduzida")),INDEX(DADOS!$C:$C,(42+MATCH(IF($J10="","",$J10),DADOS!$D$6:$D$9,0)-1)),""),IF(AND(IF($K10="","",$K10)<>"",NOT(IF($K10="","",$K10)="A melhorar")),INDEX(DADOS!$C:$C,(48+MATCH(IF($K10="","",$K10),DADOS!$E$6:$E$9,0)-1)),"")),", ","")))/2))) | S10: =IF(((LEN(_xlfn.TEXTJOIN(", ",TRUE(),IF(AND(IF($I10="","",$I10)<>"",IF($I10="","",$I10)="Reduzido"),INDEX(DADOS!$C:$C,(36+MATCH(IF($I10="","",$I10),DADOS!$C$6:$C$9,0)-1)),""),IF(AND(IF($J10="","",$J10)<>"",IF($J10="","",$J10)="Reduzida"),INDEX(DADOS!$C:$C,(42+MATCH(IF($J10="","",$J10),DADOS!$D$6:$D$9,0)-1)),""),IF(AND(IF($K10="","",$K10)<>"",IF($K10="","",$K10)="A melhorar"),INDEX(DADOS!$C:$C,(48+MATCH(IF($K10="","",$K10),DADOS!$E$6:$E$9,0)-1)),"")))-LEN(SUBSTITUTE(_xlfn.TEXTJOIN(", ",TRUE(),IF(AND(IF($I10="","",$I10)<>"",IF($I10="","",$I10)="Reduzido"),INDEX(DADOS!$C:$C,(36+MATCH(IF($I10="","",$I10),DADOS!$C$6:$C$9,0)-1)),""),IF(AND(IF($J10="","",$J10)<>"",IF($J10="","",$J10)="Reduzida"),INDEX(DADOS!$C:$C,(42+MATCH(IF($J10="","",$J10),DADOS!$D$6:$D$9,0)-1)),""),IF(AND(IF($K10="","",$K10)<>"",IF($K10="","",$K10)="A melhorar"),INDEX(DADOS!$C:$C,(48+MATCH(IF($K10="","",$K10),DADOS!$E$6:$E$9,0)-1)),"")),", ","")))/2)=0,_xlfn.TEXTJOIN(", ",TRUE(),IF(AND(IF($I10="","",$I10)<>"",IF($I10="","",$I10)="Reduzido"),INDEX(DADOS!$C:$C,(36+MATCH(IF($I10="","",$I10),DADOS!$C$6:$C$9,0)-1)),""),IF(AND(IF($J10="","",$J10)<>"",IF($J10="","",$J10)="Reduzida"),INDEX(DADOS!$C:$C,(42+MATCH(IF($J10="","",$J10),DADOS!$D$6:$D$9,0)-1)),""),IF(AND(IF($K10="","",$K10)<>"",IF($K10="","",$K10)="A melhorar"),INDEX(DADOS!$C:$C,(48+MATCH(IF($K10="","",$K10),DADOS!$E$6:$E$9,0)-1)),"")),SUBSTITUTE(_xlfn.TEXTJOIN(", ",TRUE(),IF(AND(IF($I10="","",$I10)<>"",IF($I10="","",$I10)="Reduzido"),INDEX(DADOS!$C:$C,(36+MATCH(IF($I10="","",$I10),DADOS!$C$6:$C$9,0)-1)),""),IF(AND(IF($J10="","",$J10)<>"",IF($J10="","",$J10)="Reduzida"),INDEX(DADOS!$C:$C,(42+MATCH(IF($J10="","",$J10),DADOS!$D$6:$D$9,0)-1)),""),IF(AND(IF($K10="","",$K10)<>"",IF($K10="","",$K10)="A melhorar"),INDEX(DADOS!$C:$C,(48+MATCH(IF($K10="","",$K10),DADOS!$E$6:$E$9,0)-1)),"")),", "," e ",((LEN(_xlfn.TEXTJOIN(", ",TRUE(),IF(AND(IF($I10="","",$I10)<>"",IF($I10="","",$I10)="Reduzido"),INDEX(DADOS!$C:$C,(36+MATCH(IF($I10="","",$I10),DADOS!$C$6:$C$9,0)-1)),""),IF(AND(IF($J10="","",$J10)<>"",IF($J10="","",$J10)="Reduzida"),INDEX(DADOS!$C:$C,(42+MATCH(IF($J10="","",$J10),DADOS!$D$6:$D$9,0)-1)),""),IF(AND(IF($K10="","",$K10)<>"",IF($K10="","",$K10)="A melhorar"),INDEX(DADOS!$C:$C,(48+MATCH(IF($K10="","",$K10),DADOS!$E$6:$E$9,0)-1)),"")))-LEN(SUBSTITUTE(_xlfn.TEXTJOIN(", ",TRUE(),IF(AND(IF($I10="","",$I10)<>"",IF($I10="","",$I10)="Reduzido"),INDEX(DADOS!$C:$C,(36+MATCH(IF($I10="","",$I10),DADOS!$C$6:$C$9,0)-1)),""),IF(AND(IF($J10="","",$J10)<>"",IF($J10="","",$J10)="Reduzida"),INDEX(DADOS!$C:$C,(42+MATCH(IF($J10="","",$J10),DADOS!$D$6:$D$9,0)-1)),""),IF(AND(IF($K10="","",$K10)<>"",IF($K10="","",$K10)="A melhorar"),INDEX(DADOS!$C:$C,(48+MATCH(IF($K10="","",$K10),DADOS!$E$6:$E$9,0)-1)),"")),", ","")))/2))) | T10: =IF(AND($R10="",$S10=""),"",IF($S10="",INDEX(DADOS!$B:$B,(MOD(ROW()+3,3)+67))&$R10&INDEX(DADOS!$C:$C,(MOD(ROW()+3,3)+67)),IF($R10="",INDEX(DADOS!$B:$B,(MOD(ROW()+3,3)+72))&$S10&INDEX(DADOS!$C:$C,(MOD(ROW()+3,3)+72)),INDEX(DADOS!$B:$B,(MOD(ROW()+3,3)+77))&$R10&INDEX(DADOS!$C:$C,(MOD(ROW()+3,3)+77))&$S10&INDEX(DADOS!$D:$D,(MOD(ROW()+3,3)+77))))) | U10: =IF(((LEN(_xlfn.TEXTJOIN(", ",TRUE(),IF(AND(IF($L10="","",$L10)<>"",NOT(IF($L10="","",$L10)="Regrediu")),INDEX(DADOS!$C:$C,(54+MATCH(IF($L10="","",$L10),DADOS!$F$6:$F$9,0)-1)),""),IF(AND(IF($M10="","",$M10)<>"",NOT(IF($M10="","",$M10)="Irregular")),INDEX(DADOS!$C:$C,(60+MATCH(IF($M10="","",$M10),DADOS!$G$6:$G$9,0)-1)),"")))-LEN(SUBSTITUTE(_xlfn.TEXTJOIN(", ",TRUE(),IF(AND(IF($L10="","",$L10)<>"",NOT(IF($L10="","",$L10)="Regrediu")),INDEX(DADOS!$C:$C,(54+MATCH(IF($L10="","",$L10),DADOS!$F$6:$F$9,0)-1)),""),IF(AND(IF($M10="","",$M10)<>"",NOT(IF($M10="","",$M10)="Irregular")),INDEX(DADOS!$C:$C,(60+MATCH(IF($M10="","",$M10),DADOS!$G$6:$G$9,0)-1)),"")),", ","")))/2)=0,_xlfn.TEXTJOIN(", ",TRUE(),IF(AND(IF($L10="","",$L10)<>"",NOT(IF($L10="","",$L10)="Regrediu")),INDEX(DADOS!$C:$C,(54+MATCH(IF($L10="","",$L10),DADOS!$F$6:$F$9,0)-1)),""),IF(AND(IF($M10="","",$M10)<>"",NOT(IF($M10="","",$M10)="Irregular")),INDEX(DADOS!$C:$C,(60+MATCH(IF($M10="","",$M10),DADOS!$G$6:$G$9,0)-1)),"")),SUBSTITUTE(_xlfn.TEXTJOIN(", ",TRUE(),IF(AND(IF($L10="","",$L10)<>"",NOT(IF($L10="","",$L10)="Regrediu")),INDEX(DADOS!$C:$C,(54+MATCH(IF($L10="","",$L10),DADOS!$F$6:$F$9,0)-1)),""),IF(AND(IF($M10="","",$M10)<>"",NOT(IF($M10="","",$M10)="Irregular")),INDEX(DADOS!$C:$C,(60+MATCH(IF($M10="","",$M10),DADOS!$G$6:$G$9,0)-1)),"")),", "," e ",((LEN(_xlfn.TEXTJOIN(", ",TRUE(),IF(AND(IF($L10="","",$L10)<>"",NOT(IF($L10="","",$L10)="Regrediu")),INDEX(DADOS!$C:$C,(54+MATCH(IF($L10="","",$L10),DADOS!$F$6:$F$9,0)-1)),""),IF(AND(IF($M10="","",$M10)<>"",NOT(IF($M10="","",$M10)="Irregular")),INDEX(DADOS!$C:$C,(60+MATCH(IF($M10="","",$M10),DADOS!$G$6:$G$9,0)-1)),"")))-LEN(SUBSTITUTE(_xlfn.TEXTJOIN(", ",TRUE(),IF(AND(IF($L10="","",$L10)<>"",NOT(IF($L10="","",$L10)="Regrediu")),INDEX(DADOS!$C:$C,(54+MATCH(IF($L10="","",$L10),DADOS!$F$6:$F$9,0)-1)),""),IF(AND(IF($M10="","",$M10)<>"",NOT(IF($M10="","",$M10)="Irregular")),INDEX(DADOS!$C:$C,(60+MATCH(IF($M10="","",$M10),DADOS!$G$6:$G$9,0)-1)),"")),", ","")))/2))) | V10: =IF(((LEN(_xlfn.TEXTJOIN(", ",TRUE(),IF(AND(IF($L10="","",$L10)<>"",IF($L10="","",$L10)="Regrediu"),INDEX(DADOS!$C:$C,(54+MATCH(IF($L10="","",$L10),DADOS!$F$6:$F$9,0)-1)),""),IF(AND(IF($M10="","",$M10)<>"",IF($M10="","",$M10)="Irregular"),INDEX(DADOS!$C:$C,(60+MATCH(IF($M10="","",$M10),DADOS!$G$6:$G$9,0)-1)),"")))-LEN(SUBSTITUTE(_xlfn.TEXTJOIN(", ",TRUE(),IF(AND(IF($L10="","",$L10)<>"",IF($L10="","",$L10)="Regrediu"),INDEX(DADOS!$C:$C,(54+MATCH(IF($L10="","",$L10),DADOS!$F$6:$F$9,0)-1)),""),IF(AND(IF($M10="","",$M10)<>"",IF($M10="","",$M10)="Irregular"),INDEX(DADOS!$C:$C,(60+MATCH(IF($M10="","",$M10),DADOS!$G$6:$G$9,0)-1)),"")),", ","")))/2)=0,_xlfn.TEXTJOIN(", ",TRUE(),IF(AND(IF($L10="","",$L10)<>"",IF($L10="","",$L10)="Regrediu"),INDEX(DADOS!$C:$C,(54+MATCH(IF($L10="","",$L10),DADOS!$F$6:$F$9,0)-1)),""),IF(AND(IF($M10="","",$M10)<>"",IF($M10="","",$M10)="Irregular"),INDEX(DADOS!$C:$C,(60+MATCH(IF($M10="","",$M10),DADOS!$G$6:$G$9,0)-1)),"")),SUBSTITUTE(_xlfn.TEXTJOIN(", ",TRUE(),IF(AND(IF($L10="","",$L10)<>"",IF($L10="","",$L10)="Regrediu"),INDEX(DADOS!$C:$C,(54+MATCH(IF($L10="","",$L10),DADOS!$F$6:$F$9,0)-1)),""),IF(AND(IF($M10="","",$M10)<>"",IF($M10="","",$M10)="Irregular"),INDEX(DADOS!$C:$C,(60+MATCH(IF($M10="","",$M10),DADOS!$G$6:$G$9,0)-1)),"")),", "," e ",((LEN(_xlfn.TEXTJOIN(", ",TRUE(),IF(AND(IF($L10="","",$L10)<>"",IF($L10="","",$L10)="Regrediu"),INDEX(DADOS!$C:$C,(54+MATCH(IF($L10="","",$L10),DADOS!$F$6:$F$9,0)-1)),""),IF(AND(IF($M10="","",$M10)<>"",IF($M10="","",$M10)="Irregular"),INDEX(DADOS!$C:$C,(60+MATCH(IF($M10="","",$M10),DADOS!$G$6:$G$9,0)-1)),"")))-LEN(SUBSTITUTE(_xlfn.TEXTJOIN(", ",TRUE(),IF(AND(IF($L10="","",$L10)<>"",IF($L10="","",$L10)="Regrediu"),INDEX(DADOS!$C:$C,(54+MATCH(IF($L10="","",$L10),DADOS!$F$6:$F$9,0)-1)),""),IF(AND(IF($M10="","",$M10)<>"",IF($M10="","",$M10)="Irregular"),INDEX(DADOS!$C:$C,(60+MATCH(IF($M10="","",$M10),DADOS!$G$6:$G$9,0)-1)),"")),", ","")))/2))) | W10: =IF(AND($U10="",$V10=""),"",IF($V10="",INDEX(DADOS!$B:$B,(MOD(ROW()+7,3)+83))&$U10&INDEX(DADOS!$C:$C,(MOD(ROW()+7,3)+83)),IF($U10="",INDEX(DADOS!$B:$B,(MOD(ROW()+7,3)+88))&$V10&INDEX(DADOS!$C:$C,(MOD(ROW()+7,3)+88)),INDEX(DADOS!$B:$B,(MOD(ROW()+7,3)+93))&$U10&INDEX(DADOS!$C:$C,(MOD(ROW()+7,3)+93))&$V10&INDEX(DADOS!$D:$D,(MOD(ROW()+7,3)+93))))) | X10: =--(OR(IF($H10="","",$H10)="Insuficiente",IF($H10="","",$H10)="Suficiente"))+--(IF($I10="","",$I10)="Reduzido")+--(IF($J10="","",$J10)="Reduzida")+--(IF($K10="","",$K10)="A melhorar")+--(IF($L10="","",$L10)="Regrediu")+--(IF($M10="","",$M10)="Irregular") -> 0 | Y10: =IF(OR(IF($H10="","",$H10)="Insuficiente",IF($H10="","",$H10)="Suficiente"),1,IF(IF($I10="","",$I10)="Reduzido",2,IF(IF($J10="","",$J10)="Reduzida",3,IF(IF($K10="","",$K10)="A melhorar",4,IF(IF($L10="","",$L10)="Regrediu",5,IF(IF($M10="","",$M10)="Irregular",6,0)))))) -> 0 | Z10: =IF(((LEN(_xlfn.TEXTJOIN(", ",TRUE(),IF(OR(IF($H10="","",$H10)="Insuficiente",IF($H10="","",$H10)="Suficiente"),"o aproveitamento",""),IF(IF($I10="","",$I10)="Reduzido","o empenho",""),IF(IF($J10="","",$J10)="Reduzida","a participação",""),IF(IF($K10="","",$K10)="A melhorar","o comportamento",""),IF(IF($L10="","",$L10)="Regrediu","a evolução",""),IF(IF($M10="","",$M10)="Irregular","a assiduidade","")))-LEN(SUBSTITUTE(_xlfn.TEXTJOIN(", ",TRUE(),IF(OR(IF($H10="","",$H10)="Insuficiente",IF($H10="","",$H10)="Suficiente"),"o aproveitamento",""),IF(IF($I10="","",$I10)="Reduzido","o empenho",""),IF(IF($J10="","",$J10)="Reduzida","a participação",""),IF(IF($K10="","",$K10)="A melhorar","o comportamento",""),IF(IF($L10="","",$L10)="Regrediu","a evolução",""),IF(IF($M10="","",$M10)="Irregular","a assiduidade","")),", ","")))/2)=0,_xlfn.TEXTJOIN(", ",TRUE(),IF(OR(IF($H10="","",$H10)="Insuficiente",IF($H10="","",$H10)="Suficiente"),"o aproveitamento",""),IF(IF($I10="","",$I10)="Reduzido","o empenho",""),IF(IF($J10="","",$J10)="Reduzida","a participação",""),IF(IF($K10="","",$K10)="A melhorar","o comportamento",""),IF(IF($L10="","",$L10)="Regrediu","a evolução",""),IF(IF($M10="","",$M10)="Irregular","a assiduidade","")),SUBSTITUTE(_xlfn.TEXTJOIN(", ",TRUE(),IF(OR(IF($H10="","",$H10)="Insuficiente",IF($H10="","",$H10)="Suficiente"),"o aproveitamento",""),IF(IF($I10="","",$I10)="Reduzido","o empenho",""),IF(IF($J10="","",$J10)="Reduzida","a participação",""),IF(IF($K10="","",$K10)="A melhorar","o comportamento",""),IF(IF($L10="","",$L10)="Regrediu","a evolução",""),IF(IF($M10="","",$M10)="Irregular","a assiduidade","")),", "," e ",((LEN(_xlfn.TEXTJOIN(", ",TRUE(),IF(OR(IF($H10="","",$H10)="Insuficiente",IF($H10="","",$H10)="Suficiente"),"o aproveitamento",""),IF(IF($I10="","",$I10)="Reduzido","o empenho",""),IF(IF($J10="","",$J10)="Reduzida","a participação",""),IF(IF($K10="","",$K10)="A melhorar","o comportamento",""),IF(IF($L10="","",$L10)="Regrediu","a evolução",""),IF(IF($M10="","",$M10)="Irregular","a assiduidade","")))-LEN(SUBSTITUTE(_xlfn.TEXTJOIN(", ",TRUE(),IF(OR(IF($H10="","",$H10)="Insuficiente",IF($H10="","",$H10)="Suficiente"),"o aproveitamento",""),IF(IF($I10="","",$I10)="Reduzido","o empenho",""),IF(IF($J10="","",$J10)="Reduzida","a participação",""),IF(IF($K10="","",$K10)="A melhorar","o comportamento",""),IF(IF($L10="","",$L10)="Regrediu","a evolução",""),IF(IF($M10="","",$M10)="Irregular","a assiduidade","")),", ","")))/2))) | AA10: =IF(OR(IF($H10="","",$H10)<>"",IF($I10="","",$I10)<>"",IF($J10="","",$J10)<>"",IF($K10="","",$K10)<>"",IF($L10="","",$L10)<>"",IF($M10="","",$M10)<>""),IF($X10=0,INDEX(DADOS!$B:$B,(MOD(ROW()+17+0,5)+99)),IF($X10=1,CHOOSE($Y10,INDEX(DADOS!$B:$B,(MOD(ROW()+17+0,3)+106)),INDEX(DADOS!$C:$C,(MOD(ROW()+17+0,3)+106)),INDEX(DADOS!$D:$D,(MOD(ROW()+17+0,3)+106)),INDEX(DADOS!$E:$E,(MOD(ROW()+17+0,3)+106)),INDEX(DADOS!$F:$F,(MOD(ROW()+17+0,3)+106)),INDEX(DADOS!$G:$G,(MOD(ROW()+17+0,3)+106))),INDEX(DADOS!$B:$B,(MOD(ROW()+17,3)+111))&$Z10&INDEX(DADOS!$C:$C,(MOD(ROW()+17,3)+111)))),"") | AB10: =INDEX(DADOS!$B:$B,(MOD(ROW()+19,5)+116)) -> Destaca-se igualmente: | AC10: =SUBTOTAL(103,$G$8:G10) -> 3 | AD10: =IF($G10="","",C10&"|"&D10&"|"&E10&"|"&$G10) -> 8.º A|Matemática|1.º Período|Beatriz Nunes
